BEGIN:VCALENDAR
VERSION:2.0
PRODID://School Bytes School Calendar//
X-WR-CALNAME:Mount Brown Public School - Community Calendar
X-WR-RELCALID:sb_ical9920@sch508.schoolbytes.cal
X-PUBLISHED-TTL:PT1H
BEGIN:VEVENT
UID:sb_ical_event5542015@sch508.schoolbytes.cal
DTSTART;VALUE=DATE:20260210
SEQUENCE:0
TRANSP:OPAQUE
DTEND;VALUE=DATE:20260211
SUMMARY:P&C Meeting 6pm in the school library
CLASS:PUBLIC
X-MICROSOFT-CDO-ALLDAYEVENT:TRUE
DTSTAMP:20260425T135244Z
END:VEVENT
BEGIN:VEVENT
UID:sb_ical_event5554633@sch508.schoolbytes.cal
DTSTART;VALUE=DATE:20260217
SEQUENCE:0
TRANSP:OPAQUE
DTEND;VALUE=DATE:20260218
SUMMARY:Class/Parent info & welcome BBQ
CLASS:PUBLIC
DESCRIPTION:Kindy session 2.50 (In Hall from 2.20 - 3 for reading info sess
 ion & Meet the teacher)\, \nSt 1 3.10\, \nSt 2 3.25\, \nSt 3.40pm\nBBQs un
 der K-2 & 3-6 COLAs
X-MICROSOFT-CDO-ALLDAYEVENT:TRUE
DTSTAMP:20260425T135244Z
END:VEVENT
BEGIN:VEVENT
UID:sb_ical_event5542138@sch508.schoolbytes.cal
DTSTART;VALUE=DATE:20260225
SEQUENCE:0
TRANSP:OPAQUE
DTEND;VALUE=DATE:20260226
SUMMARY:After school AFL clinics commence
CLASS:PUBLIC
X-MICROSOFT-CDO-ALLDAYEVENT:TRUE
DTSTAMP:20260425T135244Z
END:VEVENT
BEGIN:VEVENT
UID:sb_ical_event5542151@sch508.schoolbytes.cal
DTSTART;VALUE=DATE:20260219
SEQUENCE:0
TRANSP:OPAQUE
DTEND;VALUE=DATE:20260220
SUMMARY:School Swimming carnival
CLASS:PUBLIC
X-MICROSOFT-CDO-ALLDAYEVENT:TRUE
DTSTAMP:20260425T135244Z
END:VEVENT
BEGIN:VEVENT
UID:sb_ical_event5542174@sch508.schoolbytes.cal
DTSTART;VALUE=DATE:20260227
SEQUENCE:0
TRANSP:OPAQUE
DTEND;VALUE=DATE:20260228
SUMMARY:SWPSSA District Swimming carnival
CLASS:PUBLIC
DESCRIPTION:@ Dapto pool 8.30am - 3pm
X-MICROSOFT-CDO-ALLDAYEVENT:TRUE
DTSTAMP:20260425T135244Z
END:VEVENT
BEGIN:VEVENT
UID:sb_ical_event5584807@sch508.schoolbytes.cal
DTSTART;VALUE=DATE:20260223
SEQUENCE:0
TRANSP:OPAQUE
DTEND;VALUE=DATE:20260224
SUMMARY:Waka Lead Auditions
CLASS:PUBLIC
X-MICROSOFT-CDO-ALLDAYEVENT:TRUE
DTSTAMP:20260425T135244Z
END:VEVENT
BEGIN:VEVENT
UID:sb_ical_event5584810@sch508.schoolbytes.cal
DTSTART;VALUE=DATE:20260224
SEQUENCE:0
TRANSP:OPAQUE
DTEND;VALUE=DATE:20260225
SUMMARY:Waka Lead Auditions
CLASS:PUBLIC
X-MICROSOFT-CDO-ALLDAYEVENT:TRUE
DTSTAMP:20260425T135244Z
END:VEVENT
BEGIN:VEVENT
UID:sb_ical_event5542423@sch508.schoolbytes.cal
DTSTART;VALUE=DATE:20260320
SEQUENCE:0
TRANSP:OPAQUE
DTEND;VALUE=DATE:20260321
SUMMARY:School Cross Country postponed
CLASS:PUBLIC
X-MICROSOFT-CDO-ALLDAYEVENT:TRUE
DTSTAMP:20260425T135244Z
END:VEVENT
BEGIN:VEVENT
UID:sb_ical_event5542464@sch508.schoolbytes.cal
DTSTART;VALUE=DATE:20260402
SEQUENCE:0
TRANSP:OPAQUE
DTEND;VALUE=DATE:20260403
SUMMARY:Hat Parade K-2 9.15am
CLASS:PUBLIC
DESCRIPTION:Kindy parents are asked to sit at the Hall and Stage 1 families
  under the K2 COLA. All students will parade from the Hall through the K2 
 COLA  - so everyone can see everyone. Kindy are targeted to the Hall as th
 ey will be dancing for their families after the parade.
X-MICROSOFT-CDO-ALLDAYEVENT:TRUE
DTSTAMP:20260425T135244Z
END:VEVENT
BEGIN:VEVENT
UID:sb_ical_event7663612@sch508.schoolbytes.cal
DTSTART;VALUE=DATE:20260423
SEQUENCE:0
TRANSP:OPAQUE
DTEND;VALUE=DATE:20260424
SUMMARY:ANZAC Day assembly 10.15
CLASS:PUBLIC
DESCRIPTION:10.15 start. Leave class at 10.05\, ready for 10.15am.
X-MICROSOFT-CDO-ALLDAYEVENT:TRUE
DTSTAMP:20260425T135244Z
END:VEVENT
BEGIN:VEVENT
UID:sb_ical_event5543389@sch508.schoolbytes.cal
DTSTART;VALUE=DATE:20260506
SEQUENCE:0
TRANSP:OPAQUE
DTEND;VALUE=DATE:20260507
SUMMARY:Mothers Day Stall\, Mother's Day Breakfast and lucky door prize.
CLASS:PUBLIC
DESCRIPTION:Mums - come join us between 8.30-9.30 for a Breakfast.\nThe Mot
 her's Day stall will be today as well.
X-MICROSOFT-CDO-ALLDAYEVENT:TRUE
DTSTAMP:20260425T135244Z
END:VEVENT
BEGIN:VEVENT
UID:sb_ical_event5543395@sch508.schoolbytes.cal
DTSTART;VALUE=DATE:20260514
SEQUENCE:0
TRANSP:OPAQUE
DTEND;VALUE=DATE:20260515
SUMMARY:District Cross Country
CLASS:PUBLIC
X-MICROSOFT-CDO-ALLDAYEVENT:TRUE
DTSTAMP:20260425T135244Z
END:VEVENT
BEGIN:VEVENT
UID:sb_ical_event5543412@sch508.schoolbytes.cal
DTSTART;VALUE=DATE:20260529
SEQUENCE:0
TRANSP:OPAQUE
DTEND;VALUE=DATE:20260530
SUMMARY:School Athletics carnival
CLASS:PUBLIC
DESCRIPTION:all day\nYears 2(8 year old only)-6
X-MICROSOFT-CDO-ALLDAYEVENT:TRUE
DTSTAMP:20260425T135244Z
END:VEVENT
BEGIN:VEVENT
UID:sb_ical_event5543426@sch508.schoolbytes.cal
DTSTART;VALUE=DATE:20260612
SEQUENCE:0
TRANSP:OPAQUE
DTEND;VALUE=DATE:20260613
SUMMARY:Regional Cross Country
CLASS:PUBLIC
X-MICROSOFT-CDO-ALLDAYEVENT:TRUE
DTSTAMP:20260425T135244Z
END:VEVENT
BEGIN:VEVENT
UID:sb_ical_event5547847@sch508.schoolbytes.cal
DTSTART;VALUE=DATE:20260917
SEQUENCE:0
TRANSP:OPAQUE
DTEND;VALUE=DATE:20260918
SUMMARY:Market Day
CLASS:PUBLIC
X-MICROSOFT-CDO-ALLDAYEVENT:TRUE
DTSTAMP:20260425T135244Z
END:VEVENT
BEGIN:VEVENT
UID:sb_ical_event5561917@sch508.schoolbytes.cal
DTSTART;VALUE=DATE:20260902
SEQUENCE:0
TRANSP:OPAQUE
DTEND;VALUE=DATE:20260903
SUMMARY:Father's Day Breakfast and Father's Day Stall
CLASS:PUBLIC
DESCRIPTION:Dads - join us for breakfast between 8.30 & 9.30 am.
X-MICROSOFT-CDO-ALLDAYEVENT:TRUE
DTSTAMP:20260425T135244Z
END:VEVENT
BEGIN:VEVENT
UID:sb_ical_event5563644@sch508.schoolbytes.cal
DTSTART;VALUE=DATE:20260402
SEQUENCE:0
TRANSP:OPAQUE
DTEND;VALUE=DATE:20260403
SUMMARY:Kindy dance performance for K parents\, after the Hat Parade\, in t
 he Hall
CLASS:PUBLIC
DESCRIPTION:Kindy parents please try to be at the Hall for the hat parade\,
  Year 1 & 2 Parents under the K-2 COLA. All students will do the full lap 
 from Hall\, through COLA and back to the Hall\, so everyone will get to se
 e them.
X-MICROSOFT-CDO-ALLDAYEVENT:TRUE
DTSTAMP:20260425T135244Z
END:VEVENT
BEGIN:VEVENT
UID:sb_ical_event5618215@sch508.schoolbytes.cal
DTSTART;VALUE=DATE:20260127
SEQUENCE:0
TRANSP:OPAQUE
DTEND;VALUE=DATE:20260131
SUMMARY:Staff Development Day
CLASS:PUBLIC
X-MICROSOFT-CDO-ALLDAYEVENT:TRUE
DTSTAMP:20260425T135244Z
END:VEVENT
BEGIN:VEVENT
UID:sb_ical_event5618292@sch508.schoolbytes.cal
DTSTART;VALUE=DATE:20260202
SEQUENCE:0
TRANSP:OPAQUE
DTEND;VALUE=DATE:20260203
SUMMARY:First Day Back for students
CLASS:PUBLIC
X-MICROSOFT-CDO-ALLDAYEVENT:TRUE
DTSTAMP:20260425T135244Z
END:VEVENT
BEGIN:VEVENT
UID:sb_ical_event5663569@sch508.schoolbytes.cal
DTSTART;VALUE=DATE:20260306
SEQUENCE:0
TRANSP:OPAQUE
DTEND;VALUE=DATE:20260307
SUMMARY:Canteen Hotdog Day
CLASS:PUBLIC
DESCRIPTION:Orders due Friday 27th Feb
X-MICROSOFT-CDO-ALLDAYEVENT:TRUE
DTSTAMP:20260425T135244Z
END:VEVENT
BEGIN:VEVENT
UID:sb_ical_event5988213@sch508.schoolbytes.cal
DTSTART:20260217T032000Z
SEQUENCE:0
TRANSP:OPAQUE
DTEND:20260217T041000Z
SUMMARY:Kindy home reading parent session 2.20 in Hall followed by parent I
 nfo session at 2.50pm
CLASS:PUBLIC
DTSTAMP:20260425T135244Z
END:VEVENT
BEGIN:VEVENT
UID:sb_ical_event5930191@sch508.schoolbytes.cal
DTSTART;VALUE=DATE:20261023
SEQUENCE:0
TRANSP:OPAQUE
DTEND;VALUE=DATE:20261024
SUMMARY:Grandparents Day
CLASS:PUBLIC
X-MICROSOFT-CDO-ALLDAYEVENT:TRUE
DTSTAMP:20260425T135244Z
END:VEVENT
BEGIN:VEVENT
UID:sb_ical_event5944830@sch508.schoolbytes.cal
DTSTART;VALUE=DATE:20260303
SEQUENCE:0
TRANSP:OPAQUE
DTEND;VALUE=DATE:20260304
SUMMARY:School Photo Day
CLASS:PUBLIC
X-MICROSOFT-CDO-ALLDAYEVENT:TRUE
DTSTAMP:20260425T135244Z
END:VEVENT
BEGIN:VEVENT
UID:sb_ical_event5980290@sch508.schoolbytes.cal
DTSTART;VALUE=DATE:20260310
SEQUENCE:0
TRANSP:OPAQUE
DTEND;VALUE=DATE:20260311
SUMMARY:Dapto High open night for year 5 & year 6 4pm-6pm Dapto HS
CLASS:PUBLIC
DESCRIPTION:Dapto High open night night for Year 5 & 6 Students 4pm-6pm
X-MICROSOFT-CDO-ALLDAYEVENT:TRUE
DTSTAMP:20260425T135244Z
END:VEVENT
BEGIN:VEVENT
UID:sb_ical_event5987423@sch508.schoolbytes.cal
DTSTART;VALUE=DATE:20260304
SEQUENCE:0
TRANSP:OPAQUE
DTEND;VALUE=DATE:20260305
SUMMARY:WHSPA open night for year 6 students 5:30pm-6:30pm Wollongong HS
CLASS:PUBLIC
X-MICROSOFT-CDO-ALLDAYEVENT:TRUE
DTSTAMP:20260425T135244Z
END:VEVENT
BEGIN:VEVENT
UID:sb_ical_event6112550@sch508.schoolbytes.cal
DTSTART;VALUE=DATE:20260430
SEQUENCE:0
TRANSP:OPAQUE
DTEND;VALUE=DATE:20260501
SUMMARY:Stage 1 Excursion to Botanical Gardens
CLASS:PUBLIC
X-MICROSOFT-CDO-ALLDAYEVENT:TRUE
DTSTAMP:20260425T135244Z
END:VEVENT
BEGIN:VEVENT
UID:sb_ical_event6115342@sch508.schoolbytes.cal
DTSTART;VALUE=DATE:20260502
SEQUENCE:0
TRANSP:OPAQUE
DTEND;VALUE=DATE:20260503
SUMMARY:P&C Movie Night
CLASS:PUBLIC
X-MICROSOFT-CDO-ALLDAYEVENT:TRUE
DTSTAMP:20260425T135244Z
END:VEVENT
BEGIN:VEVENT
UID:sb_ical_event6115370@sch508.schoolbytes.cal
DTSTART;VALUE=DATE:20260328
SEQUENCE:0
TRANSP:OPAQUE
DTEND;VALUE=DATE:20260329
SUMMARY:Bunnings BBQ
CLASS:PUBLIC
DESCRIPTION:P&C fundraiser at Kembla Grange.
X-MICROSOFT-CDO-ALLDAYEVENT:TRUE
DTSTAMP:20260425T135244Z
END:VEVENT
BEGIN:VEVENT
UID:sb_ical_event6115371@sch508.schoolbytes.cal
DTSTART;VALUE=DATE:20260327
SEQUENCE:0
TRANSP:OPAQUE
DTEND;VALUE=DATE:20260328
SUMMARY:Tomorrow is the Bunnings BBQ
CLASS:PUBLIC
X-MICROSOFT-CDO-ALLDAYEVENT:TRUE
DTSTAMP:20260425T135244Z
END:VEVENT
BEGIN:VEVENT
UID:sb_ical_event6115438@sch508.schoolbytes.cal
DTSTART;VALUE=DATE:20260220
SEQUENCE:0
TRANSP:OPAQUE
DTEND;VALUE=DATE:20260221
SUMMARY:P&C Mufti Day (Sports Theme)
CLASS:PUBLIC
DESCRIPTION:Gold Coin donation
X-MICROSOFT-CDO-ALLDAYEVENT:TRUE
DTSTAMP:20260425T135244Z
END:VEVENT
BEGIN:VEVENT
UID:sb_ical_event6115698@sch508.schoolbytes.cal
DTSTART;VALUE=DATE:20260630
SEQUENCE:0
TRANSP:OPAQUE
DTEND;VALUE=DATE:20260701
SUMMARY:P&C Pie Drive
CLASS:PUBLIC
X-MICROSOFT-CDO-ALLDAYEVENT:TRUE
DTSTAMP:20260425T135244Z
END:VEVENT
BEGIN:VEVENT
UID:sb_ical_event6128133@sch508.schoolbytes.cal
DTSTART;VALUE=DATE:20260326
SEQUENCE:0
TRANSP:OPAQUE
DTEND;VALUE=DATE:20260327
SUMMARY:2027 Kindy Playdate 9.30-10.30
CLASS:PUBLIC
DESCRIPTION:If your child is starting school at MBPS next year\, join us fo
 r a playdate in Garilwa (where Breakfast Club is held\, next to the Office
 ).
X-MICROSOFT-CDO-ALLDAYEVENT:TRUE
DTSTAMP:20260425T135244Z
END:VEVENT
BEGIN:VEVENT
UID:sb_ical_event6813353@sch508.schoolbytes.cal
DTSTART;VALUE=DATE:20260617
SEQUENCE:0
TRANSP:OPAQUE
DTEND;VALUE=DATE:20260618
SUMMARY:2027 Kindy Playdate 9.30-10.30
CLASS:PUBLIC
DESCRIPTION:If your child is starting school at MBPS next year\, join us fo
 r a playdate in The Hall .
X-MICROSOFT-CDO-ALLDAYEVENT:TRUE
DTSTAMP:20260425T135244Z
END:VEVENT
BEGIN:VEVENT
UID:sb_ical_event6813354@sch508.schoolbytes.cal
DTSTART;VALUE=DATE:20260909
SEQUENCE:0
TRANSP:OPAQUE
DTEND;VALUE=DATE:20260910
SUMMARY:2027 Kindy Playdate 9.30-10.30
CLASS:PUBLIC
DESCRIPTION:If your child is starting school at MBPS next year\, join us fo
 r a playdate in The Hall .
X-MICROSOFT-CDO-ALLDAYEVENT:TRUE
DTSTAMP:20260425T135244Z
END:VEVENT
BEGIN:VEVENT
UID:sb_ical_event6262917@sch508.schoolbytes.cal
DTSTART;VALUE=DATE:20260429
SEQUENCE:0
TRANSP:OPAQUE
DTEND;VALUE=DATE:20260505
SUMMARY:Life Education Van K-4
CLASS:PUBLIC
DESCRIPTION:Each class K-4 will attend the Life Ed Van at some point over t
 his time period.
X-MICROSOFT-CDO-ALLDAYEVENT:TRUE
DTSTAMP:20260425T135244Z
END:VEVENT
BEGIN:VEVENT
UID:sb_ical_event6455390@sch508.schoolbytes.cal
DTSTART:20260223T031500Z
SEQUENCE:0
TRANSP:OPAQUE
DTEND:20260223T040000Z
SUMMARY:Swimming Carnival Ribbon Presentation
CLASS:PUBLIC
DTSTAMP:20260425T135244Z
END:VEVENT
BEGIN:VEVENT
UID:sb_ical_event6811823@sch508.schoolbytes.cal
DTSTART;VALUE=DATE:20260513
SEQUENCE:0
TRANSP:OPAQUE
DTEND;VALUE=DATE:20260514
SUMMARY:Starting School Expo
CLASS:PUBLIC
DESCRIPTION:If your child is starting school next year\, join us for our ex
 po. Meet the teachers\, learn about our school\, meet the PEAK after schoo
 l care providers\, do a school tour etc. In the school Hall.
X-MICROSOFT-CDO-ALLDAYEVENT:TRUE
DTSTAMP:20260425T135244Z
END:VEVENT
BEGIN:VEVENT
UID:sb_ical_event6812789@sch508.schoolbytes.cal
DTSTART;VALUE=DATE:20260819
SEQUENCE:0
TRANSP:OPAQUE
DTEND;VALUE=DATE:20260820
SUMMARY:Starting School BBQ Picnic
CLASS:PUBLIC
DESCRIPTION:If your child is starting school next year\, join us for our BB
 Q & picnic. Meet the teachers\, meet other families and your child’s fut
 ure classmates.
X-MICROSOFT-CDO-ALLDAYEVENT:TRUE
DTSTAMP:20260425T135244Z
END:VEVENT
BEGIN:VEVENT
UID:sb_ical_event6813025@sch508.schoolbytes.cal
DTSTART;VALUE=DATE:20261014
SEQUENCE:0
TRANSP:OPAQUE
DTEND;VALUE=DATE:20261015
SUMMARY:Learning Bee
CLASS:PUBLIC
DESCRIPTION:If your child is starting school at MBPS next year they can joi
 n us for our Learning Bee. Children have a classroom experience in smaller
  groups with Mrs G & the Kindergarten teachers on Wednesdays over 4 weeks.
  Sessions are up to an hour in length - more info will come home in Term 3
 .
X-MICROSOFT-CDO-ALLDAYEVENT:TRUE
DTSTAMP:20260425T135244Z
END:VEVENT
BEGIN:VEVENT
UID:sb_ical_event6813026@sch508.schoolbytes.cal
DTSTART;VALUE=DATE:20261021
SEQUENCE:0
TRANSP:OPAQUE
DTEND;VALUE=DATE:20261022
SUMMARY:Learning Bee
CLASS:PUBLIC
DESCRIPTION:If your child is starting school at MBPS next year they can joi
 n us for our Learning Bee. Children have a classroom experience in smaller
  groups with Mrs G & the Kindergarten teachers on Wednesdays over 4 weeks.
  Sessions are up to an hour in length - more info will come home in Term 3
 .
X-MICROSOFT-CDO-ALLDAYEVENT:TRUE
DTSTAMP:20260425T135244Z
END:VEVENT
BEGIN:VEVENT
UID:sb_ical_event6813027@sch508.schoolbytes.cal
DTSTART;VALUE=DATE:20261028
SEQUENCE:0
TRANSP:OPAQUE
DTEND;VALUE=DATE:20261029
SUMMARY:Learning Bee
CLASS:PUBLIC
DESCRIPTION:If your child is starting school at MBPS next year they can joi
 n us for our Learning Bee. Children have a classroom experience in smaller
  groups with Mrs G & the Kindergarten teachers on Wednesdays over 4 weeks.
  Sessions are up to an hour in length - more info will come home in Term 3
 .
X-MICROSOFT-CDO-ALLDAYEVENT:TRUE
DTSTAMP:20260425T135244Z
END:VEVENT
BEGIN:VEVENT
UID:sb_ical_event6813028@sch508.schoolbytes.cal
DTSTART;VALUE=DATE:20261104
SEQUENCE:0
TRANSP:OPAQUE
DTEND;VALUE=DATE:20261105
SUMMARY:Learning Bee
CLASS:PUBLIC
DESCRIPTION:If your child is starting school at MBPS next year they can joi
 n us for our Learning Bee. Children have a classroom experience in smaller
  groups with Mrs G & the Kindergarten teachers on Wednesdays over 4 weeks.
  Sessions are up to an hour in length - more info will come home in Term 3
 .
X-MICROSOFT-CDO-ALLDAYEVENT:TRUE
DTSTAMP:20260425T135244Z
END:VEVENT
BEGIN:VEVENT
UID:sb_ical_event7154261@sch508.schoolbytes.cal
DTSTART;VALUE=DATE:20260311
SEQUENCE:0
TRANSP:OPAQUE
DTEND;VALUE=DATE:20260312
SUMMARY:NAPLAN Writing Assessment Years 3 and 5
CLASS:PUBLIC
X-MICROSOFT-CDO-ALLDAYEVENT:TRUE
DTSTAMP:20260425T135244Z
END:VEVENT
BEGIN:VEVENT
UID:sb_ical_event7154293@sch508.schoolbytes.cal
DTSTART;VALUE=DATE:20260312
SEQUENCE:0
TRANSP:OPAQUE
DTEND;VALUE=DATE:20260313
SUMMARY:NAPLAN Assessment Reading Years 3 and 5
CLASS:PUBLIC
X-MICROSOFT-CDO-ALLDAYEVENT:TRUE
DTSTAMP:20260425T135244Z
END:VEVENT
BEGIN:VEVENT
UID:sb_ical_event7154301@sch508.schoolbytes.cal
DTSTART;VALUE=DATE:20260316
SEQUENCE:0
TRANSP:OPAQUE
DTEND;VALUE=DATE:20260317
SUMMARY:NAPLAN Assessment Language Conventions Year 3 and 5
CLASS:PUBLIC
X-MICROSOFT-CDO-ALLDAYEVENT:TRUE
DTSTAMP:20260425T135244Z
END:VEVENT
BEGIN:VEVENT
UID:sb_ical_event7154310@sch508.schoolbytes.cal
DTSTART;VALUE=DATE:20260318
SEQUENCE:0
TRANSP:OPAQUE
DTEND;VALUE=DATE:20260319
SUMMARY:NAPLAN Assessment Mathematics Year 3 and 5
CLASS:PUBLIC
X-MICROSOFT-CDO-ALLDAYEVENT:TRUE
DTSTAMP:20260425T135244Z
END:VEVENT
BEGIN:VEVENT
UID:sb_ical_event7360309@sch508.schoolbytes.cal
DTSTART;VALUE=DATE:20260514
SEQUENCE:0
TRANSP:OPAQUE
DTEND;VALUE=DATE:20260515
SUMMARY:Kindy Excursion to Botanical Gardens
CLASS:PUBLIC
DESCRIPTION:Bus\, Botanic Gardens
X-MICROSOFT-CDO-ALLDAYEVENT:TRUE
DTSTAMP:20260425T135244Z
END:VEVENT
BEGIN:VEVENT
UID:sb_ical_event7443544@sch508.schoolbytes.cal
DTSTART:20260505T080000Z
SEQUENCE:0
TRANSP:OPAQUE
DTEND:20260505T100000Z
SUMMARY:P&C Meeting and AGM
CLASS:PUBLIC
DTSTAMP:20260425T135244Z
END:VEVENT
BEGIN:VEVENT
UID:sb_ical_event7562470@sch508.schoolbytes.cal
DTSTART;VALUE=DATE:20260331
SEQUENCE:0
TRANSP:OPAQUE
DTEND;VALUE=DATE:20260401
SUMMARY:Easter Colouring In Competition Entries Close
CLASS:PUBLIC
DESCRIPTION:Final day for receiving entries. Please send to school office. 
 Winners to be drawn after Easter Hat Parade on Thursday Wk 10.
X-MICROSOFT-CDO-ALLDAYEVENT:TRUE
DTSTAMP:20260425T135244Z
END:VEVENT
BEGIN:VEVENT
UID:sb_ical_event7562475@sch508.schoolbytes.cal
DTSTART;VALUE=DATE:20260323
SEQUENCE:0
TRANSP:OPAQUE
DTEND;VALUE=DATE:20260324
SUMMARY:Easter Colouring In Competition Entries Available to Students
CLASS:PUBLIC
DESCRIPTION:Ray White Easter Colouring In Entries available from classroom 
 teachers for students to bring come to complete. Entries to be returned to
  school office no later than Tuesday 31st March (Tuesday Wk 10). Winners t
 o be announced after the Easter Hat Parade. First prize - Family of 4 Entr
 y to Royal Easter Show.
X-MICROSOFT-CDO-ALLDAYEVENT:TRUE
DTSTAMP:20260425T135244Z
END:VEVENT
BEGIN:VEVENT
UID:sb_ical_event7732593@sch508.schoolbytes.cal
DTSTART;VALUE=DATE:20260420
SEQUENCE:0
TRANSP:OPAQUE
DTEND;VALUE=DATE:20260421
SUMMARY:STAFF DEVELOPMENT DAY - STAFF ONLY
CLASS:PUBLIC
X-MICROSOFT-CDO-ALLDAYEVENT:TRUE
DTSTAMP:20260425T135244Z
END:VEVENT
BEGIN:VEVENT
UID:sb_ical_event7732594@sch508.schoolbytes.cal
DTSTART;VALUE=DATE:20260421
SEQUENCE:0
TRANSP:OPAQUE
DTEND;VALUE=DATE:20260422
SUMMARY:STAFF DEVELOPMENT DAY - STAFF ONLY
CLASS:PUBLIC
X-MICROSOFT-CDO-ALLDAYEVENT:TRUE
DTSTAMP:20260425T135244Z
END:VEVENT
BEGIN:VEVENT
UID:sb_ical_event7732595@sch508.schoolbytes.cal
DTSTART;VALUE=DATE:20260422
SEQUENCE:0
TRANSP:OPAQUE
DTEND;VALUE=DATE:20260423
SUMMARY:First day of Term 2 for students
CLASS:PUBLIC
X-MICROSOFT-CDO-ALLDAYEVENT:TRUE
DTSTAMP:20260425T135244Z
END:VEVENT
BEGIN:VEVENT
UID:sb_ical_event7776517@sch508.schoolbytes.cal
DTSTART;VALUE=DATE:20260520
SEQUENCE:0
TRANSP:OPAQUE
DTEND;VALUE=DATE:20260521
SUMMARY:Canteen Burger day!
CLASS:PUBLIC
DESCRIPTION:Canteen burger meal deal
X-MICROSOFT-CDO-ALLDAYEVENT:TRUE
DTSTAMP:20260425T135244Z
END:VEVENT
END:VCALENDAR