BEGIN:VCALENDAR
VERSION:2.0
PRODID://School Bytes School Calendar//
X-WR-CALNAME:Nords Wharf Public School - Parent Calendar
X-WR-RELCALID:sb_ical9760@sch121.schoolbytes.cal
X-PUBLISHED-TTL:PT1H
BEGIN:VEVENT
UID:sb_ical_event5512393@sch121.schoolbytes.cal
DTSTART;VALUE=DATE:20260202
SEQUENCE:0
TRANSP:OPAQUE
DTEND;VALUE=DATE:20260214
SUMMARY:Kindergarten to gate at 2:55pm
CLASS:PUBLIC
X-MICROSOFT-CDO-ALLDAYEVENT:TRUE
DTSTAMP:20260423T062005Z
END:VEVENT
BEGIN:VEVENT
UID:sb_ical_event5512437@sch121.schoolbytes.cal
DTSTART;VALUE=DATE:20260216
SEQUENCE:0
TRANSP:OPAQUE
DTEND;VALUE=DATE:20260217
SUMMARY:Kindergarten now finish at 3pm
CLASS:PUBLIC
X-MICROSOFT-CDO-ALLDAYEVENT:TRUE
DTSTAMP:20260423T062005Z
END:VEVENT
BEGIN:VEVENT
UID:sb_ical_event5512528@sch121.schoolbytes.cal
DTSTART:20260424T020000Z
SEQUENCE:0
TRANSP:OPAQUE
DTEND:20260424T031500Z
SUMMARY:Backflips against bullying
CLASS:PUBLIC
DESCRIPTION:10:40am - Performance Team Arrival & Setup\n12:00pm - Students 
 Arrive for Performance\n12:10pm - 1:10pm - Session #1 [Whole School]\n1:10
 pm - Pack-Up Time\n1:40pm - Team Leaves
DTSTAMP:20260423T062005Z
END:VEVENT
BEGIN:VEVENT
UID:sb_ical_event5556085@sch121.schoolbytes.cal
DTSTART;VALUE=DATE:20260210
SEQUENCE:0
TRANSP:OPAQUE
DTEND;VALUE=DATE:20260211
SUMMARY:Safer Internet Day
CLASS:PUBLIC
X-MICROSOFT-CDO-ALLDAYEVENT:TRUE
DTSTAMP:20260423T062005Z
END:VEVENT
BEGIN:VEVENT
UID:sb_ical_event5556089@sch121.schoolbytes.cal
DTSTART;VALUE=DATE:20260227
SEQUENCE:0
TRANSP:OPAQUE
DTEND;VALUE=DATE:20260228
SUMMARY:Clean up Australia day at School
CLASS:PUBLIC
DESCRIPTION:20 February\, 2026\n\n\nClean Up Schools Day\n\nNords Wharf P.S
 . will be participating in Clean Up Schools Day on Friday\, 27 February. C
 lean Up Schools Day is a fun and engaging way to teach our students about 
 the responsible disposal of rubbish\, resource recovery and the repercussi
 ons of rubbish dumped irresponsibly in our local environment. We will be c
 leaning up our school and the area between the school and the preschool. W
 e aim to show our students that many small actions can make a big change!\
 n\nWhere: within school grounds.\n\nStudents will need: a school hat and g
 loves\, if they would like to wear them (not compulsory).\n\nRubbish bags 
 will be provided for each class – please do not bring in a plastic bag.\
 n\nThank you for your support in keeping our school and local environment 
 clean.\n\n\nDonna Black\n\nClean Up Australia Day Coordinator
X-MICROSOFT-CDO-ALLDAYEVENT:TRUE
DTSTAMP:20260423T062005Z
END:VEVENT
BEGIN:VEVENT
UID:sb_ical_event5590446@sch121.schoolbytes.cal
DTSTART;VALUE=DATE:20260220
SEQUENCE:0
TRANSP:OPAQUE
DTEND;VALUE=DATE:20260221
SUMMARY:Whole School Assembly
CLASS:PUBLIC
DESCRIPTION:Families are invited to attend
X-MICROSOFT-CDO-ALLDAYEVENT:TRUE
DTSTAMP:20260423T062005Z
END:VEVENT
BEGIN:VEVENT
UID:sb_ical_event5625017@sch121.schoolbytes.cal
DTSTART;VALUE=DATE:20260210
SEQUENCE:0
TRANSP:OPAQUE
DTEND;VALUE=DATE:20260211
SUMMARY:Welcome BBQ for new families to school
CLASS:PUBLIC
X-MICROSOFT-CDO-ALLDAYEVENT:TRUE
DTSTAMP:20260423T062005Z
END:VEVENT
BEGIN:VEVENT
UID:sb_ical_event5620987@sch121.schoolbytes.cal
DTSTART:20260210T041500Z
SEQUENCE:0
TRANSP:OPAQUE
DTEND:20260210T051500Z
SUMMARY:Meet The Teacher sessions
CLASS:PUBLIC
DTSTAMP:20260423T062005Z
END:VEVENT
BEGIN:VEVENT
UID:sb_ical_event5804132@sch121.schoolbytes.cal
DTSTART:20260210T060000Z
SEQUENCE:0
TRANSP:OPAQUE
DTEND:20260210T070000Z
SUMMARY:P&C Meeting
CLASS:PUBLIC
DTSTAMP:20260423T062005Z
END:VEVENT
BEGIN:VEVENT
UID:sb_ical_event5829438@sch121.schoolbytes.cal
DTSTART;VALUE=DATE:20260227
SEQUENCE:0
TRANSP:OPAQUE
DTEND;VALUE=DATE:20260228
SUMMARY:Eastlakes Zone Swimming Carnival
CLASS:PUBLIC
X-MICROSOFT-CDO-ALLDAYEVENT:TRUE
DTSTAMP:20260423T062005Z
END:VEVENT
BEGIN:VEVENT
UID:sb_ical_event5871039@sch121.schoolbytes.cal
DTSTART;VALUE=DATE:20260220
SEQUENCE:0
TRANSP:OPAQUE
DTEND;VALUE=DATE:20260221
SUMMARY:Scholastic Book Club Issue 1 orders due. Online LOOP orders only.
CLASS:PUBLIC
X-MICROSOFT-CDO-ALLDAYEVENT:TRUE
DTSTAMP:20260423T062005Z
END:VEVENT
BEGIN:VEVENT
UID:sb_ical_event6422774@sch121.schoolbytes.cal
DTSTART;VALUE=DATE:20260326
SEQUENCE:0
TRANSP:OPAQUE
DTEND;VALUE=DATE:20260327
SUMMARY:Premier's Debating workshop (selected students only)
CLASS:PUBLIC
DESCRIPTION:Note available: https://schoolsnsw-my.sharepoint.com/:w:/g/pers
 onal/rebecca_bear1_det_nsw_edu_au/IQDnk6XVeeNwQJ2jYz4jkDDNAdyQSNJLBv_73GLj
 mwgQQiE?xsdata=MDV8MDJ8QURBTS5QRU5CRVJUSFlAZGV0Lm5zdy5lZHUuYXV8M2FkM2ZiZGQ
 yYzNiNGQ2ZmNhMjkwOGRlNmY3MDRlY2N8MDVhMGU2OWE0MThhNDdjMTljMjU5Mzg3MjYxYmY5O
 TF8MHwwfDYzOTA3MDcyNTMxNjM2Mzc2OHxVbmtub3dufFRXRnBiR1pzYjNkOGV5SkZiWEIwZVU
 xaGNHa2lPblJ5ZFdVc0lsWWlPaUl3TGpBdU1EQXdNQ0lzSWxBaU9pSlhhVzR6TWlJc0lrRk9Ja
 m9pVFdGcGJDSXNJbGRVSWpveWZRPT18MHx8fA%3d%3d&sdata=VXdQM3N1cjFnalJHWGs3WDJi
 azk0YWF3K0V2cFhLUlpyZTBKL21oK0RUWT0%3d
X-MICROSOFT-CDO-ALLDAYEVENT:TRUE
DTSTAMP:20260423T062005Z
END:VEVENT
BEGIN:VEVENT
UID:sb_ical_event6644745@sch121.schoolbytes.cal
DTSTART;VALUE=DATE:20260319
SEQUENCE:0
TRANSP:OPAQUE
DTEND;VALUE=DATE:20260320
SUMMARY:Optional Progress Association art competition due today
CLASS:PUBLIC
DESCRIPTION:Art Competition for interested students  as part of the Nords W
 harf Progress Association 100 Years of Community. \n \nTheme: “A Paintin
 g of Nords Wharf”\nCanvas Size: 20cm x 20cm (available from local discou
 nt stores for approximately $3.60)\n \nImportant Details:\nPaintings must 
 have the student’s name and class on the back.\nCan use any medium\nPlea
 se bring completed artwork to school on Thursday 19 March.\n\nAll artworks
  will be judged and displayed at the Community Hall on Saturday 20 March\,
  with prizes presented as part of the celebrations.
X-MICROSOFT-CDO-ALLDAYEVENT:TRUE
DTSTAMP:20260423T062005Z
END:VEVENT
BEGIN:VEVENT
UID:sb_ical_event6870085@sch121.schoolbytes.cal
DTSTART:20260317T073000Z
SEQUENCE:0
TRANSP:OPAQUE
DTEND:20260317T090000Z
SUMMARY:P&C AGM
CLASS:PUBLIC
DTSTAMP:20260423T062005Z
END:VEVENT
BEGIN:VEVENT
UID:sb_ical_event7616190@sch121.schoolbytes.cal
DTSTART;VALUE=DATE:20260420
SEQUENCE:0
TRANSP:OPAQUE
DTEND;VALUE=DATE:20260422
SUMMARY:Staff Development Day - Staff only
CLASS:PUBLIC
X-MICROSOFT-CDO-ALLDAYEVENT:TRUE
DTSTAMP:20260423T062005Z
END:VEVENT
BEGIN:VEVENT
UID:sb_ical_event7616231@sch121.schoolbytes.cal
DTSTART;VALUE=DATE:20260422
SEQUENCE:0
TRANSP:OPAQUE
DTEND;VALUE=DATE:20260423
SUMMARY:Term 2 Starts for Students
CLASS:PUBLIC
X-MICROSOFT-CDO-ALLDAYEVENT:TRUE
DTSTAMP:20260423T062005Z
END:VEVENT
BEGIN:VEVENT
UID:sb_ical_event7767028@sch121.schoolbytes.cal
DTSTART:20260429T020000Z
SEQUENCE:0
TRANSP:OPAQUE
DTEND:20260429T033000Z
SUMMARY:Year 6 mini-fete fundraiser
CLASS:PUBLIC
DTSTAMP:20260423T062005Z
END:VEVENT
BEGIN:VEVENT
UID:sb_ical_event7767043@sch121.schoolbytes.cal
DTSTART;VALUE=DATE:20260430
SEQUENCE:0
TRANSP:OPAQUE
DTEND;VALUE=DATE:20260501
SUMMARY:East Lake Macquarie Zone Cross Country Carnival
CLASS:PUBLIC
X-MICROSOFT-CDO-ALLDAYEVENT:TRUE
DTSTAMP:20260423T062005Z
END:VEVENT
BEGIN:VEVENT
UID:sb_ical_event7767083@sch121.schoolbytes.cal
DTSTART;VALUE=DATE:20260501
SEQUENCE:0
TRANSP:OPAQUE
DTEND;VALUE=DATE:20260502
SUMMARY:Selective High School Placement Test for Year 5 students
CLASS:PUBLIC
X-MICROSOFT-CDO-ALLDAYEVENT:TRUE
DTSTAMP:20260423T062005Z
END:VEVENT
BEGIN:VEVENT
UID:sb_ical_event7767292@sch121.schoolbytes.cal
DTSTART;VALUE=DATE:20260508
SEQUENCE:0
TRANSP:OPAQUE
DTEND;VALUE=DATE:20260509
SUMMARY:Opportunity Class Placement Test
CLASS:PUBLIC
DESCRIPTION:Year 4 students for Year 5 class in 2027
X-MICROSOFT-CDO-ALLDAYEVENT:TRUE
DTSTAMP:20260423T062005Z
END:VEVENT
BEGIN:VEVENT
UID:sb_ical_event7767347@sch121.schoolbytes.cal
DTSTART;VALUE=DATE:20260520
SEQUENCE:0
TRANSP:OPAQUE
DTEND;VALUE=DATE:20260521
SUMMARY:K-2 Reptile Park excursion
CLASS:PUBLIC
X-MICROSOFT-CDO-ALLDAYEVENT:TRUE
DTSTAMP:20260423T062005Z
END:VEVENT
BEGIN:VEVENT
UID:sb_ical_event7767395@sch121.schoolbytes.cal
DTSTART;VALUE=DATE:20260505
SEQUENCE:0
TRANSP:OPAQUE
DTEND;VALUE=DATE:20260506
SUMMARY:PSSA Netball knowckout
CLASS:PUBLIC
X-MICROSOFT-CDO-ALLDAYEVENT:TRUE
DTSTAMP:20260423T062005Z
END:VEVENT
BEGIN:VEVENT
UID:sb_ical_event7767534@sch121.schoolbytes.cal
DTSTART;VALUE=DATE:20260703
SEQUENCE:0
TRANSP:OPAQUE
DTEND;VALUE=DATE:20260704
SUMMARY:Swansea HS Lex@s applications due
CLASS:PUBLIC
X-MICROSOFT-CDO-ALLDAYEVENT:TRUE
DTSTAMP:20260423T062005Z
END:VEVENT
BEGIN:VEVENT
UID:sb_ical_event7767691@sch121.schoolbytes.cal
DTSTART;VALUE=DATE:20260427
SEQUENCE:0
TRANSP:OPAQUE
DTEND;VALUE=DATE:20260428
SUMMARY:ANZAC Day Holiday
CLASS:PUBLIC
X-MICROSOFT-CDO-ALLDAYEVENT:TRUE
DTSTAMP:20260423T062005Z
END:VEVENT
BEGIN:VEVENT
UID:sb_ical_event7787650@sch121.schoolbytes.cal
DTSTART;VALUE=DATE:20260513
SEQUENCE:0
TRANSP:OPAQUE
DTEND;VALUE=DATE:20260514
SUMMARY:2026 Book Fair
CLASS:PUBLIC
DESCRIPTION:Book Fair\nLibrary fundrasier\nCash preferred $4- $40\nCredit p
 urchase:\nhttps://parentpayments.scholastic.com.au/BookFairs\nBuying time 
 8.15-9.15 am and 3- 3.30pm\nStudents can buy at lunchtime\nStudents will c
 ome home with wish list Tuesday 12th May\nIn library
X-MICROSOFT-CDO-ALLDAYEVENT:TRUE
DTSTAMP:20260423T062005Z
END:VEVENT
BEGIN:VEVENT
UID:sb_ical_event7787946@sch121.schoolbytes.cal
DTSTART;VALUE=DATE:20260507
SEQUENCE:0
TRANSP:OPAQUE
DTEND;VALUE=DATE:20260508
SUMMARY:Mother's Day Afternoon from 2pm
CLASS:PUBLIC
X-MICROSOFT-CDO-ALLDAYEVENT:TRUE
DTSTAMP:20260423T062005Z
END:VEVENT
BEGIN:VEVENT
UID:sb_ical_event243@sch121.schoolbytes.cal
DTSTART;VALUE=DATE:20220418
SEQUENCE:0
TRANSP:OPAQUE
DTEND;VALUE=DATE:20220419
SUMMARY:Easter Monday
CLASS:PUBLIC
X-MICROSOFT-CDO-ALLDAYEVENT:TRUE
DTSTAMP:20260423T062005Z
END:VEVENT
BEGIN:VEVENT
UID:sb_ical_event244@sch121.schoolbytes.cal
DTSTART;VALUE=DATE:20220613
SEQUENCE:0
TRANSP:OPAQUE
DTEND;VALUE=DATE:20220614
SUMMARY:Queen's Birthday
CLASS:PUBLIC
X-MICROSOFT-CDO-ALLDAYEVENT:TRUE
DTSTAMP:20260423T062005Z
END:VEVENT
BEGIN:VEVENT
UID:sb_ical_event245@sch121.schoolbytes.cal
DTSTART;VALUE=DATE:20221003
SEQUENCE:0
TRANSP:OPAQUE
DTEND;VALUE=DATE:20221004
SUMMARY:Labour Day
CLASS:PUBLIC
X-MICROSOFT-CDO-ALLDAYEVENT:TRUE
DTSTAMP:20260423T062005Z
END:VEVENT
BEGIN:VEVENT
UID:sb_ical_event246@sch121.schoolbytes.cal
DTSTART;VALUE=DATE:20221226
SEQUENCE:0
TRANSP:OPAQUE
DTEND;VALUE=DATE:20221227
SUMMARY:Boxing Day
CLASS:PUBLIC
X-MICROSOFT-CDO-ALLDAYEVENT:TRUE
DTSTAMP:20260423T062005Z
END:VEVENT
BEGIN:VEVENT
UID:sb_ical_event247@sch121.schoolbytes.cal
DTSTART;VALUE=DATE:20230126
SEQUENCE:0
TRANSP:OPAQUE
DTEND;VALUE=DATE:20230127
SUMMARY:Australia Day
CLASS:PUBLIC
X-MICROSOFT-CDO-ALLDAYEVENT:TRUE
DTSTAMP:20260423T062005Z
END:VEVENT
BEGIN:VEVENT
UID:sb_ical_event248@sch121.schoolbytes.cal
DTSTART;VALUE=DATE:20230410
SEQUENCE:0
TRANSP:OPAQUE
DTEND;VALUE=DATE:20230411
SUMMARY:Easter Monday
CLASS:PUBLIC
X-MICROSOFT-CDO-ALLDAYEVENT:TRUE
DTSTAMP:20260423T062005Z
END:VEVENT
BEGIN:VEVENT
UID:sb_ical_event249@sch121.schoolbytes.cal
DTSTART;VALUE=DATE:20230425
SEQUENCE:0
TRANSP:OPAQUE
DTEND;VALUE=DATE:20230426
SUMMARY:ANZAC Day
CLASS:PUBLIC
X-MICROSOFT-CDO-ALLDAYEVENT:TRUE
DTSTAMP:20260423T062005Z
END:VEVENT
BEGIN:VEVENT
UID:sb_ical_event250@sch121.schoolbytes.cal
DTSTART;VALUE=DATE:20220425
SEQUENCE:0
TRANSP:OPAQUE
DTEND;VALUE=DATE:20220426
SUMMARY:ANZAC Day
CLASS:PUBLIC
X-MICROSOFT-CDO-ALLDAYEVENT:TRUE
DTSTAMP:20260423T062005Z
END:VEVENT
BEGIN:VEVENT
UID:sb_ical_event251@sch121.schoolbytes.cal
DTSTART;VALUE=DATE:20220126
SEQUENCE:0
TRANSP:OPAQUE
DTEND;VALUE=DATE:20220127
SUMMARY:Australia Day
CLASS:PUBLIC
X-MICROSOFT-CDO-ALLDAYEVENT:TRUE
DTSTAMP:20260423T062005Z
END:VEVENT
BEGIN:VEVENT
UID:sb_ical_event4285@sch121.schoolbytes.cal
DTSTART;VALUE=DATE:20220922
SEQUENCE:0
TRANSP:OPAQUE
DTEND;VALUE=DATE:20220923
SUMMARY:National day of mourning
CLASS:PUBLIC
X-MICROSOFT-CDO-ALLDAYEVENT:TRUE
DTSTAMP:20260423T062005Z
END:VEVENT
BEGIN:VEVENT
UID:sb_ical_event56057@sch121.schoolbytes.cal
DTSTART;VALUE=DATE:20230612
SEQUENCE:0
TRANSP:OPAQUE
DTEND;VALUE=DATE:20230613
SUMMARY:King's Birthday
CLASS:PUBLIC
X-MICROSOFT-CDO-ALLDAYEVENT:TRUE
DTSTAMP:20260423T062005Z
END:VEVENT
BEGIN:VEVENT
UID:sb_ical_event59395@sch121.schoolbytes.cal
DTSTART;VALUE=DATE:20230407
SEQUENCE:0
TRANSP:OPAQUE
DTEND;VALUE=DATE:20230408
SUMMARY:Good Friday
CLASS:PUBLIC
X-MICROSOFT-CDO-ALLDAYEVENT:TRUE
DTSTAMP:20260423T062005Z
END:VEVENT
BEGIN:VEVENT
UID:sb_ical_event59637@sch121.schoolbytes.cal
DTSTART;VALUE=DATE:20231002
SEQUENCE:0
TRANSP:OPAQUE
DTEND;VALUE=DATE:20231003
SUMMARY:Labour Day
CLASS:PUBLIC
X-MICROSOFT-CDO-ALLDAYEVENT:TRUE
DTSTAMP:20260423T062005Z
END:VEVENT
BEGIN:VEVENT
UID:sb_ical_event227877@sch121.schoolbytes.cal
DTSTART;VALUE=DATE:20231225
SEQUENCE:0
TRANSP:OPAQUE
DTEND;VALUE=DATE:20231226
SUMMARY:Christmas Day
CLASS:PUBLIC
X-MICROSOFT-CDO-ALLDAYEVENT:TRUE
DTSTAMP:20260423T062005Z
END:VEVENT
BEGIN:VEVENT
UID:sb_ical_event227878@sch121.schoolbytes.cal
DTSTART;VALUE=DATE:20231226
SEQUENCE:0
TRANSP:OPAQUE
DTEND;VALUE=DATE:20231227
SUMMARY:Boxing Day
CLASS:PUBLIC
X-MICROSOFT-CDO-ALLDAYEVENT:TRUE
DTSTAMP:20260423T062005Z
END:VEVENT
BEGIN:VEVENT
UID:sb_ical_event227879@sch121.schoolbytes.cal
DTSTART;VALUE=DATE:20240101
SEQUENCE:0
TRANSP:OPAQUE
DTEND;VALUE=DATE:20240102
SUMMARY:New Year's Day
CLASS:PUBLIC
X-MICROSOFT-CDO-ALLDAYEVENT:TRUE
DTSTAMP:20260423T062005Z
END:VEVENT
BEGIN:VEVENT
UID:sb_ical_event227880@sch121.schoolbytes.cal
DTSTART;VALUE=DATE:20240126
SEQUENCE:0
TRANSP:OPAQUE
DTEND;VALUE=DATE:20240127
SUMMARY:Australia Day
CLASS:PUBLIC
X-MICROSOFT-CDO-ALLDAYEVENT:TRUE
DTSTAMP:20260423T062005Z
END:VEVENT
BEGIN:VEVENT
UID:sb_ical_event227881@sch121.schoolbytes.cal
DTSTART;VALUE=DATE:20240329
SEQUENCE:0
TRANSP:OPAQUE
DTEND;VALUE=DATE:20240330
SUMMARY:Good Friday
CLASS:PUBLIC
X-MICROSOFT-CDO-ALLDAYEVENT:TRUE
DTSTAMP:20260423T062005Z
END:VEVENT
BEGIN:VEVENT
UID:sb_ical_event227882@sch121.schoolbytes.cal
DTSTART;VALUE=DATE:20240401
SEQUENCE:0
TRANSP:OPAQUE
DTEND;VALUE=DATE:20240402
SUMMARY:Easter Monday
CLASS:PUBLIC
X-MICROSOFT-CDO-ALLDAYEVENT:TRUE
DTSTAMP:20260423T062005Z
END:VEVENT
BEGIN:VEVENT
UID:sb_ical_event227883@sch121.schoolbytes.cal
DTSTART;VALUE=DATE:20240425
SEQUENCE:0
TRANSP:OPAQUE
DTEND;VALUE=DATE:20240426
SUMMARY:ANZAC Day
CLASS:PUBLIC
X-MICROSOFT-CDO-ALLDAYEVENT:TRUE
DTSTAMP:20260423T062005Z
END:VEVENT
BEGIN:VEVENT
UID:sb_ical_event227884@sch121.schoolbytes.cal
DTSTART;VALUE=DATE:20240610
SEQUENCE:0
TRANSP:OPAQUE
DTEND;VALUE=DATE:20240611
SUMMARY:King's Birthday
CLASS:PUBLIC
X-MICROSOFT-CDO-ALLDAYEVENT:TRUE
DTSTAMP:20260423T062005Z
END:VEVENT
BEGIN:VEVENT
UID:sb_ical_event227885@sch121.schoolbytes.cal
DTSTART;VALUE=DATE:20241007
SEQUENCE:0
TRANSP:OPAQUE
DTEND;VALUE=DATE:20241008
SUMMARY:Labour Day
CLASS:PUBLIC
X-MICROSOFT-CDO-ALLDAYEVENT:TRUE
DTSTAMP:20260423T062005Z
END:VEVENT
BEGIN:VEVENT
UID:sb_ical_event227886@sch121.schoolbytes.cal
DTSTART;VALUE=DATE:20241225
SEQUENCE:0
TRANSP:OPAQUE
DTEND;VALUE=DATE:20241226
SUMMARY:Christmas Day
CLASS:PUBLIC
X-MICROSOFT-CDO-ALLDAYEVENT:TRUE
DTSTAMP:20260423T062005Z
END:VEVENT
BEGIN:VEVENT
UID:sb_ical_event227887@sch121.schoolbytes.cal
DTSTART;VALUE=DATE:20241226
SEQUENCE:0
TRANSP:OPAQUE
DTEND;VALUE=DATE:20241227
SUMMARY:Boxing Day
CLASS:PUBLIC
X-MICROSOFT-CDO-ALLDAYEVENT:TRUE
DTSTAMP:20260423T062005Z
END:VEVENT
BEGIN:VEVENT
UID:sb_ical_event227888@sch121.schoolbytes.cal
DTSTART;VALUE=DATE:20250101
SEQUENCE:0
TRANSP:OPAQUE
DTEND;VALUE=DATE:20250102
SUMMARY:New Year's Day
CLASS:PUBLIC
X-MICROSOFT-CDO-ALLDAYEVENT:TRUE
DTSTAMP:20260423T062005Z
END:VEVENT
BEGIN:VEVENT
UID:sb_ical_event2031719@sch121.schoolbytes.cal
DTSTART;VALUE=DATE:20250127
SEQUENCE:0
TRANSP:OPAQUE
DTEND;VALUE=DATE:20250128
SUMMARY:Australia Day
CLASS:PUBLIC
X-MICROSOFT-CDO-ALLDAYEVENT:TRUE
DTSTAMP:20260423T062005Z
END:VEVENT
BEGIN:VEVENT
UID:sb_ical_event2031720@sch121.schoolbytes.cal
DTSTART;VALUE=DATE:20250418
SEQUENCE:0
TRANSP:OPAQUE
DTEND;VALUE=DATE:20250419
SUMMARY:Good Friday
CLASS:PUBLIC
X-MICROSOFT-CDO-ALLDAYEVENT:TRUE
DTSTAMP:20260423T062005Z
END:VEVENT
BEGIN:VEVENT
UID:sb_ical_event2031721@sch121.schoolbytes.cal
DTSTART;VALUE=DATE:20250421
SEQUENCE:0
TRANSP:OPAQUE
DTEND;VALUE=DATE:20250422
SUMMARY:Easter Monday
CLASS:PUBLIC
X-MICROSOFT-CDO-ALLDAYEVENT:TRUE
DTSTAMP:20260423T062005Z
END:VEVENT
BEGIN:VEVENT
UID:sb_ical_event2031722@sch121.schoolbytes.cal
DTSTART;VALUE=DATE:20250425
SEQUENCE:0
TRANSP:OPAQUE
DTEND;VALUE=DATE:20250426
SUMMARY:Anzac Day
CLASS:PUBLIC
X-MICROSOFT-CDO-ALLDAYEVENT:TRUE
DTSTAMP:20260423T062005Z
END:VEVENT
BEGIN:VEVENT
UID:sb_ical_event2031723@sch121.schoolbytes.cal
DTSTART;VALUE=DATE:20250609
SEQUENCE:0
TRANSP:OPAQUE
DTEND;VALUE=DATE:20250610
SUMMARY:King's Birthday
CLASS:PUBLIC
X-MICROSOFT-CDO-ALLDAYEVENT:TRUE
DTSTAMP:20260423T062005Z
END:VEVENT
BEGIN:VEVENT
UID:sb_ical_event2031724@sch121.schoolbytes.cal
DTSTART;VALUE=DATE:20251006
SEQUENCE:0
TRANSP:OPAQUE
DTEND;VALUE=DATE:20251007
SUMMARY:Labour Day
CLASS:PUBLIC
X-MICROSOFT-CDO-ALLDAYEVENT:TRUE
DTSTAMP:20260423T062005Z
END:VEVENT
BEGIN:VEVENT
UID:sb_ical_event2031725@sch121.schoolbytes.cal
DTSTART;VALUE=DATE:20251225
SEQUENCE:0
TRANSP:OPAQUE
DTEND;VALUE=DATE:20251226
SUMMARY:Christmas Day
CLASS:PUBLIC
X-MICROSOFT-CDO-ALLDAYEVENT:TRUE
DTSTAMP:20260423T062005Z
END:VEVENT
BEGIN:VEVENT
UID:sb_ical_event2031726@sch121.schoolbytes.cal
DTSTART;VALUE=DATE:20251226
SEQUENCE:0
TRANSP:OPAQUE
DTEND;VALUE=DATE:20251227
SUMMARY:Boxing Day
CLASS:PUBLIC
X-MICROSOFT-CDO-ALLDAYEVENT:TRUE
DTSTAMP:20260423T062005Z
END:VEVENT
BEGIN:VEVENT
UID:sb_ical_event2031727@sch121.schoolbytes.cal
DTSTART;VALUE=DATE:20260101
SEQUENCE:0
TRANSP:OPAQUE
DTEND;VALUE=DATE:20260102
SUMMARY:New Year's Day
CLASS:PUBLIC
X-MICROSOFT-CDO-ALLDAYEVENT:TRUE
DTSTAMP:20260423T062005Z
END:VEVENT
BEGIN:VEVENT
UID:sb_ical_event2031728@sch121.schoolbytes.cal
DTSTART;VALUE=DATE:20260126
SEQUENCE:0
TRANSP:OPAQUE
DTEND;VALUE=DATE:20260127
SUMMARY:Australia Day
CLASS:PUBLIC
X-MICROSOFT-CDO-ALLDAYEVENT:TRUE
DTSTAMP:20260423T062005Z
END:VEVENT
BEGIN:VEVENT
UID:sb_ical_event5014990@sch121.schoolbytes.cal
DTSTART;VALUE=DATE:20260403
SEQUENCE:0
TRANSP:OPAQUE
DTEND;VALUE=DATE:20260404
SUMMARY:Good Friday
CLASS:PUBLIC
X-MICROSOFT-CDO-ALLDAYEVENT:TRUE
DTSTAMP:20260423T062005Z
END:VEVENT
BEGIN:VEVENT
UID:sb_ical_event5015026@sch121.schoolbytes.cal
DTSTART;VALUE=DATE:20260404
SEQUENCE:0
TRANSP:OPAQUE
DTEND;VALUE=DATE:20260405
SUMMARY:Easter Saturday
CLASS:PUBLIC
X-MICROSOFT-CDO-ALLDAYEVENT:TRUE
DTSTAMP:20260423T062005Z
END:VEVENT
BEGIN:VEVENT
UID:sb_ical_event5015029@sch121.schoolbytes.cal
DTSTART;VALUE=DATE:20260405
SEQUENCE:0
TRANSP:OPAQUE
DTEND;VALUE=DATE:20260406
SUMMARY:Easter Sunday
CLASS:PUBLIC
X-MICROSOFT-CDO-ALLDAYEVENT:TRUE
DTSTAMP:20260423T062005Z
END:VEVENT
BEGIN:VEVENT
UID:sb_ical_event5015033@sch121.schoolbytes.cal
DTSTART;VALUE=DATE:20260406
SEQUENCE:0
TRANSP:OPAQUE
DTEND;VALUE=DATE:20260407
SUMMARY:Easter Monday
CLASS:PUBLIC
X-MICROSOFT-CDO-ALLDAYEVENT:TRUE
DTSTAMP:20260423T062005Z
END:VEVENT
BEGIN:VEVENT
UID:sb_ical_event5015034@sch121.schoolbytes.cal
DTSTART;VALUE=DATE:20260427
SEQUENCE:0
TRANSP:OPAQUE
DTEND;VALUE=DATE:20260428
SUMMARY:ANZAC Day
CLASS:PUBLIC
X-MICROSOFT-CDO-ALLDAYEVENT:TRUE
DTSTAMP:20260423T062005Z
END:VEVENT
BEGIN:VEVENT
UID:sb_ical_event5015039@sch121.schoolbytes.cal
DTSTART;VALUE=DATE:20260608
SEQUENCE:0
TRANSP:OPAQUE
DTEND;VALUE=DATE:20260609
SUMMARY:King's Birthday
CLASS:PUBLIC
X-MICROSOFT-CDO-ALLDAYEVENT:TRUE
DTSTAMP:20260423T062005Z
END:VEVENT
BEGIN:VEVENT
UID:sb_ical_event5015044@sch121.schoolbytes.cal
DTSTART;VALUE=DATE:20261005
SEQUENCE:0
TRANSP:OPAQUE
DTEND;VALUE=DATE:20261006
SUMMARY:Labour Day
CLASS:PUBLIC
X-MICROSOFT-CDO-ALLDAYEVENT:TRUE
DTSTAMP:20260423T062005Z
END:VEVENT
BEGIN:VEVENT
UID:sb_ical_event5015068@sch121.schoolbytes.cal
DTSTART;VALUE=DATE:20261225
SEQUENCE:0
TRANSP:OPAQUE
DTEND;VALUE=DATE:20261226
SUMMARY:Christmas Day
CLASS:PUBLIC
X-MICROSOFT-CDO-ALLDAYEVENT:TRUE
DTSTAMP:20260423T062005Z
END:VEVENT
BEGIN:VEVENT
UID:sb_ical_event5015069@sch121.schoolbytes.cal
DTSTART;VALUE=DATE:20261226
SEQUENCE:0
TRANSP:OPAQUE
DTEND;VALUE=DATE:20261227
SUMMARY:Boxing Day
CLASS:PUBLIC
X-MICROSOFT-CDO-ALLDAYEVENT:TRUE
DTSTAMP:20260423T062005Z
END:VEVENT
BEGIN:VEVENT
UID:sb_ical_event5015081@sch121.schoolbytes.cal
DTSTART;VALUE=DATE:20261228
SEQUENCE:0
TRANSP:OPAQUE
DTEND;VALUE=DATE:20261229
SUMMARY:Boxing Day Public Holiday
CLASS:PUBLIC
X-MICROSOFT-CDO-ALLDAYEVENT:TRUE
DTSTAMP:20260423T062005Z
END:VEVENT
END:VCALENDAR