BEGIN:VCALENDAR
VERSION:2.0
PRODID://School Bytes School Calendar//
X-WR-CALNAME:Double Bay Public School - School Events Calendar (Parent View
 )
X-WR-RELCALID:sb_ical9648@sch1595.schoolbytes.cal
X-PUBLISHED-TTL:PT1H
BEGIN:VEVENT
UID:sb_ical_event5446854@sch1595.schoolbytes.cal
DTSTART;VALUE=DATE:20260127
SEQUENCE:0
TRANSP:OPAQUE
DTEND;VALUE=DATE:20260131
SUMMARY:SDD Term 1
CLASS:PUBLIC
X-MICROSOFT-CDO-ALLDAYEVENT:TRUE
DTSTAMP:20260423T144138Z
END:VEVENT
BEGIN:VEVENT
UID:sb_ical_event5446873@sch1595.schoolbytes.cal
DTSTART;VALUE=DATE:20260202
SEQUENCE:0
TRANSP:OPAQUE
DTEND;VALUE=DATE:20260203
SUMMARY:Students K-6 Return for Term 1
CLASS:PUBLIC
X-MICROSOFT-CDO-ALLDAYEVENT:TRUE
DTSTAMP:20260423T144138Z
END:VEVENT
BEGIN:VEVENT
UID:sb_ical_event5446891@sch1595.schoolbytes.cal
DTSTART;VALUE=DATE:20260311
SEQUENCE:0
TRANSP:OPAQUE
DTEND;VALUE=DATE:20260324
SUMMARY:NAPLAN for Year 3 and 5 commences
CLASS:PUBLIC
X-MICROSOFT-CDO-ALLDAYEVENT:TRUE
DTSTAMP:20260423T144138Z
END:VEVENT
BEGIN:VEVENT
UID:sb_ical_event5446905@sch1595.schoolbytes.cal
DTSTART;VALUE=DATE:20260220
SEQUENCE:0
TRANSP:OPAQUE
DTEND;VALUE=DATE:20260221
SUMMARY:Applications for Opportunity Test and Selective Close Today
CLASS:PUBLIC
X-MICROSOFT-CDO-ALLDAYEVENT:TRUE
DTSTAMP:20260423T144138Z
END:VEVENT
BEGIN:VEVENT
UID:sb_ical_event5446967@sch1595.schoolbytes.cal
DTSTART;VALUE=DATE:20260501
SEQUENCE:0
TRANSP:OPAQUE
DTEND;VALUE=DATE:20260505
SUMMARY:Opportunity Test (Year 4) and Selective Placement Test (Year 6)
CLASS:PUBLIC
X-MICROSOFT-CDO-ALLDAYEVENT:TRUE
DTSTAMP:20260423T144138Z
END:VEVENT
BEGIN:VEVENT
UID:sb_ical_event5446975@sch1595.schoolbytes.cal
DTSTART;VALUE=DATE:20260203
SEQUENCE:0
TRANSP:OPAQUE
DTEND;VALUE=DATE:20260219
SUMMARY:Best Starts for Kindergarten
CLASS:PUBLIC
X-MICROSOFT-CDO-ALLDAYEVENT:TRUE
DTSTAMP:20260423T144138Z
END:VEVENT
BEGIN:VEVENT
UID:sb_ical_event5446983@sch1595.schoolbytes.cal
DTSTART;VALUE=DATE:20260810
SEQUENCE:0
TRANSP:OPAQUE
DTEND;VALUE=DATE:20260829
SUMMARY:Year 1 Phonics Screening Check
CLASS:PUBLIC
X-MICROSOFT-CDO-ALLDAYEVENT:TRUE
DTSTAMP:20260423T144138Z
END:VEVENT
BEGIN:VEVENT
UID:sb_ical_event5446991@sch1595.schoolbytes.cal
DTSTART;VALUE=DATE:20260824
SEQUENCE:0
TRANSP:OPAQUE
DTEND;VALUE=DATE:20260926
SUMMARY:Check-in for Year 3\,4\,5 and 6
CLASS:PUBLIC
X-MICROSOFT-CDO-ALLDAYEVENT:TRUE
DTSTAMP:20260423T144138Z
END:VEVENT
BEGIN:VEVENT
UID:sb_ical_event5447137@sch1595.schoolbytes.cal
DTSTART;VALUE=DATE:20260224
SEQUENCE:0
TRANSP:OPAQUE
DTEND;VALUE=DATE:20260225
SUMMARY:Swimming Carnival
CLASS:PUBLIC
X-MICROSOFT-CDO-ALLDAYEVENT:TRUE
DTSTAMP:20260423T144138Z
END:VEVENT
BEGIN:VEVENT
UID:sb_ical_event5447159@sch1595.schoolbytes.cal
DTSTART;VALUE=DATE:20260210
SEQUENCE:0
TRANSP:OPAQUE
DTEND;VALUE=DATE:20260211
SUMMARY:Chess  Club Commences
CLASS:PUBLIC
X-MICROSOFT-CDO-ALLDAYEVENT:TRUE
DTSTAMP:20260423T144138Z
END:VEVENT
BEGIN:VEVENT
UID:sb_ical_event5447164@sch1595.schoolbytes.cal
DTSTART;VALUE=DATE:20260309
SEQUENCE:0
TRANSP:OPAQUE
DTEND;VALUE=DATE:20260310
SUMMARY:Steps Eye Test for Kindergarten
CLASS:PUBLIC
X-MICROSOFT-CDO-ALLDAYEVENT:TRUE
DTSTAMP:20260423T144138Z
END:VEVENT
BEGIN:VEVENT
UID:sb_ical_event5447166@sch1595.schoolbytes.cal
DTSTART;VALUE=DATE:20260325
SEQUENCE:0
TRANSP:OPAQUE
DTEND;VALUE=DATE:20260326
SUMMARY:Healthy Harold K-2
CLASS:PUBLIC
X-MICROSOFT-CDO-ALLDAYEVENT:TRUE
DTSTAMP:20260423T144138Z
END:VEVENT
BEGIN:VEVENT
UID:sb_ical_event5447169@sch1595.schoolbytes.cal
DTSTART;VALUE=DATE:20260304
SEQUENCE:0
TRANSP:OPAQUE
DTEND;VALUE=DATE:20260305
SUMMARY:Zone Swimming
CLASS:PUBLIC
X-MICROSOFT-CDO-ALLDAYEVENT:TRUE
DTSTAMP:20260423T144138Z
END:VEVENT
BEGIN:VEVENT
UID:sb_ical_event5447189@sch1595.schoolbytes.cal
DTSTART;VALUE=DATE:20260520
SEQUENCE:0
TRANSP:OPAQUE
DTEND;VALUE=DATE:20260521
SUMMARY:Zone Cross Country
CLASS:PUBLIC
X-MICROSOFT-CDO-ALLDAYEVENT:TRUE
DTSTAMP:20260423T144138Z
END:VEVENT
BEGIN:VEVENT
UID:sb_ical_event5447191@sch1595.schoolbytes.cal
DTSTART;VALUE=DATE:20260526
SEQUENCE:0
TRANSP:OPAQUE
DTEND;VALUE=DATE:20260527
SUMMARY:Primary Athletics Carnival
CLASS:PUBLIC
X-MICROSOFT-CDO-ALLDAYEVENT:TRUE
DTSTAMP:20260423T144138Z
END:VEVENT
BEGIN:VEVENT
UID:sb_ical_event5447193@sch1595.schoolbytes.cal
DTSTART;VALUE=DATE:20260602
SEQUENCE:0
TRANSP:OPAQUE
DTEND;VALUE=DATE:20260603
SUMMARY:School Photos
CLASS:PUBLIC
X-MICROSOFT-CDO-ALLDAYEVENT:TRUE
DTSTAMP:20260423T144138Z
END:VEVENT
BEGIN:VEVENT
UID:sb_ical_event5447198@sch1595.schoolbytes.cal
DTSTART;VALUE=DATE:20260609
SEQUENCE:0
TRANSP:OPAQUE
DTEND;VALUE=DATE:20260610
SUMMARY:Extra Curricular School Photos
CLASS:PUBLIC
X-MICROSOFT-CDO-ALLDAYEVENT:TRUE
DTSTAMP:20260423T144138Z
END:VEVENT
BEGIN:VEVENT
UID:sb_ical_event5447202@sch1595.schoolbytes.cal
DTSTART;VALUE=DATE:20260428
SEQUENCE:0
TRANSP:OPAQUE
DTEND;VALUE=DATE:20260429
SUMMARY:Chess Commences
CLASS:PUBLIC
X-MICROSOFT-CDO-ALLDAYEVENT:TRUE
DTSTAMP:20260423T144138Z
END:VEVENT
BEGIN:VEVENT
UID:sb_ical_event5447207@sch1595.schoolbytes.cal
DTSTART;VALUE=DATE:20260819
SEQUENCE:0
TRANSP:OPAQUE
DTEND;VALUE=DATE:20260820
SUMMARY:Zone Athletics Carnival
CLASS:PUBLIC
X-MICROSOFT-CDO-ALLDAYEVENT:TRUE
DTSTAMP:20260423T144138Z
END:VEVENT
BEGIN:VEVENT
UID:sb_ical_event5447209@sch1595.schoolbytes.cal
DTSTART;VALUE=DATE:20260909
SEQUENCE:0
TRANSP:OPAQUE
DTEND;VALUE=DATE:20260912
SUMMARY:Stage 3 Camp
CLASS:PUBLIC
X-MICROSOFT-CDO-ALLDAYEVENT:TRUE
DTSTAMP:20260423T144138Z
END:VEVENT
BEGIN:VEVENT
UID:sb_ical_event5447213@sch1595.schoolbytes.cal
DTSTART;VALUE=DATE:20260922
SEQUENCE:0
TRANSP:OPAQUE
DTEND;VALUE=DATE:20260923
SUMMARY:Chess Club finishes
CLASS:PUBLIC
X-MICROSOFT-CDO-ALLDAYEVENT:TRUE
DTSTAMP:20260423T144138Z
END:VEVENT
BEGIN:VEVENT
UID:sb_ical_event5447226@sch1595.schoolbytes.cal
DTSTART;VALUE=DATE:20261013
SEQUENCE:0
TRANSP:OPAQUE
DTEND;VALUE=DATE:20261014
SUMMARY:Chess Commences
CLASS:PUBLIC
X-MICROSOFT-CDO-ALLDAYEVENT:TRUE
DTSTAMP:20260423T144138Z
END:VEVENT
BEGIN:VEVENT
UID:sb_ical_event5447227@sch1595.schoolbytes.cal
DTSTART;VALUE=DATE:20261215
SEQUENCE:0
TRANSP:OPAQUE
DTEND;VALUE=DATE:20261216
SUMMARY:Chess concludes
CLASS:PUBLIC
X-MICROSOFT-CDO-ALLDAYEVENT:TRUE
DTSTAMP:20260423T144138Z
END:VEVENT
BEGIN:VEVENT
UID:sb_ical_event5447229@sch1595.schoolbytes.cal
DTSTART;VALUE=DATE:20251210
SEQUENCE:0
TRANSP:OPAQUE
DTEND;VALUE=DATE:20251211
SUMMARY:K-2 Christmas Concert
CLASS:PUBLIC
X-MICROSOFT-CDO-ALLDAYEVENT:TRUE
DTSTAMP:20260423T144138Z
END:VEVENT
BEGIN:VEVENT
UID:sb_ical_event5447542@sch1595.schoolbytes.cal
DTSTART;VALUE=DATE:20251219
SEQUENCE:0
TRANSP:OPAQUE
DTEND;VALUE=DATE:20251220
SUMMARY:Year 6 Graduation Ceremony
CLASS:PUBLIC
X-MICROSOFT-CDO-ALLDAYEVENT:TRUE
DTSTAMP:20260423T144138Z
END:VEVENT
BEGIN:VEVENT
UID:sb_ical_event5447555@sch1595.schoolbytes.cal
DTSTART;VALUE=DATE:20251218
SEQUENCE:0
TRANSP:OPAQUE
DTEND;VALUE=DATE:20251219
SUMMARY:Year 6 Surfing Day
CLASS:PUBLIC
X-MICROSOFT-CDO-ALLDAYEVENT:TRUE
DTSTAMP:20260423T144138Z
END:VEVENT
BEGIN:VEVENT
UID:sb_ical_event5447559@sch1595.schoolbytes.cal
DTSTART;VALUE=DATE:20251217
SEQUENCE:0
TRANSP:OPAQUE
DTEND;VALUE=DATE:20251218
SUMMARY:K-2 Fun Day
CLASS:PUBLIC
X-MICROSOFT-CDO-ALLDAYEVENT:TRUE
DTSTAMP:20260423T144138Z
END:VEVENT
BEGIN:VEVENT
UID:sb_ical_event5447560@sch1595.schoolbytes.cal
DTSTART;VALUE=DATE:20251217
SEQUENCE:0
TRANSP:OPAQUE
DTEND;VALUE=DATE:20251218
SUMMARY:Year 6 Farewell
CLASS:PUBLIC
X-MICROSOFT-CDO-ALLDAYEVENT:TRUE
DTSTAMP:20260423T144138Z
END:VEVENT
BEGIN:VEVENT
UID:sb_ical_event5447564@sch1595.schoolbytes.cal
DTSTART;VALUE=DATE:20251216
SEQUENCE:0
TRANSP:OPAQUE
DTEND;VALUE=DATE:20251217
SUMMARY:Years 3-5 Fun Day
CLASS:PUBLIC
X-MICROSOFT-CDO-ALLDAYEVENT:TRUE
DTSTAMP:20260423T144138Z
END:VEVENT
BEGIN:VEVENT
UID:sb_ical_event5447571@sch1595.schoolbytes.cal
DTSTART;VALUE=DATE:20251215
SEQUENCE:0
TRANSP:OPAQUE
DTEND;VALUE=DATE:20251216
SUMMARY:Year 6 Taste of High School
CLASS:PUBLIC
X-MICROSOFT-CDO-ALLDAYEVENT:TRUE
DTSTAMP:20260423T144138Z
END:VEVENT
BEGIN:VEVENT
UID:sb_ical_event5447595@sch1595.schoolbytes.cal
DTSTART;VALUE=DATE:20251212
SEQUENCE:0
TRANSP:OPAQUE
DTEND;VALUE=DATE:20251213
SUMMARY:Presentation Day
CLASS:PUBLIC
X-MICROSOFT-CDO-ALLDAYEVENT:TRUE
DTSTAMP:20260423T144138Z
END:VEVENT
BEGIN:VEVENT
UID:sb_ical_event5447646@sch1595.schoolbytes.cal
DTSTART;VALUE=DATE:20251205
SEQUENCE:0
TRANSP:OPAQUE
DTEND;VALUE=DATE:20251206
SUMMARY:K-6 School Assembly
CLASS:PUBLIC
X-MICROSOFT-CDO-ALLDAYEVENT:TRUE
DTSTAMP:20260423T144138Z
END:VEVENT
BEGIN:VEVENT
UID:sb_ical_event5447656@sch1595.schoolbytes.cal
DTSTART;VALUE=DATE:20251204
SEQUENCE:0
TRANSP:OPAQUE
DTEND;VALUE=DATE:20251205
SUMMARY:Kindergarten Incursion
CLASS:PUBLIC
DESCRIPTION:Bush Christmas
X-MICROSOFT-CDO-ALLDAYEVENT:TRUE
DTSTAMP:20260423T144138Z
END:VEVENT
BEGIN:VEVENT
UID:sb_ical_event5447675@sch1595.schoolbytes.cal
DTSTART;VALUE=DATE:20251203
SEQUENCE:0
TRANSP:OPAQUE
DTEND;VALUE=DATE:20251204
SUMMARY:Years 2-3 Transition
CLASS:PUBLIC
X-MICROSOFT-CDO-ALLDAYEVENT:TRUE
DTSTAMP:20260423T144138Z
END:VEVENT
BEGIN:VEVENT
UID:sb_ical_event5447680@sch1595.schoolbytes.cal
DTSTART;VALUE=DATE:20251128
SEQUENCE:0
TRANSP:OPAQUE
DTEND;VALUE=DATE:20251129
SUMMARY:Years 3-6 PSSA & School Sport
CLASS:PUBLIC
X-MICROSOFT-CDO-ALLDAYEVENT:TRUE
DTSTAMP:20260423T144138Z
END:VEVENT
BEGIN:VEVENT
UID:sb_ical_event5447684@sch1595.schoolbytes.cal
DTSTART;VALUE=DATE:20251126
SEQUENCE:0
TRANSP:OPAQUE
DTEND;VALUE=DATE:20251127
SUMMARY:School Spirit Day
CLASS:PUBLIC
X-MICROSOFT-CDO-ALLDAYEVENT:TRUE
DTSTAMP:20260423T144138Z
END:VEVENT
BEGIN:VEVENT
UID:sb_ical_event5447687@sch1595.schoolbytes.cal
DTSTART;VALUE=DATE:20251121
SEQUENCE:0
TRANSP:OPAQUE
DTEND;VALUE=DATE:20251122
SUMMARY:Years 3-6 PSSA & School Sport
CLASS:PUBLIC
X-MICROSOFT-CDO-ALLDAYEVENT:TRUE
DTSTAMP:20260423T144138Z
END:VEVENT
BEGIN:VEVENT
UID:sb_ical_event5447697@sch1595.schoolbytes.cal
DTSTART;VALUE=DATE:20251121
SEQUENCE:0
TRANSP:OPAQUE
DTEND;VALUE=DATE:20251122
SUMMARY:Years K - 6 Assembly
CLASS:PUBLIC
X-MICROSOFT-CDO-ALLDAYEVENT:TRUE
DTSTAMP:20260423T144138Z
END:VEVENT
BEGIN:VEVENT
UID:sb_ical_event5447701@sch1595.schoolbytes.cal
DTSTART;VALUE=DATE:20251120
SEQUENCE:0
TRANSP:OPAQUE
DTEND;VALUE=DATE:20251121
SUMMARY:Kindy Transition Session
CLASS:PUBLIC
DESCRIPTION:Surnames L - Z
X-MICROSOFT-CDO-ALLDAYEVENT:TRUE
DTSTAMP:20260423T144138Z
END:VEVENT
BEGIN:VEVENT
UID:sb_ical_event5447704@sch1595.schoolbytes.cal
DTSTART;VALUE=DATE:20251119
SEQUENCE:0
TRANSP:OPAQUE
DTEND;VALUE=DATE:20251120
SUMMARY:Kindy Transition Session
CLASS:PUBLIC
DESCRIPTION:Surnames A - K
X-MICROSOFT-CDO-ALLDAYEVENT:TRUE
DTSTAMP:20260423T144138Z
END:VEVENT
BEGIN:VEVENT
UID:sb_ical_event5447712@sch1595.schoolbytes.cal
DTSTART;VALUE=DATE:20251118
SEQUENCE:0
TRANSP:OPAQUE
DTEND;VALUE=DATE:20251119
SUMMARY:GATE Ways Maths Extension
CLASS:PUBLIC
X-MICROSOFT-CDO-ALLDAYEVENT:TRUE
DTSTAMP:20260423T144138Z
END:VEVENT
BEGIN:VEVENT
UID:sb_ical_event5447720@sch1595.schoolbytes.cal
DTSTART;VALUE=DATE:20251114
SEQUENCE:0
TRANSP:OPAQUE
DTEND;VALUE=DATE:20251115
SUMMARY:Years 3-6 PSSA & School Sport
CLASS:PUBLIC
X-MICROSOFT-CDO-ALLDAYEVENT:TRUE
DTSTAMP:20260423T144138Z
END:VEVENT
BEGIN:VEVENT
UID:sb_ical_event5447724@sch1595.schoolbytes.cal
DTSTART;VALUE=DATE:20251114
SEQUENCE:0
TRANSP:OPAQUE
DTEND;VALUE=DATE:20251115
SUMMARY:World Diabetes Day
CLASS:PUBLIC
X-MICROSOFT-CDO-ALLDAYEVENT:TRUE
DTSTAMP:20260423T144138Z
END:VEVENT
BEGIN:VEVENT
UID:sb_ical_event5447730@sch1595.schoolbytes.cal
DTSTART;VALUE=DATE:20251112
SEQUENCE:0
TRANSP:OPAQUE
DTEND;VALUE=DATE:20251113
SUMMARY:Kindergarten Information Evening
CLASS:PUBLIC
X-MICROSOFT-CDO-ALLDAYEVENT:TRUE
DTSTAMP:20260423T144138Z
END:VEVENT
BEGIN:VEVENT
UID:sb_ical_event5447731@sch1595.schoolbytes.cal
DTSTART;VALUE=DATE:20251112
SEQUENCE:0
TRANSP:OPAQUE
DTEND;VALUE=DATE:20251113
SUMMARY:K-2 Athletics Carnival
CLASS:PUBLIC
X-MICROSOFT-CDO-ALLDAYEVENT:TRUE
DTSTAMP:20260423T144138Z
END:VEVENT
BEGIN:VEVENT
UID:sb_ical_event5447739@sch1595.schoolbytes.cal
DTSTART;VALUE=DATE:20251111
SEQUENCE:0
TRANSP:OPAQUE
DTEND;VALUE=DATE:20251112
SUMMARY:Remembrance Day
CLASS:PUBLIC
X-MICROSOFT-CDO-ALLDAYEVENT:TRUE
DTSTAMP:20260423T144138Z
END:VEVENT
BEGIN:VEVENT
UID:sb_ical_event5447744@sch1595.schoolbytes.cal
DTSTART;VALUE=DATE:20251110
SEQUENCE:0
TRANSP:OPAQUE
DTEND;VALUE=DATE:20251111
SUMMARY:School Band Expo
CLASS:PUBLIC
X-MICROSOFT-CDO-ALLDAYEVENT:TRUE
DTSTAMP:20260423T144138Z
END:VEVENT
BEGIN:VEVENT
UID:sb_ical_event5447749@sch1595.schoolbytes.cal
DTSTART;VALUE=DATE:20251107
SEQUENCE:0
TRANSP:OPAQUE
DTEND;VALUE=DATE:20251108
SUMMARY:Years 3-6 PSSA & School Sport
CLASS:PUBLIC
X-MICROSOFT-CDO-ALLDAYEVENT:TRUE
DTSTAMP:20260423T144138Z
END:VEVENT
BEGIN:VEVENT
UID:sb_ical_event5447752@sch1595.schoolbytes.cal
DTSTART;VALUE=DATE:20251107
SEQUENCE:0
TRANSP:OPAQUE
DTEND;VALUE=DATE:20251108
SUMMARY:K-6 School Assembly
CLASS:PUBLIC
X-MICROSOFT-CDO-ALLDAYEVENT:TRUE
DTSTAMP:20260423T144138Z
END:VEVENT
BEGIN:VEVENT
UID:sb_ical_event5447759@sch1595.schoolbytes.cal
DTSTART;VALUE=DATE:20251105
SEQUENCE:0
TRANSP:OPAQUE
DTEND;VALUE=DATE:20251106
SUMMARY:Grandparents Day
CLASS:PUBLIC
X-MICROSOFT-CDO-ALLDAYEVENT:TRUE
DTSTAMP:20260423T144138Z
END:VEVENT
BEGIN:VEVENT
UID:sb_ical_event5447762@sch1595.schoolbytes.cal
DTSTART;VALUE=DATE:20251104
SEQUENCE:0
TRANSP:OPAQUE
DTEND;VALUE=DATE:20251105
SUMMARY:MND Fundraiser
CLASS:PUBLIC
X-MICROSOFT-CDO-ALLDAYEVENT:TRUE
DTSTAMP:20260423T144138Z
END:VEVENT
BEGIN:VEVENT
UID:sb_ical_event5447764@sch1595.schoolbytes.cal
DTSTART;VALUE=DATE:20251031
SEQUENCE:0
TRANSP:OPAQUE
DTEND;VALUE=DATE:20251101
SUMMARY:Years 3-6 PSSA & School Sport
CLASS:PUBLIC
X-MICROSOFT-CDO-ALLDAYEVENT:TRUE
DTSTAMP:20260423T144138Z
END:VEVENT
BEGIN:VEVENT
UID:sb_ical_event5447770@sch1595.schoolbytes.cal
DTSTART;VALUE=DATE:20251031
SEQUENCE:0
TRANSP:OPAQUE
DTEND;VALUE=DATE:20251101
SUMMARY:Stage 1 Excursion
CLASS:PUBLIC
DESCRIPTION:Vaucluse House
X-MICROSOFT-CDO-ALLDAYEVENT:TRUE
DTSTAMP:20260423T144138Z
END:VEVENT
BEGIN:VEVENT
UID:sb_ical_event5447788@sch1595.schoolbytes.cal
DTSTART;VALUE=DATE:20251030
SEQUENCE:0
TRANSP:OPAQUE
DTEND;VALUE=DATE:20251031
SUMMARY:Halloween Disco
CLASS:PUBLIC
X-MICROSOFT-CDO-ALLDAYEVENT:TRUE
DTSTAMP:20260423T144138Z
END:VEVENT
BEGIN:VEVENT
UID:sb_ical_event5447791@sch1595.schoolbytes.cal
DTSTART;VALUE=DATE:20251024
SEQUENCE:0
TRANSP:OPAQUE
DTEND;VALUE=DATE:20251025
SUMMARY:Years 3-6 PSSA & School Sport
CLASS:PUBLIC
X-MICROSOFT-CDO-ALLDAYEVENT:TRUE
DTSTAMP:20260423T144138Z
END:VEVENT
BEGIN:VEVENT
UID:sb_ical_event5447800@sch1595.schoolbytes.cal
DTSTART;VALUE=DATE:20251023
SEQUENCE:0
TRANSP:OPAQUE
DTEND;VALUE=DATE:20251024
SUMMARY:Musica Viva K-6 Performance
CLASS:PUBLIC
X-MICROSOFT-CDO-ALLDAYEVENT:TRUE
DTSTAMP:20260423T144138Z
END:VEVENT
BEGIN:VEVENT
UID:sb_ical_event5447803@sch1595.schoolbytes.cal
DTSTART;VALUE=DATE:20251014
SEQUENCE:0
TRANSP:OPAQUE
DTEND;VALUE=DATE:20251015
SUMMARY:Stage 2 Camp
CLASS:PUBLIC
X-MICROSOFT-CDO-ALLDAYEVENT:TRUE
DTSTAMP:20260423T144138Z
END:VEVENT
BEGIN:VEVENT
UID:sb_ical_event5716178@sch1595.schoolbytes.cal
DTSTART:20260204T211500Z
SEQUENCE:0
TRANSP:OPAQUE
DTEND:20260204T214500Z
SUMMARY:Choir 3-6
CLASS:PUBLIC
DESCRIPTION:Come and sing learn a repertoire to sing at Primary Proms.
DTSTAMP:20260423T144138Z
END:VEVENT
BEGIN:VEVENT
UID:sb_ical_event5716179@sch1595.schoolbytes.cal
DTSTART:20260211T211500Z
SEQUENCE:0
TRANSP:OPAQUE
DTEND:20260211T214500Z
SUMMARY:Choir 3-6
CLASS:PUBLIC
DESCRIPTION:Come and sing learn a repertoire to sing at Primary Proms.
DTSTAMP:20260423T144138Z
END:VEVENT
BEGIN:VEVENT
UID:sb_ical_event5716180@sch1595.schoolbytes.cal
DTSTART:20260218T211500Z
SEQUENCE:0
TRANSP:OPAQUE
DTEND:20260218T214500Z
SUMMARY:Choir 3-6
CLASS:PUBLIC
DESCRIPTION:Come and sing learn a repertoire to sing at Primary Proms.
DTSTAMP:20260423T144138Z
END:VEVENT
BEGIN:VEVENT
UID:sb_ical_event5716181@sch1595.schoolbytes.cal
DTSTART:20260225T211500Z
SEQUENCE:0
TRANSP:OPAQUE
DTEND:20260225T214500Z
SUMMARY:Choir 3-6
CLASS:PUBLIC
DESCRIPTION:Come and sing learn a repertoire to sing at Primary Proms.
DTSTAMP:20260423T144138Z
END:VEVENT
BEGIN:VEVENT
UID:sb_ical_event5716182@sch1595.schoolbytes.cal
DTSTART:20260304T211500Z
SEQUENCE:0
TRANSP:OPAQUE
DTEND:20260304T214500Z
SUMMARY:Choir 3-6
CLASS:PUBLIC
DESCRIPTION:Come and sing learn a repertoire to sing at Primary Proms.
DTSTAMP:20260423T144138Z
END:VEVENT
BEGIN:VEVENT
UID:sb_ical_event5716183@sch1595.schoolbytes.cal
DTSTART:20260311T211500Z
SEQUENCE:0
TRANSP:OPAQUE
DTEND:20260311T214500Z
SUMMARY:Choir 3-6
CLASS:PUBLIC
DESCRIPTION:Come and sing learn a repertoire to sing at Primary Proms.
DTSTAMP:20260423T144138Z
END:VEVENT
BEGIN:VEVENT
UID:sb_ical_event5716184@sch1595.schoolbytes.cal
DTSTART:20260318T211500Z
SEQUENCE:0
TRANSP:OPAQUE
DTEND:20260318T214500Z
SUMMARY:Choir 3-6
CLASS:PUBLIC
DESCRIPTION:Come and sing learn a repertoire to sing at Primary Proms.
DTSTAMP:20260423T144138Z
END:VEVENT
BEGIN:VEVENT
UID:sb_ical_event5716185@sch1595.schoolbytes.cal
DTSTART:20260325T211500Z
SEQUENCE:0
TRANSP:OPAQUE
DTEND:20260325T214500Z
SUMMARY:Choir 3-6
CLASS:PUBLIC
DESCRIPTION:Come and sing learn a repertoire to sing at Primary Proms.
DTSTAMP:20260423T144138Z
END:VEVENT
BEGIN:VEVENT
UID:sb_ical_event5716445@sch1595.schoolbytes.cal
DTSTART;VALUE=DATE:20260206
SEQUENCE:0
TRANSP:OPAQUE
DTEND;VALUE=DATE:20260207
SUMMARY:K-2 Choir
CLASS:PUBLIC
DESCRIPTION:Come and sing
X-MICROSOFT-CDO-ALLDAYEVENT:TRUE
DTSTAMP:20260423T144138Z
END:VEVENT
BEGIN:VEVENT
UID:sb_ical_event5716446@sch1595.schoolbytes.cal
DTSTART;VALUE=DATE:20260213
SEQUENCE:0
TRANSP:OPAQUE
DTEND;VALUE=DATE:20260214
SUMMARY:K-2 Choir
CLASS:PUBLIC
DESCRIPTION:Come and sing
X-MICROSOFT-CDO-ALLDAYEVENT:TRUE
DTSTAMP:20260423T144138Z
END:VEVENT
BEGIN:VEVENT
UID:sb_ical_event5716447@sch1595.schoolbytes.cal
DTSTART;VALUE=DATE:20260220
SEQUENCE:0
TRANSP:OPAQUE
DTEND;VALUE=DATE:20260221
SUMMARY:K-2 Choir
CLASS:PUBLIC
DESCRIPTION:Come and sing
X-MICROSOFT-CDO-ALLDAYEVENT:TRUE
DTSTAMP:20260423T144138Z
END:VEVENT
BEGIN:VEVENT
UID:sb_ical_event5716448@sch1595.schoolbytes.cal
DTSTART;VALUE=DATE:20260227
SEQUENCE:0
TRANSP:OPAQUE
DTEND;VALUE=DATE:20260228
SUMMARY:K-2 Choir
CLASS:PUBLIC
DESCRIPTION:Come and sing
X-MICROSOFT-CDO-ALLDAYEVENT:TRUE
DTSTAMP:20260423T144138Z
END:VEVENT
BEGIN:VEVENT
UID:sb_ical_event5716449@sch1595.schoolbytes.cal
DTSTART;VALUE=DATE:20260306
SEQUENCE:0
TRANSP:OPAQUE
DTEND;VALUE=DATE:20260307
SUMMARY:K-2 Choir
CLASS:PUBLIC
DESCRIPTION:Come and sing
X-MICROSOFT-CDO-ALLDAYEVENT:TRUE
DTSTAMP:20260423T144138Z
END:VEVENT
BEGIN:VEVENT
UID:sb_ical_event5716450@sch1595.schoolbytes.cal
DTSTART;VALUE=DATE:20260313
SEQUENCE:0
TRANSP:OPAQUE
DTEND;VALUE=DATE:20260314
SUMMARY:K-2 Choir
CLASS:PUBLIC
DESCRIPTION:Come and sing
X-MICROSOFT-CDO-ALLDAYEVENT:TRUE
DTSTAMP:20260423T144138Z
END:VEVENT
BEGIN:VEVENT
UID:sb_ical_event5716451@sch1595.schoolbytes.cal
DTSTART;VALUE=DATE:20260320
SEQUENCE:0
TRANSP:OPAQUE
DTEND;VALUE=DATE:20260321
SUMMARY:K-2 Choir
CLASS:PUBLIC
DESCRIPTION:Come and sing
X-MICROSOFT-CDO-ALLDAYEVENT:TRUE
DTSTAMP:20260423T144138Z
END:VEVENT
BEGIN:VEVENT
UID:sb_ical_event5716452@sch1595.schoolbytes.cal
DTSTART;VALUE=DATE:20260327
SEQUENCE:0
TRANSP:OPAQUE
DTEND;VALUE=DATE:20260328
SUMMARY:K-2 Choir
CLASS:PUBLIC
DESCRIPTION:Come and sing
X-MICROSOFT-CDO-ALLDAYEVENT:TRUE
DTSTAMP:20260423T144138Z
END:VEVENT
END:VCALENDAR