BEGIN:VCALENDAR
VERSION:2.0
PRODID://School Bytes School Calendar//
X-WR-CALNAME:Gwynneville Public School - School Events Calendar
X-WR-RELCALID:sb_ical9540@sch494.schoolbytes.cal
X-PUBLISHED-TTL:PT1H
BEGIN:VEVENT
UID:sb_ical_event5375232@sch494.schoolbytes.cal
DTSTART:20251105T223000Z
SEQUENCE:0
TRANSP:OPAQUE
DTEND:20251106T010000Z
SUMMARY:Kindergarten 2026 Orientation
CLASS:PUBLIC
DTSTAMP:20260425T080612Z
END:VEVENT
BEGIN:VEVENT
UID:sb_ical_event5375238@sch494.schoolbytes.cal
DTSTART:20251112T223000Z
SEQUENCE:0
TRANSP:OPAQUE
DTEND:20251113T010000Z
SUMMARY:Kindergarten 2026 Orientation
CLASS:PUBLIC
DTSTAMP:20260425T080612Z
END:VEVENT
BEGIN:VEVENT
UID:sb_ical_event5375239@sch494.schoolbytes.cal
DTSTART:20251106T150000Z
SEQUENCE:0
TRANSP:OPAQUE
DTEND:20251106T160000Z
SUMMARY:Assembly - Stage 2
CLASS:PUBLIC
DTSTAMP:20260425T080612Z
END:VEVENT
BEGIN:VEVENT
UID:sb_ical_event5375245@sch494.schoolbytes.cal
DTSTART;VALUE=DATE:20251107
SEQUENCE:0
TRANSP:OPAQUE
DTEND;VALUE=DATE:20251108
SUMMARY:Spelling Bee State Final
CLASS:PUBLIC
X-MICROSOFT-CDO-ALLDAYEVENT:TRUE
DTSTAMP:20260425T080612Z
END:VEVENT
BEGIN:VEVENT
UID:sb_ical_event5375253@sch494.schoolbytes.cal
DTSTART;VALUE=DATE:20251110
SEQUENCE:0
TRANSP:OPAQUE
DTEND;VALUE=DATE:20251122
SUMMARY:Swimming School
CLASS:PUBLIC
X-MICROSOFT-CDO-ALLDAYEVENT:TRUE
DTSTAMP:20260425T080612Z
END:VEVENT
BEGIN:VEVENT
UID:sb_ical_event5375264@sch494.schoolbytes.cal
DTSTART;VALUE=DATE:20251113
SEQUENCE:0
TRANSP:OPAQUE
DTEND;VALUE=DATE:20251114
SUMMARY:Science Fair - Year 6
CLASS:PUBLIC
X-MICROSOFT-CDO-ALLDAYEVENT:TRUE
DTSTAMP:20260425T080612Z
END:VEVENT
BEGIN:VEVENT
UID:sb_ical_event5375270@sch494.schoolbytes.cal
DTSTART;VALUE=DATE:20251114
SEQUENCE:0
TRANSP:OPAQUE
DTEND;VALUE=DATE:20251115
SUMMARY:P&C Colour Run
CLASS:PUBLIC
X-MICROSOFT-CDO-ALLDAYEVENT:TRUE
DTSTAMP:20260425T080612Z
END:VEVENT
BEGIN:VEVENT
UID:sb_ical_event5375285@sch494.schoolbytes.cal
DTSTART;VALUE=DATE:20251121
SEQUENCE:0
TRANSP:OPAQUE
DTEND;VALUE=DATE:20251122
SUMMARY:Assembly- Stage 1
CLASS:PUBLIC
X-MICROSOFT-CDO-ALLDAYEVENT:TRUE
DTSTAMP:20260425T080612Z
END:VEVENT
BEGIN:VEVENT
UID:sb_ical_event5375380@sch494.schoolbytes.cal
DTSTART:20251127T223000Z
SEQUENCE:0
TRANSP:OPAQUE
DTEND:20251127T233000Z
SUMMARY:Year 5 Captains Speeches
CLASS:PUBLIC
DTSTAMP:20260425T080612Z
END:VEVENT
BEGIN:VEVENT
UID:sb_ical_event5375403@sch494.schoolbytes.cal
DTSTART:20251204T150000Z
SEQUENCE:0
TRANSP:OPAQUE
DTEND:20251205T040000Z
SUMMARY:Assembly - 2/3 Green
CLASS:PUBLIC
DTSTAMP:20260425T080612Z
END:VEVENT
BEGIN:VEVENT
UID:sb_ical_event5375426@sch494.schoolbytes.cal
DTSTART;VALUE=DATE:20251202
SEQUENCE:0
TRANSP:OPAQUE
DTEND;VALUE=DATE:20251203
SUMMARY:Year 6 to 7 High School Orientation
CLASS:PUBLIC
DESCRIPTION:Government High Schools
X-MICROSOFT-CDO-ALLDAYEVENT:TRUE
DTSTAMP:20260425T080612Z
END:VEVENT
BEGIN:VEVENT
UID:sb_ical_event5375434@sch494.schoolbytes.cal
DTSTART;VALUE=DATE:20251208
SEQUENCE:0
TRANSP:OPAQUE
DTEND;VALUE=DATE:20251209
SUMMARY:Stage 3 -  Excursion Luna Park
CLASS:PUBLIC
X-MICROSOFT-CDO-ALLDAYEVENT:TRUE
DTSTAMP:20260425T080612Z
END:VEVENT
BEGIN:VEVENT
UID:sb_ical_event5375459@sch494.schoolbytes.cal
DTSTART:20251029T223000Z
SEQUENCE:0
TRANSP:OPAQUE
DTEND:20251030T010000Z
SUMMARY:Kindergarten 2026 Orientation
CLASS:PUBLIC
DTSTAMP:20260425T080612Z
END:VEVENT
BEGIN:VEVENT
UID:sb_ical_event5375462@sch494.schoolbytes.cal
DTSTART:20251023T233000Z
SEQUENCE:0
TRANSP:OPAQUE
DTEND:20251024T000000Z
SUMMARY:Grandparents Day
CLASS:PUBLIC
DTSTAMP:20260425T080612Z
END:VEVENT
BEGIN:VEVENT
UID:sb_ical_event5375617@sch494.schoolbytes.cal
DTSTART;VALUE=DATE:20251023
SEQUENCE:0
TRANSP:OPAQUE
DTEND;VALUE=DATE:20251024
SUMMARY:Olympians Visit 3-6
CLASS:PUBLIC
X-MICROSOFT-CDO-ALLDAYEVENT:TRUE
DTSTAMP:20260425T080612Z
END:VEVENT
BEGIN:VEVENT
UID:sb_ical_event5375622@sch494.schoolbytes.cal
DTSTART;VALUE=DATE:20251021
SEQUENCE:0
TRANSP:OPAQUE
DTEND;VALUE=DATE:20251022
SUMMARY:Kindergarten Excursion - Kiama
CLASS:PUBLIC
X-MICROSOFT-CDO-ALLDAYEVENT:TRUE
DTSTAMP:20260425T080612Z
END:VEVENT
BEGIN:VEVENT
UID:sb_ical_event5375706@sch494.schoolbytes.cal
DTSTART;VALUE=DATE:20251020
SEQUENCE:0
TRANSP:OPAQUE
DTEND;VALUE=DATE:20251021
SUMMARY:Stage 1 Excursion - Blue Mile
CLASS:PUBLIC
X-MICROSOFT-CDO-ALLDAYEVENT:TRUE
DTSTAMP:20260425T080612Z
END:VEVENT
BEGIN:VEVENT
UID:sb_ical_event5375717@sch494.schoolbytes.cal
DTSTART;VALUE=DATE:20251013
SEQUENCE:0
TRANSP:OPAQUE
DTEND;VALUE=DATE:20251014
SUMMARY:Staff Development Day
CLASS:PUBLIC
X-MICROSOFT-CDO-ALLDAYEVENT:TRUE
DTSTAMP:20260425T080612Z
END:VEVENT
BEGIN:VEVENT
UID:sb_ical_event5375735@sch494.schoolbytes.cal
DTSTART:20251210T223000Z
SEQUENCE:0
TRANSP:OPAQUE
DTEND:20251211T000000Z
SUMMARY:K-6 Presentation Day
CLASS:PUBLIC
DTSTAMP:20260425T080612Z
END:VEVENT
BEGIN:VEVENT
UID:sb_ical_event5375756@sch494.schoolbytes.cal
DTSTART;VALUE=DATE:20251217
SEQUENCE:0
TRANSP:OPAQUE
DTEND;VALUE=DATE:20251218
SUMMARY:Stage 3 Play
CLASS:PUBLIC
X-MICROSOFT-CDO-ALLDAYEVENT:TRUE
DTSTAMP:20260425T080612Z
END:VEVENT
BEGIN:VEVENT
UID:sb_ical_event5375763@sch494.schoolbytes.cal
DTSTART:20251217T190000Z
SEQUENCE:0
TRANSP:OPAQUE
DTEND:20251218T090000Z
SUMMARY:Year 6 Farewell Dinner
CLASS:PUBLIC
DTSTAMP:20260425T080612Z
END:VEVENT
BEGIN:VEVENT
UID:sb_ical_event5375771@sch494.schoolbytes.cal
DTSTART:20251219T040000Z
SEQUENCE:0
TRANSP:OPAQUE
DTEND:20251219T041000Z
SUMMARY:Year 6 Guard of Honour
CLASS:PUBLIC
DTSTAMP:20260425T080612Z
END:VEVENT
BEGIN:VEVENT
UID:sb_ical_event5425041@sch494.schoolbytes.cal
DTSTART;VALUE=DATE:20251210
SEQUENCE:0
TRANSP:OPAQUE
DTEND;VALUE=DATE:20251211
SUMMARY:Honours morning tea
CLASS:PUBLIC
X-MICROSOFT-CDO-ALLDAYEVENT:TRUE
DTSTAMP:20260425T080612Z
END:VEVENT
BEGIN:VEVENT
UID:sb_ical_event5493150@sch494.schoolbytes.cal
DTSTART:20251212T010000Z
SEQUENCE:0
TRANSP:OPAQUE
DTEND:20251212T022500Z
SUMMARY:Talent Show
CLASS:PUBLIC
DTSTAMP:20260425T080612Z
END:VEVENT
BEGIN:VEVENT
UID:sb_ical_event5425046@sch494.schoolbytes.cal
DTSTART;VALUE=DATE:20251215
SEQUENCE:0
TRANSP:OPAQUE
DTEND;VALUE=DATE:20251216
SUMMARY:K-2 End of Year Fun Day
CLASS:PUBLIC
X-MICROSOFT-CDO-ALLDAYEVENT:TRUE
DTSTAMP:20260425T080612Z
END:VEVENT
BEGIN:VEVENT
UID:sb_ical_event5425048@sch494.schoolbytes.cal
DTSTART;VALUE=DATE:20251215
SEQUENCE:0
TRANSP:OPAQUE
DTEND;VALUE=DATE:20251216
SUMMARY:Stage 2 End of Year Fun Day
CLASS:PUBLIC
DESCRIPTION:Lawn Bowls and Picnic
X-MICROSOFT-CDO-ALLDAYEVENT:TRUE
DTSTAMP:20260425T080612Z
END:VEVENT
BEGIN:VEVENT
UID:sb_ical_event5425111@sch494.schoolbytes.cal
DTSTART;VALUE=DATE:20260127
SEQUENCE:0
TRANSP:OPAQUE
DTEND;VALUE=DATE:20260131
SUMMARY:Staff Development Days
CLASS:PUBLIC
DESCRIPTION:Staff only
X-MICROSOFT-CDO-ALLDAYEVENT:TRUE
DTSTAMP:20260425T080612Z
END:VEVENT
BEGIN:VEVENT
UID:sb_ical_event5425154@sch494.schoolbytes.cal
DTSTART;VALUE=DATE:20260202
SEQUENCE:0
TRANSP:OPAQUE
DTEND;VALUE=DATE:20260203
SUMMARY:K-6 students commence
CLASS:PUBLIC
X-MICROSOFT-CDO-ALLDAYEVENT:TRUE
DTSTAMP:20260425T080612Z
END:VEVENT
BEGIN:VEVENT
UID:sb_ical_event5425157@sch494.schoolbytes.cal
DTSTART;VALUE=DATE:20260205
SEQUENCE:0
TRANSP:OPAQUE
DTEND;VALUE=DATE:20260206
SUMMARY:Swimming Carnival
CLASS:PUBLIC
DESCRIPTION:For students 8+ that can swim 50m confidently.
X-MICROSOFT-CDO-ALLDAYEVENT:TRUE
DTSTAMP:20260425T080612Z
END:VEVENT
BEGIN:VEVENT
UID:sb_ical_event5996867@sch494.schoolbytes.cal
DTSTART:20260215T214000Z
SEQUENCE:0
TRANSP:OPAQUE
DTEND:20260215T221000Z
SUMMARY:Meet and Greet Parent/Carer Information Session - Stage 3
CLASS:PUBLIC
DESCRIPTION:Stage 3 \n5 Indigo - Mrs Tsaparlias\n5/6 Maroon - Mr Burns\n6 P
 urple - Mrs Eshman
DTSTAMP:20260425T080612Z
END:VEVENT
BEGIN:VEVENT
UID:sb_ical_event5997020@sch494.schoolbytes.cal
DTSTART:20260216T214000Z
SEQUENCE:0
TRANSP:OPAQUE
DTEND:20260216T221000Z
SUMMARY:Meet and Greet Parent/Carer Information Sessions - Stage 2
CLASS:PUBLIC
DESCRIPTION:Stage 2\n3 Lime - Mrs Hogan\n3/4 Brown - Miss Nelson\n4 Orange 
 - Mrs Kelly/Mrs Ellison
DTSTAMP:20260425T080612Z
END:VEVENT
BEGIN:VEVENT
UID:sb_ical_event5997289@sch494.schoolbytes.cal
DTSTART:20260217T214000Z
SEQUENCE:0
TRANSP:OPAQUE
DTEND:20260217T221000Z
SUMMARY:Meet and Greet Parent/Carer Information Session - Stage 1
CLASS:PUBLIC
DESCRIPTION:Stage 1\n1 Green - Miss Lawrie\n1 Gold - Miss Chilby\n2 Pink - 
 Mrs English\n2 Blue - Mrs Colton
DTSTAMP:20260425T080612Z
END:VEVENT
BEGIN:VEVENT
UID:sb_ical_event5997461@sch494.schoolbytes.cal
DTSTART:20260218T214000Z
SEQUENCE:0
TRANSP:OPAQUE
DTEND:20260218T221000Z
SUMMARY:Meet and Greet Parent/Carer Information Session - Early Stage 1
CLASS:PUBLIC
DESCRIPTION:Early Stage 1\nK Red - Mrs Krauss/Mrs Mackenzie\nK Yellow - Mrs
  Brglevski
DTSTAMP:20260425T080612Z
END:VEVENT
BEGIN:VEVENT
UID:sb_ical_event5998865@sch494.schoolbytes.cal
DTSTART:20260209T070000Z
SEQUENCE:0
TRANSP:OPAQUE
DTEND:20260209T083000Z
SUMMARY:P&C Meeting
CLASS:PUBLIC
DESCRIPTION:The first P&C Meeting of the year. \nWe look forward to seeing 
 both new and returning faces\, all eager to collaborate and make a positiv
 e impact on our school community.
DTSTAMP:20260425T080612Z
END:VEVENT
BEGIN:VEVENT
UID:sb_ical_event5999329@sch494.schoolbytes.cal
DTSTART:20260209T214000Z
SEQUENCE:0
TRANSP:OPAQUE
DTEND:20260209T221000Z
SUMMARY:P&C Welcome Breakfast
CLASS:PUBLIC
DESCRIPTION:We are inviting all families to join us for our P&C 'Meet & Gre
 et' Breakfast.
DTSTAMP:20260425T080612Z
END:VEVENT
BEGIN:VEVENT
UID:sb_ical_event5999338@sch494.schoolbytes.cal
DTSTART;VALUE=DATE:20260220
SEQUENCE:0
TRANSP:OPAQUE
DTEND;VALUE=DATE:20260221
SUMMARY:K-6 AFL
CLASS:PUBLIC
X-MICROSOFT-CDO-ALLDAYEVENT:TRUE
DTSTAMP:20260425T080612Z
END:VEVENT
BEGIN:VEVENT
UID:sb_ical_event5999417@sch494.schoolbytes.cal
DTSTART;VALUE=DATE:20260223
SEQUENCE:0
TRANSP:OPAQUE
DTEND;VALUE=DATE:20260224
SUMMARY:District Swimming Carnival
CLASS:PUBLIC
X-MICROSOFT-CDO-ALLDAYEVENT:TRUE
DTSTAMP:20260425T080612Z
END:VEVENT
BEGIN:VEVENT
UID:sb_ical_event5999426@sch494.schoolbytes.cal
DTSTART;VALUE=DATE:20260309
SEQUENCE:0
TRANSP:OPAQUE
DTEND;VALUE=DATE:20260314
SUMMARY:Mobile Eyes and Dental
CLASS:PUBLIC
X-MICROSOFT-CDO-ALLDAYEVENT:TRUE
DTSTAMP:20260425T080612Z
END:VEVENT
BEGIN:VEVENT
UID:sb_ical_event5999508@sch494.schoolbytes.cal
DTSTART:20260316T070000Z
SEQUENCE:0
TRANSP:OPAQUE
DTEND:20260316T083000Z
SUMMARY:P&C AGM
CLASS:PUBLIC
DTSTAMP:20260425T080612Z
END:VEVENT
BEGIN:VEVENT
UID:sb_ical_event5999556@sch494.schoolbytes.cal
DTSTART;VALUE=DATE:20260317
SEQUENCE:0
TRANSP:OPAQUE
DTEND;VALUE=DATE:20260318
SUMMARY:South Coast Swimming Carnival
CLASS:PUBLIC
X-MICROSOFT-CDO-ALLDAYEVENT:TRUE
DTSTAMP:20260425T080612Z
END:VEVENT
BEGIN:VEVENT
UID:sb_ical_event5999644@sch494.schoolbytes.cal
DTSTART;VALUE=DATE:20260320
SEQUENCE:0
TRANSP:OPAQUE
DTEND;VALUE=DATE:20260321
SUMMARY:Stage 3 - Tennis
CLASS:PUBLIC
X-MICROSOFT-CDO-ALLDAYEVENT:TRUE
DTSTAMP:20260425T080612Z
END:VEVENT
BEGIN:VEVENT
UID:sb_ical_event5999702@sch494.schoolbytes.cal
DTSTART;VALUE=DATE:20260324
SEQUENCE:0
TRANSP:OPAQUE
DTEND;VALUE=DATE:20260325
SUMMARY:K-2 excursion - Calmsley Farm
CLASS:PUBLIC
X-MICROSOFT-CDO-ALLDAYEVENT:TRUE
DTSTAMP:20260425T080612Z
END:VEVENT
BEGIN:VEVENT
UID:sb_ical_event5999799@sch494.schoolbytes.cal
DTSTART;VALUE=DATE:20260326
SEQUENCE:0
TRANSP:OPAQUE
DTEND;VALUE=DATE:20260327
SUMMARY:GPS Athletics Carnival
CLASS:PUBLIC
X-MICROSOFT-CDO-ALLDAYEVENT:TRUE
DTSTAMP:20260425T080612Z
END:VEVENT
BEGIN:VEVENT
UID:sb_ical_event6356159@sch494.schoolbytes.cal
DTSTART:20260220T030000Z
SEQUENCE:0
TRANSP:OPAQUE
DTEND:20260220T040000Z
SUMMARY:Assembly 6 Purple/ Swimming Carnival ribbons
CLASS:PUBLIC
DTSTAMP:20260425T080612Z
END:VEVENT
BEGIN:VEVENT
UID:sb_ical_event6360213@sch494.schoolbytes.cal
DTSTART:20260306T030000Z
SEQUENCE:0
TRANSP:OPAQUE
DTEND:20260306T040000Z
SUMMARY:Assembly 5/6 Maroon and SRC Induction
CLASS:PUBLIC
DTSTAMP:20260425T080612Z
END:VEVENT
BEGIN:VEVENT
UID:sb_ical_event6360464@sch494.schoolbytes.cal
DTSTART:20260320T030000Z
SEQUENCE:0
TRANSP:OPAQUE
DTEND:20260320T040000Z
SUMMARY:Assembly 2 Pink
CLASS:PUBLIC
DTSTAMP:20260425T080612Z
END:VEVENT
BEGIN:VEVENT
UID:sb_ical_event6360472@sch494.schoolbytes.cal
DTSTART;VALUE=DATE:20260327
SEQUENCE:0
TRANSP:OPAQUE
DTEND;VALUE=DATE:20260328
SUMMARY:P&C Disco
CLASS:PUBLIC
DESCRIPTION:Good afternoon\, \nUnfortunately the school disco scheduled for
  this afternoon March 27 is cancelled due to a severe weather warning.\n\n
 We understand that the children have been looking forward to the disco and
  this may come as a disappointment. The safety and wellbeing of the childr
 en are priority. \n\nThe disco will be rescheduled for a later date in Ter
 m 2. More information will be sent out at the start of Term 2 once a date 
 has been confirmed.\n\nKind regards \,\nGwynneville P & C
X-MICROSOFT-CDO-ALLDAYEVENT:TRUE
DTSTAMP:20260425T080612Z
END:VEVENT
BEGIN:VEVENT
UID:sb_ical_event6404557@sch494.schoolbytes.cal
DTSTART;VALUE=DATE:20260319
SEQUENCE:0
TRANSP:OPAQUE
DTEND;VALUE=DATE:20260320
SUMMARY:Photo Day
CLASS:PUBLIC
X-MICROSOFT-CDO-ALLDAYEVENT:TRUE
DTSTAMP:20260425T080612Z
END:VEVENT
BEGIN:VEVENT
UID:sb_ical_event7703351@sch494.schoolbytes.cal
DTSTART:20260402T020000Z
SEQUENCE:0
TRANSP:OPAQUE
DTEND:20260402T041000Z
SUMMARY:GPS Easter Hat Parade and sausage sizzle
CLASS:PUBLIC
DESCRIPTION:After gathering valuable student voice\, we’re excited to sha
 re the plans for our Easter Hat Celebrations on Thursday 2nd April. \nThe 
 day will begin with a delicious sausage sizzle lunch at 1pm\, with pre-ord
 ers being sent out via School Bytes.\n\nFollowing lunch\, students will ta
 ke part in our much-anticipated Easter Hat Parade at 2pm\, proudly showcas
 ing their creative designs.\n\nPlease send your child/ren to school with p
 lain hat to decorate\, along with craft materials they can use and share w
 ith their class in week 10. We look forward to a fun filled day of creativ
 ity\, colour and celebration.
DTSTAMP:20260425T080612Z
END:VEVENT
BEGIN:VEVENT
UID:sb_ical_event7047937@sch494.schoolbytes.cal
DTSTART:20260401T230000Z
SEQUENCE:0
TRANSP:OPAQUE
DTEND:20260402T001000Z
SUMMARY:GPS Cross Country
CLASS:PUBLIC
DESCRIPTION:Running Times (These are approximate)\n\nLong course 12/13Yrs 
 – 3 Laps 11yrs – 3Laps 8/9yrs – 2 Laps\n\n· 10:00am 12years Girls a
 nd Boys (3km - 3 laps)\n\n· 10:20am 11years Girls and Boys (3km – 3laps
 )\n\n· 10:40am 10year girls and boys (2km -2laps)\n\n· 11:10am 8/9yrs Gi
 rls (2km -2laps)\n\n· 11:30am 8/9yrs Boys(2km-2laps)\n\n· 11:50am Presen
 tation\n\n5/6/7 years Course 7yrs – 3 Laps 6yrs - 2 laps 5yrs -1 lap\n\n
 · 12:00 7yrs Boys (3 laps)\n\n· 12:15 7yrs Girls (3 laps)\n\n· 12:30 6y
 rs Boys (2 laps)\n\n· 12:40 6yrs Girls (2 laps)\n\n· 12:50 5yrs Girls (1
  lap) / Boys\n\n· 1:00 Presentation / Sausage Sizzle
DTSTAMP:20260425T080612Z
END:VEVENT
BEGIN:VEVENT
UID:sb_ical_event7047951@sch494.schoolbytes.cal
DTSTART;VALUE=DATE:20260327
SEQUENCE:0
TRANSP:OPAQUE
DTEND;VALUE=DATE:20260328
SUMMARY:Harmony Day celebrations
CLASS:PUBLIC
X-MICROSOFT-CDO-ALLDAYEVENT:TRUE
DTSTAMP:20260425T080612Z
END:VEVENT
BEGIN:VEVENT
UID:sb_ical_event7048020@sch494.schoolbytes.cal
DTSTART;VALUE=DATE:20260325
SEQUENCE:0
TRANSP:OPAQUE
DTEND;VALUE=DATE:20260326
SUMMARY:Canteen Harmony Week specials
CLASS:PUBLIC
X-MICROSOFT-CDO-ALLDAYEVENT:TRUE
DTSTAMP:20260425T080612Z
END:VEVENT
BEGIN:VEVENT
UID:sb_ical_event7048085@sch494.schoolbytes.cal
DTSTART;VALUE=DATE:20260422
SEQUENCE:0
TRANSP:OPAQUE
DTEND;VALUE=DATE:20260423
SUMMARY:Students return
CLASS:PUBLIC
X-MICROSOFT-CDO-ALLDAYEVENT:TRUE
DTSTAMP:20260425T080612Z
END:VEVENT
BEGIN:VEVENT
UID:sb_ical_event7048091@sch494.schoolbytes.cal
DTSTART;VALUE=DATE:20260420
SEQUENCE:0
TRANSP:OPAQUE
DTEND;VALUE=DATE:20260421
SUMMARY:Staff Development day
CLASS:PUBLIC
X-MICROSOFT-CDO-ALLDAYEVENT:TRUE
DTSTAMP:20260425T080612Z
END:VEVENT
BEGIN:VEVENT
UID:sb_ical_event7048094@sch494.schoolbytes.cal
DTSTART;VALUE=DATE:20260421
SEQUENCE:0
TRANSP:OPAQUE
DTEND;VALUE=DATE:20260422
SUMMARY:Staff Development day
CLASS:PUBLIC
X-MICROSOFT-CDO-ALLDAYEVENT:TRUE
DTSTAMP:20260425T080612Z
END:VEVENT
BEGIN:VEVENT
UID:sb_ical_event7706921@sch494.schoolbytes.cal
DTSTART:20260501T040000Z
SEQUENCE:0
TRANSP:OPAQUE
DTEND:20260501T051000Z
SUMMARY:Assembly - 2 Blue
CLASS:PUBLIC
DTSTAMP:20260425T080612Z
END:VEVENT
BEGIN:VEVENT
UID:sb_ical_event7538660@sch494.schoolbytes.cal
DTSTART;VALUE=DATE:20260427
SEQUENCE:0
TRANSP:OPAQUE
DTEND;VALUE=DATE:20260428
SUMMARY:ANZAC Day Public Holiday
CLASS:PUBLIC
X-MICROSOFT-CDO-ALLDAYEVENT:TRUE
DTSTAMP:20260425T080612Z
END:VEVENT
BEGIN:VEVENT
UID:sb_ical_event7706981@sch494.schoolbytes.cal
DTSTART:20260504T080000Z
SEQUENCE:0
TRANSP:OPAQUE
DTEND:20260504T090000Z
SUMMARY:P&C Meeting
CLASS:PUBLIC
DESCRIPTION:Time: 6pm\nWhere: School staffroom\nAny questions: pcgwynnevill
 e@gmail.com
DTSTAMP:20260425T080612Z
END:VEVENT
BEGIN:VEVENT
UID:sb_ical_event7707090@sch494.schoolbytes.cal
DTSTART:20260504T232000Z
SEQUENCE:0
TRANSP:OPAQUE
DTEND:20260505T011000Z
SUMMARY:P&C Mothers/Carers Day stall
CLASS:PUBLIC
DESCRIPTION:Time: 9:20am-11:10am\nPrices: $2 - $10 (coins preferred)\nItems
  that remain will be available for purchased at the office from 6 May - 8 
 May.
DTSTAMP:20260425T080612Z
END:VEVENT
BEGIN:VEVENT
UID:sb_ical_event7546070@sch494.schoolbytes.cal
DTSTART;VALUE=DATE:20260506
SEQUENCE:0
TRANSP:OPAQUE
DTEND;VALUE=DATE:20260507
SUMMARY:Stage 3 - Olympiad
CLASS:PUBLIC
X-MICROSOFT-CDO-ALLDAYEVENT:TRUE
DTSTAMP:20260425T080612Z
END:VEVENT
BEGIN:VEVENT
UID:sb_ical_event7706890@sch494.schoolbytes.cal
DTSTART;VALUE=DATE:20260430
SEQUENCE:0
TRANSP:OPAQUE
DTEND;VALUE=DATE:20260501
SUMMARY:District Cross Country
CLASS:PUBLIC
DESCRIPTION:Time: 9am - 3pm\nLocation: Kembla Joggers\, Kembla Grange\nThe 
 District Cross Country is for students who placed 1st to 5th at the school
  Cross Country.
X-MICROSOFT-CDO-ALLDAYEVENT:TRUE
DTSTAMP:20260425T080612Z
END:VEVENT
BEGIN:VEVENT
UID:sb_ical_event7707237@sch494.schoolbytes.cal
DTSTART:20260515T040000Z
SEQUENCE:0
TRANSP:OPAQUE
DTEND:20260515T051000Z
SUMMARY:Assembly  - 5 Indigo
CLASS:PUBLIC
DTSTAMP:20260425T080612Z
END:VEVENT
BEGIN:VEVENT
UID:sb_ical_event7707244@sch494.schoolbytes.cal
DTSTART:20260529T040000Z
SEQUENCE:0
TRANSP:OPAQUE
DTEND:20260529T051000Z
SUMMARY:Assembly - 3/4 Brown
CLASS:PUBLIC
DTSTAMP:20260425T080612Z
END:VEVENT
BEGIN:VEVENT
UID:sb_ical_event7707449@sch494.schoolbytes.cal
DTSTART;VALUE=DATE:20260528
SEQUENCE:0
TRANSP:OPAQUE
DTEND;VALUE=DATE:20260529
SUMMARY:Reconciliation Walk - Bellambi Public School
CLASS:PUBLIC
DESCRIPTION:Key Details for 2026:\nNational Reconciliation Week 2026 Theme:
  \"All In\".\nSignificance: The week commemorates the 1967 referendum and 
 the High Court Mabo decision.\nContext: The 2026 theme calls on all Austra
 lians to move beyond support and take direct\, daily action for reconcilia
 tion.\nBellambi Significance: Bellambi Public School has historically orga
 nized this walk\, bringing together numerous schools from the surrounding 
 area.
X-MICROSOFT-CDO-ALLDAYEVENT:TRUE
DTSTAMP:20260425T080612Z
END:VEVENT
BEGIN:VEVENT
UID:sb_ical_event7806183@sch494.schoolbytes.cal
DTSTART:20260424T020000Z
SEQUENCE:0
TRANSP:OPAQUE
DTEND:20260424T030000Z
SUMMARY:Edmund Rice Band performance
CLASS:PUBLIC
DTSTAMP:20260425T080612Z
END:VEVENT
END:VCALENDAR