BEGIN:VCALENDAR
VERSION:2.0
PRODID://School Bytes School Calendar//
X-WR-CALNAME:Ulmarra Public School - Parent Calendar
X-WR-RELCALID:sb_ical9458@sch715.schoolbytes.cal
X-PUBLISHED-TTL:PT1H
BEGIN:VEVENT
UID:sb_ical_event2788107@sch715.schoolbytes.cal
DTSTART;VALUE=DATE:20251104
SEQUENCE:0
TRANSP:OPAQUE
DTEND;VALUE=DATE:20251105
SUMMARY:Rathgar visit - 3/4 - postponed
CLASS:PUBLIC
X-MICROSOFT-CDO-ALLDAYEVENT:TRUE
DTSTAMP:20260421T201338Z
END:VEVENT
BEGIN:VEVENT
UID:sb_ical_event5443454@sch715.schoolbytes.cal
DTSTART:20251215T221500Z
SEQUENCE:0
TRANSP:OPAQUE
DTEND:20251216T001500Z
SUMMARY:Rathgar visit - Christmas carols
CLASS:PUBLIC
DTSTAMP:20260421T201338Z
END:VEVENT
BEGIN:VEVENT
UID:sb_ical_event5337447@sch715.schoolbytes.cal
DTSTART;VALUE=DATE:20251111
SEQUENCE:0
TRANSP:OPAQUE
DTEND;VALUE=DATE:20251112
SUMMARY:Remembrance Day
CLASS:PUBLIC
X-MICROSOFT-CDO-ALLDAYEVENT:TRUE
DTSTAMP:20260421T201338Z
END:VEVENT
BEGIN:VEVENT
UID:sb_ical_event2791923@sch715.schoolbytes.cal
DTSTART;VALUE=DATE:20251202
SEQUENCE:0
TRANSP:OPAQUE
DTEND;VALUE=DATE:20251203
SUMMARY:SGHS Yr 6 Orientation Day
CLASS:PUBLIC
X-MICROSOFT-CDO-ALLDAYEVENT:TRUE
DTSTAMP:20260421T201338Z
END:VEVENT
BEGIN:VEVENT
UID:sb_ical_event5337420@sch715.schoolbytes.cal
DTSTART;VALUE=DATE:20250523
SEQUENCE:0
TRANSP:OPAQUE
DTEND;VALUE=DATE:20250524
SUMMARY:P&C Hotel Raffles 6:15pm- 8:00pm
CLASS:PUBLIC
DESCRIPTION:P&C Ulmarra pub raffles
X-MICROSOFT-CDO-ALLDAYEVENT:TRUE
DTSTAMP:20260421T201338Z
END:VEVENT
BEGIN:VEVENT
UID:sb_ical_event5337421@sch715.schoolbytes.cal
DTSTART;VALUE=DATE:20250620
SEQUENCE:0
TRANSP:OPAQUE
DTEND;VALUE=DATE:20250621
SUMMARY:P&C Hotel Raffles 6:15pm- 8:00pm
CLASS:PUBLIC
DESCRIPTION:P&C Ulmarra pub raffles
X-MICROSOFT-CDO-ALLDAYEVENT:TRUE
DTSTAMP:20260421T201338Z
END:VEVENT
BEGIN:VEVENT
UID:sb_ical_event5337422@sch715.schoolbytes.cal
DTSTART;VALUE=DATE:20250718
SEQUENCE:0
TRANSP:OPAQUE
DTEND;VALUE=DATE:20250719
SUMMARY:P&C Hotel Raffles 6:15pm- 8:00pm
CLASS:PUBLIC
DESCRIPTION:P&C Ulmarra pub raffles
X-MICROSOFT-CDO-ALLDAYEVENT:TRUE
DTSTAMP:20260421T201338Z
END:VEVENT
BEGIN:VEVENT
UID:sb_ical_event5337423@sch715.schoolbytes.cal
DTSTART;VALUE=DATE:20250815
SEQUENCE:0
TRANSP:OPAQUE
DTEND;VALUE=DATE:20250816
SUMMARY:P&C Hotel Raffles 6:15pm- 8:00pm
CLASS:PUBLIC
DESCRIPTION:P&C Ulmarra pub raffles
X-MICROSOFT-CDO-ALLDAYEVENT:TRUE
DTSTAMP:20260421T201338Z
END:VEVENT
BEGIN:VEVENT
UID:sb_ical_event5337424@sch715.schoolbytes.cal
DTSTART;VALUE=DATE:20250912
SEQUENCE:0
TRANSP:OPAQUE
DTEND;VALUE=DATE:20250913
SUMMARY:P&C Hotel Raffles 6:15pm- 8:00pm
CLASS:PUBLIC
DESCRIPTION:P&C Ulmarra pub raffles
X-MICROSOFT-CDO-ALLDAYEVENT:TRUE
DTSTAMP:20260421T201338Z
END:VEVENT
BEGIN:VEVENT
UID:sb_ical_event5337425@sch715.schoolbytes.cal
DTSTART;VALUE=DATE:20251010
SEQUENCE:0
TRANSP:OPAQUE
DTEND;VALUE=DATE:20251011
SUMMARY:P&C Hotel Raffles 6:15pm- 8:00pm
CLASS:PUBLIC
DESCRIPTION:P&C Ulmarra pub raffles
X-MICROSOFT-CDO-ALLDAYEVENT:TRUE
DTSTAMP:20260421T201338Z
END:VEVENT
BEGIN:VEVENT
UID:sb_ical_event5337426@sch715.schoolbytes.cal
DTSTART;VALUE=DATE:20251107
SEQUENCE:0
TRANSP:OPAQUE
DTEND;VALUE=DATE:20251108
SUMMARY:P&C Hotel Raffles 6:15pm- 8:00pm
CLASS:PUBLIC
DESCRIPTION:P&C Ulmarra pub raffles
X-MICROSOFT-CDO-ALLDAYEVENT:TRUE
DTSTAMP:20260421T201338Z
END:VEVENT
BEGIN:VEVENT
UID:sb_ical_event5337427@sch715.schoolbytes.cal
DTSTART:20251205T071500Z
SEQUENCE:0
TRANSP:OPAQUE
DTEND:20251205T090000Z
SUMMARY:P&C Hotel Raffles
CLASS:PUBLIC
DESCRIPTION:P&C Ulmarra pub raffles
DTSTAMP:20260421T201338Z
END:VEVENT
BEGIN:VEVENT
UID:sb_ical_event4089051@sch715.schoolbytes.cal
DTSTART;VALUE=DATE:20260205
SEQUENCE:0
TRANSP:OPAQUE
DTEND;VALUE=DATE:20260206
SUMMARY:Ulmarra Swimming Carnival
CLASS:PUBLIC
DESCRIPTION:Whole school to attend. To be held at Grafton Pool.
X-MICROSOFT-CDO-ALLDAYEVENT:TRUE
DTSTAMP:20260421T201338Z
END:VEVENT
BEGIN:VEVENT
UID:sb_ical_event4089054@sch715.schoolbytes.cal
DTSTART;VALUE=DATE:20260211
SEQUENCE:0
TRANSP:OPAQUE
DTEND;VALUE=DATE:20260212
SUMMARY:Small Schools Swim Carnival
CLASS:PUBLIC
DESCRIPTION:Selected students to attend. To be held at Grafton Pool.
X-MICROSOFT-CDO-ALLDAYEVENT:TRUE
DTSTAMP:20260421T201338Z
END:VEVENT
BEGIN:VEVENT
UID:sb_ical_event4015270@sch715.schoolbytes.cal
DTSTART;VALUE=DATE:20260220
SEQUENCE:0
TRANSP:OPAQUE
DTEND;VALUE=DATE:20260221
SUMMARY:Clarence District Swim Carnival
CLASS:PUBLIC
DESCRIPTION:Selected students to attend. To be held at Grafton Pool.
X-MICROSOFT-CDO-ALLDAYEVENT:TRUE
DTSTAMP:20260421T201338Z
END:VEVENT
BEGIN:VEVENT
UID:sb_ical_event5443434@sch715.schoolbytes.cal
DTSTART:20251208T223000Z
SEQUENCE:0
TRANSP:OPAQUE
DTEND:20251209T000000Z
SUMMARY:Presentation Day
CLASS:PUBLIC
DTSTAMP:20260421T201338Z
END:VEVENT
BEGIN:VEVENT
UID:sb_ical_event4869039@sch715.schoolbytes.cal
DTSTART;VALUE=DATE:20251103
SEQUENCE:0
TRANSP:OPAQUE
DTEND;VALUE=DATE:20251104
SUMMARY:Dam and Waste Transfer Station excursion
CLASS:PUBLIC
X-MICROSOFT-CDO-ALLDAYEVENT:TRUE
DTSTAMP:20260421T201338Z
END:VEVENT
BEGIN:VEVENT
UID:sb_ical_event5443437@sch715.schoolbytes.cal
DTSTART:20251209T063000Z
SEQUENCE:0
TRANSP:OPAQUE
DTEND:20251209T080000Z
SUMMARY:Year 6 Farewell
CLASS:PUBLIC
DTSTAMP:20260421T201338Z
END:VEVENT
BEGIN:VEVENT
UID:sb_ical_event5038981@sch715.schoolbytes.cal
DTSTART;VALUE=DATE:20251210
SEQUENCE:0
TRANSP:OPAQUE
DTEND;VALUE=DATE:20251211
SUMMARY:Year 6 Fun Day - Jye and Bianca
CLASS:PUBLIC
X-MICROSOFT-CDO-ALLDAYEVENT:TRUE
DTSTAMP:20260421T201338Z
END:VEVENT
BEGIN:VEVENT
UID:sb_ical_event5424262@sch715.schoolbytes.cal
DTSTART:20251120T223000Z
SEQUENCE:0
TRANSP:OPAQUE
DTEND:20251120T233000Z
SUMMARY:Assembly 5/6 - Captain Speeches
CLASS:PUBLIC
DTSTAMP:20260421T201338Z
END:VEVENT
BEGIN:VEVENT
UID:sb_ical_event5095772@sch715.schoolbytes.cal
DTSTART;VALUE=DATE:20251028
SEQUENCE:0
TRANSP:OPAQUE
DTEND;VALUE=DATE:20251029
SUMMARY:Healthy Lunchbox sessions K-6
CLASS:PUBLIC
DESCRIPTION:9am - Transition session\nK-2 session\n3-6 session
X-MICROSOFT-CDO-ALLDAYEVENT:TRUE
DTSTAMP:20260421T201338Z
END:VEVENT
BEGIN:VEVENT
UID:sb_ical_event5160692@sch715.schoolbytes.cal
DTSTART;VALUE=DATE:20251105
SEQUENCE:0
TRANSP:OPAQUE
DTEND;VALUE=DATE:20251106
SUMMARY:Handball competition at Harwood - 6 students
CLASS:PUBLIC
X-MICROSOFT-CDO-ALLDAYEVENT:TRUE
DTSTAMP:20260421T201338Z
END:VEVENT
BEGIN:VEVENT
UID:sb_ical_event5331322@sch715.schoolbytes.cal
DTSTART;VALUE=DATE:20251028
SEQUENCE:0
TRANSP:OPAQUE
DTEND;VALUE=DATE:20251029
SUMMARY:Transition P-K 9:00am - 3:00pm
CLASS:PUBLIC
X-MICROSOFT-CDO-ALLDAYEVENT:TRUE
DTSTAMP:20260421T201338Z
END:VEVENT
BEGIN:VEVENT
UID:sb_ical_event5220157@sch715.schoolbytes.cal
DTSTART:20251023T000000Z
SEQUENCE:0
TRANSP:OPAQUE
DTEND:20251023T030000Z
SUMMARY:Maclean Public - Languages event - come out at 10:30 straight on th
 e bus
CLASS:PUBLIC
DTSTAMP:20260421T201338Z
END:VEVENT
BEGIN:VEVENT
UID:sb_ical_event5220210@sch715.schoolbytes.cal
DTSTART;VALUE=DATE:20251217
SEQUENCE:0
TRANSP:OPAQUE
DTEND;VALUE=DATE:20251218
SUMMARY:School fun day
CLASS:PUBLIC
X-MICROSOFT-CDO-ALLDAYEVENT:TRUE
DTSTAMP:20260421T201338Z
END:VEVENT
BEGIN:VEVENT
UID:sb_ical_event5443441@sch715.schoolbytes.cal
DTSTART:20251204T221500Z
SEQUENCE:0
TRANSP:OPAQUE
DTEND:20251205T031500Z
SUMMARY:Last Canteen
CLASS:PUBLIC
DTSTAMP:20260421T201338Z
END:VEVENT
BEGIN:VEVENT
UID:sb_ical_event5443448@sch715.schoolbytes.cal
DTSTART:20251218T221500Z
SEQUENCE:0
TRANSP:OPAQUE
DTEND:20251219T031500Z
SUMMARY:No Canteen
CLASS:PUBLIC
DTSTAMP:20260421T201338Z
END:VEVENT
BEGIN:VEVENT
UID:sb_ical_event5337374@sch715.schoolbytes.cal
DTSTART;VALUE=DATE:20251030
SEQUENCE:0
TRANSP:OPAQUE
DTEND;VALUE=DATE:20251031
SUMMARY:Scholastic Book Club Orders and payment due
CLASS:PUBLIC
X-MICROSOFT-CDO-ALLDAYEVENT:TRUE
DTSTAMP:20260421T201338Z
END:VEVENT
BEGIN:VEVENT
UID:sb_ical_event5302614@sch715.schoolbytes.cal
DTSTART:20251024T033000Z
SEQUENCE:0
TRANSP:OPAQUE
DTEND:20251024T041500Z
SUMMARY:Assembly - Kindergarten  item
CLASS:PUBLIC
DESCRIPTION:5/6 newsletter
DTSTAMP:20260421T201338Z
END:VEVENT
BEGIN:VEVENT
UID:sb_ical_event5337442@sch715.schoolbytes.cal
DTSTART;VALUE=DATE:20251107
SEQUENCE:0
TRANSP:OPAQUE
DTEND;VALUE=DATE:20251108
SUMMARY:Assembly - 1/2 item\, 1/2 newsletter - 2:45pm-3:15pm
CLASS:PUBLIC
X-MICROSOFT-CDO-ALLDAYEVENT:TRUE
DTSTAMP:20260421T201338Z
END:VEVENT
BEGIN:VEVENT
UID:sb_ical_event5500544@sch715.schoolbytes.cal
DTSTART:20251205T034500Z
SEQUENCE:0
TRANSP:OPAQUE
DTEND:20251205T041500Z
SUMMARY:Assembly - 3/4 item\, K newsletter
CLASS:PUBLIC
DTSTAMP:20260421T201338Z
END:VEVENT
BEGIN:VEVENT
UID:sb_ical_event5320352@sch715.schoolbytes.cal
DTSTART;VALUE=DATE:20260202
SEQUENCE:0
TRANSP:OPAQUE
DTEND;VALUE=DATE:20260203
SUMMARY:K-Yr 6 Students Resume
CLASS:PUBLIC
X-MICROSOFT-CDO-ALLDAYEVENT:TRUE
DTSTAMP:20260421T201338Z
END:VEVENT
BEGIN:VEVENT
UID:sb_ical_event5337404@sch715.schoolbytes.cal
DTSTART;VALUE=DATE:20251030
SEQUENCE:0
TRANSP:OPAQUE
DTEND;VALUE=DATE:20251031
SUMMARY:Story Dog Visit 9:30am- 11:15am
CLASS:PUBLIC
X-MICROSOFT-CDO-ALLDAYEVENT:TRUE
DTSTAMP:20260421T201338Z
END:VEVENT
BEGIN:VEVENT
UID:sb_ical_event5337405@sch715.schoolbytes.cal
DTSTART;VALUE=DATE:20251106
SEQUENCE:0
TRANSP:OPAQUE
DTEND;VALUE=DATE:20251107
SUMMARY:Story Dog Visit 9:30am- 11:15am
CLASS:PUBLIC
X-MICROSOFT-CDO-ALLDAYEVENT:TRUE
DTSTAMP:20260421T201338Z
END:VEVENT
BEGIN:VEVENT
UID:sb_ical_event5337385@sch715.schoolbytes.cal
DTSTART;VALUE=DATE:20251104
SEQUENCE:0
TRANSP:OPAQUE
DTEND;VALUE=DATE:20251105
SUMMARY:Transition P-K 9am-3pm
CLASS:PUBLIC
X-MICROSOFT-CDO-ALLDAYEVENT:TRUE
DTSTAMP:20260421T201338Z
END:VEVENT
BEGIN:VEVENT
UID:sb_ical_event5358009@sch715.schoolbytes.cal
DTSTART;VALUE=DATE:20251126
SEQUENCE:0
TRANSP:OPAQUE
DTEND;VALUE=DATE:20251127
SUMMARY:Small School Transition Day - Wooli Solitary Islands - Year 6\, Mr 
 Reardon and Miss Hennessy attending.
CLASS:PUBLIC
X-MICROSOFT-CDO-ALLDAYEVENT:TRUE
DTSTAMP:20260421T201338Z
END:VEVENT
BEGIN:VEVENT
UID:sb_ical_event5403274@sch715.schoolbytes.cal
DTSTART;VALUE=DATE:20261109
SEQUENCE:0
TRANSP:OPAQUE
DTEND;VALUE=DATE:20261110
SUMMARY:Life Ed Van
CLASS:PUBLIC
X-MICROSOFT-CDO-ALLDAYEVENT:TRUE
DTSTAMP:20260421T201338Z
END:VEVENT
BEGIN:VEVENT
UID:sb_ical_event5417174@sch715.schoolbytes.cal
DTSTART;VALUE=DATE:20251114
SEQUENCE:0
TRANSP:OPAQUE
DTEND;VALUE=DATE:20251115
SUMMARY:Canteen
CLASS:PUBLIC
X-MICROSOFT-CDO-ALLDAYEVENT:TRUE
DTSTAMP:20260421T201338Z
END:VEVENT
BEGIN:VEVENT
UID:sb_ical_event5417185@sch715.schoolbytes.cal
DTSTART;VALUE=DATE:20251118
SEQUENCE:0
TRANSP:OPAQUE
DTEND;VALUE=DATE:20251119
SUMMARY:Canteen orders due
CLASS:PUBLIC
DESCRIPTION:orders and payments can be made on the Flexischools App.
X-MICROSOFT-CDO-ALLDAYEVENT:TRUE
DTSTAMP:20260421T201338Z
END:VEVENT
BEGIN:VEVENT
UID:sb_ical_event5417189@sch715.schoolbytes.cal
DTSTART;VALUE=DATE:20251125
SEQUENCE:0
TRANSP:OPAQUE
DTEND;VALUE=DATE:20251126
SUMMARY:Canteen orders due
CLASS:PUBLIC
DESCRIPTION:orders and payments can be made on the Flexischools App.
X-MICROSOFT-CDO-ALLDAYEVENT:TRUE
DTSTAMP:20260421T201338Z
END:VEVENT
BEGIN:VEVENT
UID:sb_ical_event5417194@sch715.schoolbytes.cal
DTSTART;VALUE=DATE:20251202
SEQUENCE:0
TRANSP:OPAQUE
DTEND;VALUE=DATE:20251203
SUMMARY:Canteen orders due
CLASS:PUBLIC
DESCRIPTION:orders and payments can be made on the Flexischools App.
X-MICROSOFT-CDO-ALLDAYEVENT:TRUE
DTSTAMP:20260421T201338Z
END:VEVENT
BEGIN:VEVENT
UID:sb_ical_event5417203@sch715.schoolbytes.cal
DTSTART;VALUE=DATE:20251121
SEQUENCE:0
TRANSP:OPAQUE
DTEND;VALUE=DATE:20251122
SUMMARY:Canteen
CLASS:PUBLIC
X-MICROSOFT-CDO-ALLDAYEVENT:TRUE
DTSTAMP:20260421T201338Z
END:VEVENT
BEGIN:VEVENT
UID:sb_ical_event5417205@sch715.schoolbytes.cal
DTSTART;VALUE=DATE:20251128
SEQUENCE:0
TRANSP:OPAQUE
DTEND;VALUE=DATE:20251129
SUMMARY:Canteen
CLASS:PUBLIC
X-MICROSOFT-CDO-ALLDAYEVENT:TRUE
DTSTAMP:20260421T201338Z
END:VEVENT
BEGIN:VEVENT
UID:sb_ical_event5417224@sch715.schoolbytes.cal
DTSTART;VALUE=DATE:20251124
SEQUENCE:0
TRANSP:OPAQUE
DTEND;VALUE=DATE:20251125
SUMMARY:Newsletter
CLASS:PUBLIC
X-MICROSOFT-CDO-ALLDAYEVENT:TRUE
DTSTAMP:20260421T201338Z
END:VEVENT
BEGIN:VEVENT
UID:sb_ical_event5430920@sch715.schoolbytes.cal
DTSTART:20251211T060000Z
SEQUENCE:0
TRANSP:OPAQUE
DTEND:20251211T090000Z
SUMMARY:P&C Christmas Celebration
CLASS:PUBLIC
DESCRIPTION:At Ulmarra School.
DTSTAMP:20260421T201338Z
END:VEVENT
BEGIN:VEVENT
UID:sb_ical_event5435542@sch715.schoolbytes.cal
DTSTART;VALUE=DATE:20260422
SEQUENCE:0
TRANSP:OPAQUE
DTEND;VALUE=DATE:20260423
SUMMARY:Students Resume
CLASS:PUBLIC
X-MICROSOFT-CDO-ALLDAYEVENT:TRUE
DTSTAMP:20260421T201338Z
END:VEVENT
BEGIN:VEVENT
UID:sb_ical_event5435543@sch715.schoolbytes.cal
DTSTART;VALUE=DATE:20260721
SEQUENCE:0
TRANSP:OPAQUE
DTEND;VALUE=DATE:20260722
SUMMARY:Students Resume
CLASS:PUBLIC
X-MICROSOFT-CDO-ALLDAYEVENT:TRUE
DTSTAMP:20260421T201338Z
END:VEVENT
BEGIN:VEVENT
UID:sb_ical_event5435550@sch715.schoolbytes.cal
DTSTART;VALUE=DATE:20261013
SEQUENCE:0
TRANSP:OPAQUE
DTEND;VALUE=DATE:20261014
SUMMARY:Students Resume
CLASS:PUBLIC
X-MICROSOFT-CDO-ALLDAYEVENT:TRUE
DTSTAMP:20260421T201338Z
END:VEVENT
BEGIN:VEVENT
UID:sb_ical_event5437974@sch715.schoolbytes.cal
DTSTART;VALUE=DATE:20251125
SEQUENCE:0
TRANSP:OPAQUE
DTEND;VALUE=DATE:20251126
SUMMARY:Transition
CLASS:PUBLIC
X-MICROSOFT-CDO-ALLDAYEVENT:TRUE
DTSTAMP:20260421T201338Z
END:VEVENT
BEGIN:VEVENT
UID:sb_ical_event5437981@sch715.schoolbytes.cal
DTSTART;VALUE=DATE:20251202
SEQUENCE:0
TRANSP:OPAQUE
DTEND;VALUE=DATE:20251203
SUMMARY:Transition
CLASS:PUBLIC
X-MICROSOFT-CDO-ALLDAYEVENT:TRUE
DTSTAMP:20260421T201338Z
END:VEVENT
BEGIN:VEVENT
UID:sb_ical_event5438006@sch715.schoolbytes.cal
DTSTART;VALUE=DATE:20251209
SEQUENCE:0
TRANSP:OPAQUE
DTEND;VALUE=DATE:20251210
SUMMARY:Last day of Transition
CLASS:PUBLIC
X-MICROSOFT-CDO-ALLDAYEVENT:TRUE
DTSTAMP:20260421T201338Z
END:VEVENT
BEGIN:VEVENT
UID:sb_ical_event5439061@sch715.schoolbytes.cal
DTSTART:20260514T223000Z
SEQUENCE:0
TRANSP:OPAQUE
DTEND:20260515T053000Z
SUMMARY:National Walk Safely to School Day.
CLASS:PUBLIC
DTSTAMP:20260421T201338Z
END:VEVENT
BEGIN:VEVENT
UID:sb_ical_event5462316@sch715.schoolbytes.cal
DTSTART:20260219T210000Z
SEQUENCE:0
TRANSP:OPAQUE
DTEND:20260220T050000Z
SUMMARY:National Ride 2 School Day
CLASS:PUBLIC
DTSTAMP:20260421T201338Z
END:VEVENT
BEGIN:VEVENT
UID:sb_ical_event6241776@sch715.schoolbytes.cal
DTSTART;VALUE=DATE:20260311
SEQUENCE:0
TRANSP:OPAQUE
DTEND;VALUE=DATE:20260312
SUMMARY:P&C AGM
CLASS:PUBLIC
X-MICROSOFT-CDO-ALLDAYEVENT:TRUE
DTSTAMP:20260421T201338Z
END:VEVENT
BEGIN:VEVENT
UID:sb_ical_event5529688@sch715.schoolbytes.cal
DTSTART;VALUE=DATE:20260501
SEQUENCE:0
TRANSP:OPAQUE
DTEND;VALUE=DATE:20260502
SUMMARY:Clarence District PSSA Cross Country
CLASS:PUBLIC
X-MICROSOFT-CDO-ALLDAYEVENT:TRUE
DTSTAMP:20260421T201338Z
END:VEVENT
BEGIN:VEVENT
UID:sb_ical_event5562476@sch715.schoolbytes.cal
DTSTART;VALUE=DATE:20260325
SEQUENCE:0
TRANSP:OPAQUE
DTEND;VALUE=DATE:20260326
SUMMARY:Small Schools Cross Country
CLASS:PUBLIC
X-MICROSOFT-CDO-ALLDAYEVENT:TRUE
DTSTAMP:20260421T201338Z
END:VEVENT
BEGIN:VEVENT
UID:sb_ical_event5604934@sch715.schoolbytes.cal
DTSTART:20260213T031500Z
SEQUENCE:0
TRANSP:OPAQUE
DTEND:20260213T041500Z
SUMMARY:Assembly - Swimming presentation and School leader induction
CLASS:PUBLIC
DTSTAMP:20260421T201338Z
END:VEVENT
BEGIN:VEVENT
UID:sb_ical_event5604976@sch715.schoolbytes.cal
DTSTART:20260227T034500Z
SEQUENCE:0
TRANSP:OPAQUE
DTEND:20260227T041500Z
SUMMARY:Assembly - 1/2 performance
CLASS:PUBLIC
DTSTAMP:20260421T201338Z
END:VEVENT
BEGIN:VEVENT
UID:sb_ical_event5605027@sch715.schoolbytes.cal
DTSTART:20260313T034500Z
SEQUENCE:0
TRANSP:OPAQUE
DTEND:20260313T041500Z
SUMMARY:Assembly 3/4 performance
CLASS:PUBLIC
DTSTAMP:20260421T201338Z
END:VEVENT
BEGIN:VEVENT
UID:sb_ical_event5605109@sch715.schoolbytes.cal
DTSTART:20260327T034500Z
SEQUENCE:0
TRANSP:OPAQUE
DTEND:20260327T041500Z
SUMMARY:Assembly - Kindy performance
CLASS:PUBLIC
DTSTAMP:20260421T201338Z
END:VEVENT
BEGIN:VEVENT
UID:sb_ical_event5605327@sch715.schoolbytes.cal
DTSTART:20260318T223000Z
SEQUENCE:0
TRANSP:OPAQUE
DTEND:20260319T001500Z
SUMMARY:Ulmarra PS Cross Country
CLASS:PUBLIC
DTSTAMP:20260421T201338Z
END:VEVENT
BEGIN:VEVENT
UID:sb_ical_event5605813@sch715.schoolbytes.cal
DTSTART;VALUE=DATE:20260302
SEQUENCE:0
TRANSP:OPAQUE
DTEND;VALUE=DATE:20260307
SUMMARY:Parent Teacher Interviews
CLASS:PUBLIC
X-MICROSOFT-CDO-ALLDAYEVENT:TRUE
DTSTAMP:20260421T201338Z
END:VEVENT
BEGIN:VEVENT
UID:sb_ical_event5612155@sch715.schoolbytes.cal
DTSTART:20260206T023000Z
SEQUENCE:0
TRANSP:OPAQUE
DTEND:20260206T030000Z
SUMMARY:Canteen - Loose Change only
CLASS:PUBLIC
DESCRIPTION:Lunchtime
DTSTAMP:20260421T201338Z
END:VEVENT
BEGIN:VEVENT
UID:sb_ical_event5612156@sch715.schoolbytes.cal
DTSTART:20260213T023000Z
SEQUENCE:0
TRANSP:OPAQUE
DTEND:20260213T030000Z
SUMMARY:Canteen - Loose Change only
CLASS:PUBLIC
DESCRIPTION:Lunchtime
DTSTAMP:20260421T201338Z
END:VEVENT
BEGIN:VEVENT
UID:sb_ical_event5612171@sch715.schoolbytes.cal
DTSTART:20260220T023000Z
SEQUENCE:0
TRANSP:OPAQUE
DTEND:20260220T030000Z
SUMMARY:Canteen - Loose Change only
CLASS:PUBLIC
DESCRIPTION:Lunchtime
DTSTAMP:20260421T201338Z
END:VEVENT
BEGIN:VEVENT
UID:sb_ical_event5675489@sch715.schoolbytes.cal
DTSTART;VALUE=DATE:20260223
SEQUENCE:0
TRANSP:OPAQUE
DTEND;VALUE=DATE:20260224
SUMMARY:Premiers Reading Challenge Starts
CLASS:PUBLIC
X-MICROSOFT-CDO-ALLDAYEVENT:TRUE
DTSTAMP:20260421T201338Z
END:VEVENT
BEGIN:VEVENT
UID:sb_ical_event5715051@sch715.schoolbytes.cal
DTSTART;VALUE=DATE:20260217
SEQUENCE:0
TRANSP:OPAQUE
DTEND;VALUE=DATE:20260218
SUMMARY:Scholastic Book Club - Issue 1 - Orders and payment due back at sch
 ool
CLASS:PUBLIC
X-MICROSOFT-CDO-ALLDAYEVENT:TRUE
DTSTAMP:20260421T201338Z
END:VEVENT
BEGIN:VEVENT
UID:sb_ical_event6615407@sch715.schoolbytes.cal
DTSTART:20260329T221500Z
SEQUENCE:0
TRANSP:OPAQUE
DTEND:20260330T041500Z
SUMMARY:Surfing Woolgoolga
CLASS:PUBLIC
DTSTAMP:20260421T201338Z
END:VEVENT
BEGIN:VEVENT
UID:sb_ical_event6383056@sch715.schoolbytes.cal
DTSTART;VALUE=DATE:20260220
SEQUENCE:0
TRANSP:OPAQUE
DTEND;VALUE=DATE:20260221
SUMMARY:P&C Hotel Raffles 6:30pm
CLASS:PUBLIC
DESCRIPTION:Helpers needed. Please contact the  school if you can volunteer
 .
X-MICROSOFT-CDO-ALLDAYEVENT:TRUE
DTSTAMP:20260421T201338Z
END:VEVENT
BEGIN:VEVENT
UID:sb_ical_event6589167@sch715.schoolbytes.cal
DTSTART;VALUE=DATE:20260616
SEQUENCE:0
TRANSP:OPAQUE
DTEND;VALUE=DATE:20260617
SUMMARY:Small Schools PSSA Athletics Carnival
CLASS:PUBLIC
X-MICROSOFT-CDO-ALLDAYEVENT:TRUE
DTSTAMP:20260421T201338Z
END:VEVENT
BEGIN:VEVENT
UID:sb_ical_event6746670@sch715.schoolbytes.cal
DTSTART:20260324T060000Z
SEQUENCE:0
TRANSP:OPAQUE
DTEND:20260324T073000Z
SUMMARY:Year 6 into Year 7 Information Evening SGHS
CLASS:PUBLIC
DTSTAMP:20260421T201338Z
END:VEVENT
BEGIN:VEVENT
UID:sb_ical_event6615445@sch715.schoolbytes.cal
DTSTART:20260618T231500Z
SEQUENCE:0
TRANSP:OPAQUE
DTEND:20260619T051500Z
SUMMARY:SGHS - Yr 6 Maths & Science Transition Day
CLASS:PUBLIC
DTSTAMP:20260421T201338Z
END:VEVENT
BEGIN:VEVENT
UID:sb_ical_event6615440@sch715.schoolbytes.cal
DTSTART:20260625T231500Z
SEQUENCE:0
TRANSP:OPAQUE
DTEND:20260626T051500Z
SUMMARY:SGHS - Yr 6 Maths & Science Transition Day
CLASS:PUBLIC
DTSTAMP:20260421T201338Z
END:VEVENT
BEGIN:VEVENT
UID:sb_ical_event6615450@sch715.schoolbytes.cal
DTSTART:20260831T231500Z
SEQUENCE:0
TRANSP:OPAQUE
DTEND:20260901T051500Z
SUMMARY:SGHS Yr 6 CAPA & TAS Day
CLASS:PUBLIC
DTSTAMP:20260421T201338Z
END:VEVENT
BEGIN:VEVENT
UID:sb_ical_event6999799@sch715.schoolbytes.cal
DTSTART;VALUE=DATE:20270204
SEQUENCE:0
TRANSP:OPAQUE
DTEND;VALUE=DATE:20270205
SUMMARY:Ulmarra Swimming Carnival
CLASS:PUBLIC
X-MICROSOFT-CDO-ALLDAYEVENT:TRUE
DTSTAMP:20260421T201338Z
END:VEVENT
BEGIN:VEVENT
UID:sb_ical_event6999805@sch715.schoolbytes.cal
DTSTART;VALUE=DATE:20270210
SEQUENCE:0
TRANSP:OPAQUE
DTEND;VALUE=DATE:20270211
SUMMARY:Small Schools Swimming Carnival
CLASS:PUBLIC
X-MICROSOFT-CDO-ALLDAYEVENT:TRUE
DTSTAMP:20260421T201338Z
END:VEVENT
BEGIN:VEVENT
UID:sb_ical_event6999814@sch715.schoolbytes.cal
DTSTART;VALUE=DATE:20270219
SEQUENCE:0
TRANSP:OPAQUE
DTEND;VALUE=DATE:20270220
SUMMARY:Clarence District Swimming Carnival
CLASS:PUBLIC
X-MICROSOFT-CDO-ALLDAYEVENT:TRUE
DTSTAMP:20260421T201338Z
END:VEVENT
BEGIN:VEVENT
UID:sb_ical_event7300134@sch715.schoolbytes.cal
DTSTART:20260331T221500Z
SEQUENCE:0
TRANSP:OPAQUE
DTEND:20260401T001500Z
SUMMARY:Easter Hat Parade at Rathgar
CLASS:PUBLIC
DESCRIPTION:Walk to Rathgar for Hat Parade - parents welcome to attend.
DTSTAMP:20260421T201338Z
END:VEVENT
BEGIN:VEVENT
UID:sb_ical_event7359095@sch715.schoolbytes.cal
DTSTART:20260423T232000Z
SEQUENCE:0
TRANSP:OPAQUE
DTEND:20260424T003000Z
SUMMARY:UPS - ANZAC Day service
CLASS:PUBLIC
DTSTAMP:20260421T201338Z
END:VEVENT
BEGIN:VEVENT
UID:sb_ical_event7391391@sch715.schoolbytes.cal
DTSTART;VALUE=DATE:20260507
SEQUENCE:0
TRANSP:OPAQUE
DTEND;VALUE=DATE:20260508
SUMMARY:P&C Mother's Day Stall
CLASS:PUBLIC
X-MICROSOFT-CDO-ALLDAYEVENT:TRUE
DTSTAMP:20260421T201338Z
END:VEVENT
BEGIN:VEVENT
UID:sb_ical_event7423504@sch715.schoolbytes.cal
DTSTART;VALUE=DATE:20260829
SEQUENCE:0
TRANSP:OPAQUE
DTEND;VALUE=DATE:20260830
SUMMARY:P&C Trivia Night - TBC
CLASS:PUBLIC
X-MICROSOFT-CDO-ALLDAYEVENT:TRUE
DTSTAMP:20260421T201338Z
END:VEVENT
BEGIN:VEVENT
UID:sb_ical_event7423535@sch715.schoolbytes.cal
DTSTART:20260513T073000Z
SEQUENCE:0
TRANSP:OPAQUE
DTEND:20260513T090000Z
SUMMARY:P&C Meeting
CLASS:PUBLIC
DTSTAMP:20260421T201338Z
END:VEVENT
BEGIN:VEVENT
UID:sb_ical_event7428429@sch715.schoolbytes.cal
DTSTART:20260320T071500Z
SEQUENCE:0
TRANSP:OPAQUE
DTEND:20260320T090000Z
SUMMARY:P&C Pub Rafles
CLASS:PUBLIC
DESCRIPTION:Helpers are always welcomed!
DTSTAMP:20260421T201338Z
END:VEVENT
BEGIN:VEVENT
UID:sb_ical_event7513325@sch715.schoolbytes.cal
DTSTART;VALUE=DATE:20260515
SEQUENCE:0
TRANSP:OPAQUE
DTEND;VALUE=DATE:20260516
SUMMARY:P&C Pub Raffles - 6:15pm
CLASS:PUBLIC
X-MICROSOFT-CDO-ALLDAYEVENT:TRUE
DTSTAMP:20260421T201338Z
END:VEVENT
BEGIN:VEVENT
UID:sb_ical_event7513365@sch715.schoolbytes.cal
DTSTART;VALUE=DATE:20260612
SEQUENCE:0
TRANSP:OPAQUE
DTEND;VALUE=DATE:20260613
SUMMARY:P&C Pub Raffles- 6:15am
CLASS:PUBLIC
X-MICROSOFT-CDO-ALLDAYEVENT:TRUE
DTSTAMP:20260421T201338Z
END:VEVENT
BEGIN:VEVENT
UID:sb_ical_event7513409@sch715.schoolbytes.cal
DTSTART;VALUE=DATE:20260807
SEQUENCE:0
TRANSP:OPAQUE
DTEND;VALUE=DATE:20260808
SUMMARY:P&C Pub Raffles - 6:15pm
CLASS:PUBLIC
X-MICROSOFT-CDO-ALLDAYEVENT:TRUE
DTSTAMP:20260421T201338Z
END:VEVENT
BEGIN:VEVENT
UID:sb_ical_event7513474@sch715.schoolbytes.cal
DTSTART;VALUE=DATE:20260904
SEQUENCE:0
TRANSP:OPAQUE
DTEND;VALUE=DATE:20260905
SUMMARY:P&C Pub Raffles - 6:15pm
CLASS:PUBLIC
X-MICROSOFT-CDO-ALLDAYEVENT:TRUE
DTSTAMP:20260421T201338Z
END:VEVENT
BEGIN:VEVENT
UID:sb_ical_event7513516@sch715.schoolbytes.cal
DTSTART;VALUE=DATE:20261030
SEQUENCE:0
TRANSP:OPAQUE
DTEND;VALUE=DATE:20261031
SUMMARY:P&C Pub Raffles - 6:15pm
CLASS:PUBLIC
X-MICROSOFT-CDO-ALLDAYEVENT:TRUE
DTSTAMP:20260421T201338Z
END:VEVENT
BEGIN:VEVENT
UID:sb_ical_event7513552@sch715.schoolbytes.cal
DTSTART;VALUE=DATE:20261127
SEQUENCE:0
TRANSP:OPAQUE
DTEND;VALUE=DATE:20261128
SUMMARY:P&C Pub Raffles - 6\;15pm
CLASS:PUBLIC
X-MICROSOFT-CDO-ALLDAYEVENT:TRUE
DTSTAMP:20260421T201338Z
END:VEVENT
BEGIN:VEVENT
UID:sb_ical_event7774940@sch715.schoolbytes.cal
DTSTART;VALUE=DATE:20260501
SEQUENCE:0
TRANSP:OPAQUE
DTEND;VALUE=DATE:20260502
SUMMARY:Canteen - Loose Change Menu
CLASS:PUBLIC
X-MICROSOFT-CDO-ALLDAYEVENT:TRUE
DTSTAMP:20260421T201338Z
END:VEVENT
END:VCALENDAR