BEGIN:VCALENDAR
VERSION:2.0
PRODID://School Bytes School Calendar//
X-WR-CALNAME:Leeville Public School - Leeville PS Families/Website Calendar
X-WR-RELCALID:sb_ical9187@sch756.schoolbytes.cal
X-PUBLISHED-TTL:PT1H
BEGIN:VEVENT
UID:sb_ical_event5055432@sch756.schoolbytes.cal
DTSTART;VALUE=DATE:20250904
SEQUENCE:0
TRANSP:OPAQUE
DTEND;VALUE=DATE:20250905
SUMMARY:NR PSSA Athletics
CLASS:PUBLIC
DESCRIPTION:NR PSSA Athletics
X-MICROSOFT-CDO-ALLDAYEVENT:TRUE
DTSTAMP:20260425T083843Z
END:VEVENT
BEGIN:VEVENT
UID:sb_ical_event5055490@sch756.schoolbytes.cal
DTSTART;VALUE=DATE:20250903
SEQUENCE:0
TRANSP:OPAQUE
DTEND;VALUE=DATE:20250904
SUMMARY:Play Practice
CLASS:PUBLIC
DESCRIPTION:Play Practice
X-MICROSOFT-CDO-ALLDAYEVENT:TRUE
DTSTAMP:20260425T083843Z
END:VEVENT
BEGIN:VEVENT
UID:sb_ical_event5055492@sch756.schoolbytes.cal
DTSTART;VALUE=DATE:20250910
SEQUENCE:0
TRANSP:OPAQUE
DTEND;VALUE=DATE:20250911
SUMMARY:Play Practice
CLASS:PUBLIC
DESCRIPTION:Play Practice
X-MICROSOFT-CDO-ALLDAYEVENT:TRUE
DTSTAMP:20260425T083843Z
END:VEVENT
BEGIN:VEVENT
UID:sb_ical_event5055494@sch756.schoolbytes.cal
DTSTART;VALUE=DATE:20250918
SEQUENCE:0
TRANSP:OPAQUE
DTEND;VALUE=DATE:20250919
SUMMARY:School Play
CLASS:PUBLIC
DESCRIPTION:School Play
X-MICROSOFT-CDO-ALLDAYEVENT:TRUE
DTSTAMP:20260425T083843Z
END:VEVENT
BEGIN:VEVENT
UID:sb_ical_event5055501@sch756.schoolbytes.cal
DTSTART;VALUE=DATE:20250922
SEQUENCE:0
TRANSP:OPAQUE
DTEND;VALUE=DATE:20250923
SUMMARY:Performing Arts
CLASS:PUBLIC
DESCRIPTION:Performing Arts
X-MICROSOFT-CDO-ALLDAYEVENT:TRUE
DTSTAMP:20260425T083843Z
END:VEVENT
BEGIN:VEVENT
UID:sb_ical_event5055513@sch756.schoolbytes.cal
DTSTART;VALUE=DATE:20251013
SEQUENCE:0
TRANSP:OPAQUE
DTEND;VALUE=DATE:20251014
SUMMARY:STAFF ONLY DAY - Term 4 2025 - School Development Day
CLASS:PUBLIC
DESCRIPTION:STAFF ONLY DAY - Term 4 2025 - School Development Day
X-MICROSOFT-CDO-ALLDAYEVENT:TRUE
DTSTAMP:20260425T083843Z
END:VEVENT
BEGIN:VEVENT
UID:sb_ical_event5055530@sch756.schoolbytes.cal
DTSTART:20251023T220000Z
SEQUENCE:0
TRANSP:OPAQUE
DTEND:20251024T000000Z
SUMMARY:Kinder Orientation - Session 2
CLASS:PUBLIC
DESCRIPTION:Kinder Orientation - Session 2
DTSTAMP:20260425T083843Z
END:VEVENT
BEGIN:VEVENT
UID:sb_ical_event5055534@sch756.schoolbytes.cal
DTSTART:20251113T220000Z
SEQUENCE:0
TRANSP:OPAQUE
DTEND:20251114T010000Z
SUMMARY:Kinder Orientation - Session 3
CLASS:PUBLIC
DESCRIPTION:Kinder Orientation - Session 3
DTSTAMP:20260425T083843Z
END:VEVENT
BEGIN:VEVENT
UID:sb_ical_event5055542@sch756.schoolbytes.cal
DTSTART;VALUE=DATE:20251117
SEQUENCE:0
TRANSP:OPAQUE
DTEND;VALUE=DATE:20251119
SUMMARY:Adventure Camp
CLASS:PUBLIC
DESCRIPTION:Adventure Camp
X-MICROSOFT-CDO-ALLDAYEVENT:TRUE
DTSTAMP:20260425T083843Z
END:VEVENT
BEGIN:VEVENT
UID:sb_ical_event5055569@sch756.schoolbytes.cal
DTSTART:20251127T220000Z
SEQUENCE:0
TRANSP:OPAQUE
DTEND:20251128T030000Z
SUMMARY:Kinder Orientation - Session 4
CLASS:PUBLIC
DESCRIPTION:Kinder Orientation - Session 4
DTSTAMP:20260425T083843Z
END:VEVENT
BEGIN:VEVENT
UID:sb_ical_event5055585@sch756.schoolbytes.cal
DTSTART:20251211T220000Z
SEQUENCE:0
TRANSP:OPAQUE
DTEND:20251212T010000Z
SUMMARY:Kinder Orientation - Session 5
CLASS:PUBLIC
DESCRIPTION:Kinder Orientation - Session 5
DTSTAMP:20260425T083843Z
END:VEVENT
BEGIN:VEVENT
UID:sb_ical_event5055686@sch756.schoolbytes.cal
DTSTART;VALUE=DATE:20251201
SEQUENCE:0
TRANSP:OPAQUE
DTEND;VALUE=DATE:20251213
SUMMARY:Intensive Swimming
CLASS:PUBLIC
DESCRIPTION:Intensive Swimming
X-MICROSOFT-CDO-ALLDAYEVENT:TRUE
DTSTAMP:20260425T083843Z
END:VEVENT
BEGIN:VEVENT
UID:sb_ical_event5055690@sch756.schoolbytes.cal
DTSTART;VALUE=DATE:20251108
SEQUENCE:0
TRANSP:OPAQUE
DTEND;VALUE=DATE:20251109
SUMMARY:Trivia Night
CLASS:PUBLIC
DESCRIPTION:Trivia Night
X-MICROSOFT-CDO-ALLDAYEVENT:TRUE
DTSTAMP:20260425T083843Z
END:VEVENT
BEGIN:VEVENT
UID:sb_ical_event5055696@sch756.schoolbytes.cal
DTSTART;VALUE=DATE:20250828
SEQUENCE:0
TRANSP:OPAQUE
DTEND;VALUE=DATE:20250829
SUMMARY:Mobile Library
CLASS:PUBLIC
DESCRIPTION:Mobile Library
X-MICROSOFT-CDO-ALLDAYEVENT:TRUE
DTSTAMP:20260425T083843Z
END:VEVENT
BEGIN:VEVENT
UID:sb_ical_event5055697@sch756.schoolbytes.cal
DTSTART;VALUE=DATE:20250911
SEQUENCE:0
TRANSP:OPAQUE
DTEND;VALUE=DATE:20250912
SUMMARY:Mobile Library
CLASS:PUBLIC
DESCRIPTION:Mobile Library
X-MICROSOFT-CDO-ALLDAYEVENT:TRUE
DTSTAMP:20260425T083843Z
END:VEVENT
BEGIN:VEVENT
UID:sb_ical_event5055698@sch756.schoolbytes.cal
DTSTART;VALUE=DATE:20250925
SEQUENCE:0
TRANSP:OPAQUE
DTEND;VALUE=DATE:20250926
SUMMARY:Mobile Library
CLASS:PUBLIC
DESCRIPTION:Mobile Library
X-MICROSOFT-CDO-ALLDAYEVENT:TRUE
DTSTAMP:20260425T083843Z
END:VEVENT
BEGIN:VEVENT
UID:sb_ical_event5055699@sch756.schoolbytes.cal
DTSTART;VALUE=DATE:20251023
SEQUENCE:0
TRANSP:OPAQUE
DTEND;VALUE=DATE:20251024
SUMMARY:Mobile Library
CLASS:PUBLIC
DESCRIPTION:Mobile Library
X-MICROSOFT-CDO-ALLDAYEVENT:TRUE
DTSTAMP:20260425T083843Z
END:VEVENT
BEGIN:VEVENT
UID:sb_ical_event5055700@sch756.schoolbytes.cal
DTSTART;VALUE=DATE:20251106
SEQUENCE:0
TRANSP:OPAQUE
DTEND;VALUE=DATE:20251107
SUMMARY:Mobile Library
CLASS:PUBLIC
DESCRIPTION:Mobile Library
X-MICROSOFT-CDO-ALLDAYEVENT:TRUE
DTSTAMP:20260425T083843Z
END:VEVENT
BEGIN:VEVENT
UID:sb_ical_event5055701@sch756.schoolbytes.cal
DTSTART;VALUE=DATE:20251120
SEQUENCE:0
TRANSP:OPAQUE
DTEND;VALUE=DATE:20251121
SUMMARY:Mobile Library
CLASS:PUBLIC
DESCRIPTION:Mobile Library
X-MICROSOFT-CDO-ALLDAYEVENT:TRUE
DTSTAMP:20260425T083843Z
END:VEVENT
BEGIN:VEVENT
UID:sb_ical_event5055702@sch756.schoolbytes.cal
DTSTART;VALUE=DATE:20251204
SEQUENCE:0
TRANSP:OPAQUE
DTEND;VALUE=DATE:20251205
SUMMARY:Mobile Library
CLASS:PUBLIC
DESCRIPTION:Mobile Library
X-MICROSOFT-CDO-ALLDAYEVENT:TRUE
DTSTAMP:20260425T083843Z
END:VEVENT
BEGIN:VEVENT
UID:sb_ical_event5055703@sch756.schoolbytes.cal
DTSTART;VALUE=DATE:20251218
SEQUENCE:0
TRANSP:OPAQUE
DTEND;VALUE=DATE:20251219
SUMMARY:Mobile Library
CLASS:PUBLIC
DESCRIPTION:Mobile Library
X-MICROSOFT-CDO-ALLDAYEVENT:TRUE
DTSTAMP:20260425T083843Z
END:VEVENT
BEGIN:VEVENT
UID:sb_ical_event5340032@sch756.schoolbytes.cal
DTSTART;VALUE=DATE:20251022
SEQUENCE:0
TRANSP:OPAQUE
DTEND;VALUE=DATE:20251023
SUMMARY:Weekly Swimming
CLASS:PUBLIC
DESCRIPTION:Weekly Swimming
X-MICROSOFT-CDO-ALLDAYEVENT:TRUE
DTSTAMP:20260425T083843Z
END:VEVENT
BEGIN:VEVENT
UID:sb_ical_event5340033@sch756.schoolbytes.cal
DTSTART;VALUE=DATE:20251029
SEQUENCE:0
TRANSP:OPAQUE
DTEND;VALUE=DATE:20251030
SUMMARY:Weekly Swimming
CLASS:PUBLIC
DESCRIPTION:Weekly Swimming
X-MICROSOFT-CDO-ALLDAYEVENT:TRUE
DTSTAMP:20260425T083843Z
END:VEVENT
BEGIN:VEVENT
UID:sb_ical_event5340034@sch756.schoolbytes.cal
DTSTART;VALUE=DATE:20251105
SEQUENCE:0
TRANSP:OPAQUE
DTEND;VALUE=DATE:20251106
SUMMARY:Weekly Swimming
CLASS:PUBLIC
DESCRIPTION:Weekly Swimming
X-MICROSOFT-CDO-ALLDAYEVENT:TRUE
DTSTAMP:20260425T083843Z
END:VEVENT
BEGIN:VEVENT
UID:sb_ical_event5340035@sch756.schoolbytes.cal
DTSTART;VALUE=DATE:20251112
SEQUENCE:0
TRANSP:OPAQUE
DTEND;VALUE=DATE:20251113
SUMMARY:Weekly Swimming
CLASS:PUBLIC
DESCRIPTION:Weekly Swimming
X-MICROSOFT-CDO-ALLDAYEVENT:TRUE
DTSTAMP:20260425T083843Z
END:VEVENT
BEGIN:VEVENT
UID:sb_ical_event5340036@sch756.schoolbytes.cal
DTSTART;VALUE=DATE:20251119
SEQUENCE:0
TRANSP:OPAQUE
DTEND;VALUE=DATE:20251120
SUMMARY:Weekly Swimming
CLASS:PUBLIC
DESCRIPTION:Weekly Swimming
X-MICROSOFT-CDO-ALLDAYEVENT:TRUE
DTSTAMP:20260425T083843Z
END:VEVENT
BEGIN:VEVENT
UID:sb_ical_event5340037@sch756.schoolbytes.cal
DTSTART;VALUE=DATE:20251126
SEQUENCE:0
TRANSP:OPAQUE
DTEND;VALUE=DATE:20251127
SUMMARY:Weekly Swimming
CLASS:PUBLIC
DESCRIPTION:Weekly Swimming
X-MICROSOFT-CDO-ALLDAYEVENT:TRUE
DTSTAMP:20260425T083843Z
END:VEVENT
BEGIN:VEVENT
UID:sb_ical_event5340038@sch756.schoolbytes.cal
DTSTART;VALUE=DATE:20251217
SEQUENCE:0
TRANSP:OPAQUE
DTEND;VALUE=DATE:20251218
SUMMARY:Weekly Swimming
CLASS:PUBLIC
DESCRIPTION:Weekly Swimming
X-MICROSOFT-CDO-ALLDAYEVENT:TRUE
DTSTAMP:20260425T083843Z
END:VEVENT
BEGIN:VEVENT
UID:sb_ical_event5350931@sch756.schoolbytes.cal
DTSTART;VALUE=DATE:20251202
SEQUENCE:0
TRANSP:OPAQUE
DTEND;VALUE=DATE:20251203
SUMMARY:CHS - Year 7 2026 Orientation
CLASS:PUBLIC
DESCRIPTION:Casino HS - Year 7 2026 Orientation
X-MICROSOFT-CDO-ALLDAYEVENT:TRUE
DTSTAMP:20260425T083843Z
END:VEVENT
BEGIN:VEVENT
UID:sb_ical_event5469171@sch756.schoolbytes.cal
DTSTART;VALUE=DATE:20251215
SEQUENCE:0
TRANSP:OPAQUE
DTEND;VALUE=DATE:20251216
SUMMARY:Chinese Toy Raffle
CLASS:PUBLIC
DESCRIPTION:Chinese Toy Raffle
X-MICROSOFT-CDO-ALLDAYEVENT:TRUE
DTSTAMP:20260425T083843Z
END:VEVENT
BEGIN:VEVENT
UID:sb_ical_event5469173@sch756.schoolbytes.cal
DTSTART;VALUE=DATE:20251216
SEQUENCE:0
TRANSP:OPAQUE
DTEND;VALUE=DATE:20251217
SUMMARY:Presentation Night
CLASS:PUBLIC
DESCRIPTION:Presentation Night
X-MICROSOFT-CDO-ALLDAYEVENT:TRUE
DTSTAMP:20260425T083843Z
END:VEVENT
BEGIN:VEVENT
UID:sb_ical_event5469177@sch756.schoolbytes.cal
DTSTART;VALUE=DATE:20251219
SEQUENCE:0
TRANSP:OPAQUE
DTEND;VALUE=DATE:20251220
SUMMARY:Dojo Shop
CLASS:PUBLIC
DESCRIPTION:Dojo Shop
X-MICROSOFT-CDO-ALLDAYEVENT:TRUE
DTSTAMP:20260425T083843Z
END:VEVENT
BEGIN:VEVENT
UID:sb_ical_event5469186@sch756.schoolbytes.cal
DTSTART;VALUE=DATE:20251217
SEQUENCE:0
TRANSP:OPAQUE
DTEND;VALUE=DATE:20251218
SUMMARY:Pool Party
CLASS:PUBLIC
DESCRIPTION:Pool Party
X-MICROSOFT-CDO-ALLDAYEVENT:TRUE
DTSTAMP:20260425T083843Z
END:VEVENT
BEGIN:VEVENT
UID:sb_ical_event5469196@sch756.schoolbytes.cal
DTSTART;VALUE=DATE:20251218
SEQUENCE:0
TRANSP:OPAQUE
DTEND;VALUE=DATE:20251219
SUMMARY:Year 6 Excursion
CLASS:PUBLIC
DESCRIPTION:Year 6 Excursion
X-MICROSOFT-CDO-ALLDAYEVENT:TRUE
DTSTAMP:20260425T083843Z
END:VEVENT
BEGIN:VEVENT
UID:sb_ical_event5599907@sch756.schoolbytes.cal
DTSTART;VALUE=DATE:20260127
SEQUENCE:0
TRANSP:OPAQUE
DTEND;VALUE=DATE:20260128
SUMMARY:SDD 1 - STAFF Only
CLASS:PUBLIC
X-MICROSOFT-CDO-ALLDAYEVENT:TRUE
DTSTAMP:20260425T083843Z
END:VEVENT
BEGIN:VEVENT
UID:sb_ical_event5599908@sch756.schoolbytes.cal
DTSTART;VALUE=DATE:20260128
SEQUENCE:0
TRANSP:OPAQUE
DTEND;VALUE=DATE:20260129
SUMMARY:SDD 2 - STAFF Only
CLASS:PUBLIC
X-MICROSOFT-CDO-ALLDAYEVENT:TRUE
DTSTAMP:20260425T083843Z
END:VEVENT
BEGIN:VEVENT
UID:sb_ical_event5599928@sch756.schoolbytes.cal
DTSTART;VALUE=DATE:20260129
SEQUENCE:0
TRANSP:OPAQUE
DTEND;VALUE=DATE:20260130
SUMMARY:SDD 3 - STAFF Only
CLASS:PUBLIC
X-MICROSOFT-CDO-ALLDAYEVENT:TRUE
DTSTAMP:20260425T083843Z
END:VEVENT
BEGIN:VEVENT
UID:sb_ical_event5599929@sch756.schoolbytes.cal
DTSTART;VALUE=DATE:20260130
SEQUENCE:0
TRANSP:OPAQUE
DTEND;VALUE=DATE:20260131
SUMMARY:SDD 4 - STAFF Only
CLASS:PUBLIC
X-MICROSOFT-CDO-ALLDAYEVENT:TRUE
DTSTAMP:20260425T083843Z
END:VEVENT
BEGIN:VEVENT
UID:sb_ical_event5599930@sch756.schoolbytes.cal
DTSTART;VALUE=DATE:20260202
SEQUENCE:0
TRANSP:OPAQUE
DTEND;VALUE=DATE:20260203
SUMMARY:Students Return To School
CLASS:PUBLIC
X-MICROSOFT-CDO-ALLDAYEVENT:TRUE
DTSTAMP:20260425T083843Z
END:VEVENT
BEGIN:VEVENT
UID:sb_ical_event5599931@sch756.schoolbytes.cal
DTSTART;VALUE=DATE:20260206
SEQUENCE:0
TRANSP:OPAQUE
DTEND;VALUE=DATE:20260207
SUMMARY:CLASS Swimming Carnival
CLASS:PUBLIC
X-MICROSOFT-CDO-ALLDAYEVENT:TRUE
DTSTAMP:20260425T083843Z
END:VEVENT
BEGIN:VEVENT
UID:sb_ical_event6183292@sch756.schoolbytes.cal
DTSTART;VALUE=DATE:20260212
SEQUENCE:0
TRANSP:OPAQUE
DTEND;VALUE=DATE:20260213
SUMMARY:Mobile Library
CLASS:PUBLIC
DESCRIPTION:Mobile Library
X-MICROSOFT-CDO-ALLDAYEVENT:TRUE
DTSTAMP:20260425T083843Z
END:VEVENT
BEGIN:VEVENT
UID:sb_ical_event6183293@sch756.schoolbytes.cal
DTSTART;VALUE=DATE:20260226
SEQUENCE:0
TRANSP:OPAQUE
DTEND;VALUE=DATE:20260227
SUMMARY:Mobile Library
CLASS:PUBLIC
DESCRIPTION:Mobile Library
X-MICROSOFT-CDO-ALLDAYEVENT:TRUE
DTSTAMP:20260425T083843Z
END:VEVENT
BEGIN:VEVENT
UID:sb_ical_event6183294@sch756.schoolbytes.cal
DTSTART;VALUE=DATE:20260312
SEQUENCE:0
TRANSP:OPAQUE
DTEND;VALUE=DATE:20260313
SUMMARY:Mobile Library
CLASS:PUBLIC
DESCRIPTION:Mobile Library
X-MICROSOFT-CDO-ALLDAYEVENT:TRUE
DTSTAMP:20260425T083843Z
END:VEVENT
BEGIN:VEVENT
UID:sb_ical_event6183295@sch756.schoolbytes.cal
DTSTART;VALUE=DATE:20260326
SEQUENCE:0
TRANSP:OPAQUE
DTEND;VALUE=DATE:20260327
SUMMARY:Mobile Library
CLASS:PUBLIC
DESCRIPTION:Mobile Library
X-MICROSOFT-CDO-ALLDAYEVENT:TRUE
DTSTAMP:20260425T083843Z
END:VEVENT
BEGIN:VEVENT
UID:sb_ical_event6183296@sch756.schoolbytes.cal
DTSTART;VALUE=DATE:20260423
SEQUENCE:0
TRANSP:OPAQUE
DTEND;VALUE=DATE:20260424
SUMMARY:Mobile Library
CLASS:PUBLIC
DESCRIPTION:Mobile Library
X-MICROSOFT-CDO-ALLDAYEVENT:TRUE
DTSTAMP:20260425T083843Z
END:VEVENT
BEGIN:VEVENT
UID:sb_ical_event6183297@sch756.schoolbytes.cal
DTSTART;VALUE=DATE:20260507
SEQUENCE:0
TRANSP:OPAQUE
DTEND;VALUE=DATE:20260508
SUMMARY:Mobile Library
CLASS:PUBLIC
DESCRIPTION:Mobile Library
X-MICROSOFT-CDO-ALLDAYEVENT:TRUE
DTSTAMP:20260425T083843Z
END:VEVENT
BEGIN:VEVENT
UID:sb_ical_event6183298@sch756.schoolbytes.cal
DTSTART;VALUE=DATE:20260521
SEQUENCE:0
TRANSP:OPAQUE
DTEND;VALUE=DATE:20260522
SUMMARY:Mobile Library
CLASS:PUBLIC
DESCRIPTION:Mobile Library
X-MICROSOFT-CDO-ALLDAYEVENT:TRUE
DTSTAMP:20260425T083843Z
END:VEVENT
BEGIN:VEVENT
UID:sb_ical_event6183299@sch756.schoolbytes.cal
DTSTART;VALUE=DATE:20260604
SEQUENCE:0
TRANSP:OPAQUE
DTEND;VALUE=DATE:20260605
SUMMARY:Mobile Library
CLASS:PUBLIC
DESCRIPTION:Mobile Library
X-MICROSOFT-CDO-ALLDAYEVENT:TRUE
DTSTAMP:20260425T083843Z
END:VEVENT
BEGIN:VEVENT
UID:sb_ical_event6183300@sch756.schoolbytes.cal
DTSTART;VALUE=DATE:20260618
SEQUENCE:0
TRANSP:OPAQUE
DTEND;VALUE=DATE:20260619
SUMMARY:Mobile Library
CLASS:PUBLIC
DESCRIPTION:Mobile Library
X-MICROSOFT-CDO-ALLDAYEVENT:TRUE
DTSTAMP:20260425T083843Z
END:VEVENT
BEGIN:VEVENT
UID:sb_ical_event6183301@sch756.schoolbytes.cal
DTSTART;VALUE=DATE:20260702
SEQUENCE:0
TRANSP:OPAQUE
DTEND;VALUE=DATE:20260703
SUMMARY:Mobile Library
CLASS:PUBLIC
DESCRIPTION:Mobile Library
X-MICROSOFT-CDO-ALLDAYEVENT:TRUE
DTSTAMP:20260425T083843Z
END:VEVENT
BEGIN:VEVENT
UID:sb_ical_event6183302@sch756.schoolbytes.cal
DTSTART;VALUE=DATE:20260730
SEQUENCE:0
TRANSP:OPAQUE
DTEND;VALUE=DATE:20260731
SUMMARY:Mobile Library
CLASS:PUBLIC
DESCRIPTION:Mobile Library
X-MICROSOFT-CDO-ALLDAYEVENT:TRUE
DTSTAMP:20260425T083843Z
END:VEVENT
BEGIN:VEVENT
UID:sb_ical_event6183303@sch756.schoolbytes.cal
DTSTART;VALUE=DATE:20260813
SEQUENCE:0
TRANSP:OPAQUE
DTEND;VALUE=DATE:20260814
SUMMARY:Mobile Library
CLASS:PUBLIC
DESCRIPTION:Mobile Library
X-MICROSOFT-CDO-ALLDAYEVENT:TRUE
DTSTAMP:20260425T083843Z
END:VEVENT
BEGIN:VEVENT
UID:sb_ical_event6183304@sch756.schoolbytes.cal
DTSTART;VALUE=DATE:20260827
SEQUENCE:0
TRANSP:OPAQUE
DTEND;VALUE=DATE:20260828
SUMMARY:Mobile Library
CLASS:PUBLIC
DESCRIPTION:Mobile Library
X-MICROSOFT-CDO-ALLDAYEVENT:TRUE
DTSTAMP:20260425T083843Z
END:VEVENT
BEGIN:VEVENT
UID:sb_ical_event6183305@sch756.schoolbytes.cal
DTSTART;VALUE=DATE:20260910
SEQUENCE:0
TRANSP:OPAQUE
DTEND;VALUE=DATE:20260911
SUMMARY:Mobile Library
CLASS:PUBLIC
DESCRIPTION:Mobile Library
X-MICROSOFT-CDO-ALLDAYEVENT:TRUE
DTSTAMP:20260425T083843Z
END:VEVENT
BEGIN:VEVENT
UID:sb_ical_event6183306@sch756.schoolbytes.cal
DTSTART;VALUE=DATE:20260924
SEQUENCE:0
TRANSP:OPAQUE
DTEND;VALUE=DATE:20260925
SUMMARY:Mobile Library
CLASS:PUBLIC
DESCRIPTION:Mobile Library
X-MICROSOFT-CDO-ALLDAYEVENT:TRUE
DTSTAMP:20260425T083843Z
END:VEVENT
BEGIN:VEVENT
UID:sb_ical_event6183307@sch756.schoolbytes.cal
DTSTART;VALUE=DATE:20261022
SEQUENCE:0
TRANSP:OPAQUE
DTEND;VALUE=DATE:20261023
SUMMARY:Mobile Library
CLASS:PUBLIC
DESCRIPTION:Mobile Library
X-MICROSOFT-CDO-ALLDAYEVENT:TRUE
DTSTAMP:20260425T083843Z
END:VEVENT
BEGIN:VEVENT
UID:sb_ical_event6183308@sch756.schoolbytes.cal
DTSTART;VALUE=DATE:20261105
SEQUENCE:0
TRANSP:OPAQUE
DTEND;VALUE=DATE:20261106
SUMMARY:Mobile Library
CLASS:PUBLIC
DESCRIPTION:Mobile Library
X-MICROSOFT-CDO-ALLDAYEVENT:TRUE
DTSTAMP:20260425T083843Z
END:VEVENT
BEGIN:VEVENT
UID:sb_ical_event6183309@sch756.schoolbytes.cal
DTSTART;VALUE=DATE:20261119
SEQUENCE:0
TRANSP:OPAQUE
DTEND;VALUE=DATE:20261120
SUMMARY:Mobile Library
CLASS:PUBLIC
DESCRIPTION:Mobile Library
X-MICROSOFT-CDO-ALLDAYEVENT:TRUE
DTSTAMP:20260425T083843Z
END:VEVENT
BEGIN:VEVENT
UID:sb_ical_event6183310@sch756.schoolbytes.cal
DTSTART;VALUE=DATE:20261203
SEQUENCE:0
TRANSP:OPAQUE
DTEND;VALUE=DATE:20261204
SUMMARY:Mobile Library
CLASS:PUBLIC
DESCRIPTION:Mobile Library
X-MICROSOFT-CDO-ALLDAYEVENT:TRUE
DTSTAMP:20260425T083843Z
END:VEVENT
BEGIN:VEVENT
UID:sb_ical_event243@sch756.schoolbytes.cal
DTSTART;VALUE=DATE:20220418
SEQUENCE:0
TRANSP:OPAQUE
DTEND;VALUE=DATE:20220419
SUMMARY:Easter Monday
CLASS:PUBLIC
X-MICROSOFT-CDO-ALLDAYEVENT:TRUE
DTSTAMP:20260425T083843Z
END:VEVENT
BEGIN:VEVENT
UID:sb_ical_event244@sch756.schoolbytes.cal
DTSTART;VALUE=DATE:20220613
SEQUENCE:0
TRANSP:OPAQUE
DTEND;VALUE=DATE:20220614
SUMMARY:Queen's Birthday
CLASS:PUBLIC
X-MICROSOFT-CDO-ALLDAYEVENT:TRUE
DTSTAMP:20260425T083843Z
END:VEVENT
BEGIN:VEVENT
UID:sb_ical_event245@sch756.schoolbytes.cal
DTSTART;VALUE=DATE:20221003
SEQUENCE:0
TRANSP:OPAQUE
DTEND;VALUE=DATE:20221004
SUMMARY:Labour Day
CLASS:PUBLIC
X-MICROSOFT-CDO-ALLDAYEVENT:TRUE
DTSTAMP:20260425T083843Z
END:VEVENT
BEGIN:VEVENT
UID:sb_ical_event246@sch756.schoolbytes.cal
DTSTART;VALUE=DATE:20221226
SEQUENCE:0
TRANSP:OPAQUE
DTEND;VALUE=DATE:20221227
SUMMARY:Boxing Day
CLASS:PUBLIC
X-MICROSOFT-CDO-ALLDAYEVENT:TRUE
DTSTAMP:20260425T083843Z
END:VEVENT
BEGIN:VEVENT
UID:sb_ical_event247@sch756.schoolbytes.cal
DTSTART;VALUE=DATE:20230126
SEQUENCE:0
TRANSP:OPAQUE
DTEND;VALUE=DATE:20230127
SUMMARY:Australia Day
CLASS:PUBLIC
X-MICROSOFT-CDO-ALLDAYEVENT:TRUE
DTSTAMP:20260425T083843Z
END:VEVENT
BEGIN:VEVENT
UID:sb_ical_event248@sch756.schoolbytes.cal
DTSTART;VALUE=DATE:20230410
SEQUENCE:0
TRANSP:OPAQUE
DTEND;VALUE=DATE:20230411
SUMMARY:Easter Monday
CLASS:PUBLIC
X-MICROSOFT-CDO-ALLDAYEVENT:TRUE
DTSTAMP:20260425T083843Z
END:VEVENT
BEGIN:VEVENT
UID:sb_ical_event249@sch756.schoolbytes.cal
DTSTART;VALUE=DATE:20230425
SEQUENCE:0
TRANSP:OPAQUE
DTEND;VALUE=DATE:20230426
SUMMARY:ANZAC Day
CLASS:PUBLIC
X-MICROSOFT-CDO-ALLDAYEVENT:TRUE
DTSTAMP:20260425T083843Z
END:VEVENT
BEGIN:VEVENT
UID:sb_ical_event250@sch756.schoolbytes.cal
DTSTART;VALUE=DATE:20220425
SEQUENCE:0
TRANSP:OPAQUE
DTEND;VALUE=DATE:20220426
SUMMARY:ANZAC Day
CLASS:PUBLIC
X-MICROSOFT-CDO-ALLDAYEVENT:TRUE
DTSTAMP:20260425T083843Z
END:VEVENT
BEGIN:VEVENT
UID:sb_ical_event251@sch756.schoolbytes.cal
DTSTART;VALUE=DATE:20220126
SEQUENCE:0
TRANSP:OPAQUE
DTEND;VALUE=DATE:20220127
SUMMARY:Australia Day
CLASS:PUBLIC
X-MICROSOFT-CDO-ALLDAYEVENT:TRUE
DTSTAMP:20260425T083843Z
END:VEVENT
BEGIN:VEVENT
UID:sb_ical_event4285@sch756.schoolbytes.cal
DTSTART;VALUE=DATE:20220922
SEQUENCE:0
TRANSP:OPAQUE
DTEND;VALUE=DATE:20220923
SUMMARY:National day of mourning
CLASS:PUBLIC
X-MICROSOFT-CDO-ALLDAYEVENT:TRUE
DTSTAMP:20260425T083843Z
END:VEVENT
BEGIN:VEVENT
UID:sb_ical_event56057@sch756.schoolbytes.cal
DTSTART;VALUE=DATE:20230612
SEQUENCE:0
TRANSP:OPAQUE
DTEND;VALUE=DATE:20230613
SUMMARY:King's Birthday
CLASS:PUBLIC
X-MICROSOFT-CDO-ALLDAYEVENT:TRUE
DTSTAMP:20260425T083843Z
END:VEVENT
BEGIN:VEVENT
UID:sb_ical_event59395@sch756.schoolbytes.cal
DTSTART;VALUE=DATE:20230407
SEQUENCE:0
TRANSP:OPAQUE
DTEND;VALUE=DATE:20230408
SUMMARY:Good Friday
CLASS:PUBLIC
X-MICROSOFT-CDO-ALLDAYEVENT:TRUE
DTSTAMP:20260425T083843Z
END:VEVENT
BEGIN:VEVENT
UID:sb_ical_event59637@sch756.schoolbytes.cal
DTSTART;VALUE=DATE:20231002
SEQUENCE:0
TRANSP:OPAQUE
DTEND;VALUE=DATE:20231003
SUMMARY:Labour Day
CLASS:PUBLIC
X-MICROSOFT-CDO-ALLDAYEVENT:TRUE
DTSTAMP:20260425T083843Z
END:VEVENT
BEGIN:VEVENT
UID:sb_ical_event227877@sch756.schoolbytes.cal
DTSTART;VALUE=DATE:20231225
SEQUENCE:0
TRANSP:OPAQUE
DTEND;VALUE=DATE:20231226
SUMMARY:Christmas Day
CLASS:PUBLIC
X-MICROSOFT-CDO-ALLDAYEVENT:TRUE
DTSTAMP:20260425T083843Z
END:VEVENT
BEGIN:VEVENT
UID:sb_ical_event227878@sch756.schoolbytes.cal
DTSTART;VALUE=DATE:20231226
SEQUENCE:0
TRANSP:OPAQUE
DTEND;VALUE=DATE:20231227
SUMMARY:Boxing Day
CLASS:PUBLIC
X-MICROSOFT-CDO-ALLDAYEVENT:TRUE
DTSTAMP:20260425T083843Z
END:VEVENT
BEGIN:VEVENT
UID:sb_ical_event227879@sch756.schoolbytes.cal
DTSTART;VALUE=DATE:20240101
SEQUENCE:0
TRANSP:OPAQUE
DTEND;VALUE=DATE:20240102
SUMMARY:New Year's Day
CLASS:PUBLIC
X-MICROSOFT-CDO-ALLDAYEVENT:TRUE
DTSTAMP:20260425T083843Z
END:VEVENT
BEGIN:VEVENT
UID:sb_ical_event227880@sch756.schoolbytes.cal
DTSTART;VALUE=DATE:20240126
SEQUENCE:0
TRANSP:OPAQUE
DTEND;VALUE=DATE:20240127
SUMMARY:Australia Day
CLASS:PUBLIC
X-MICROSOFT-CDO-ALLDAYEVENT:TRUE
DTSTAMP:20260425T083843Z
END:VEVENT
BEGIN:VEVENT
UID:sb_ical_event227881@sch756.schoolbytes.cal
DTSTART;VALUE=DATE:20240329
SEQUENCE:0
TRANSP:OPAQUE
DTEND;VALUE=DATE:20240330
SUMMARY:Good Friday
CLASS:PUBLIC
X-MICROSOFT-CDO-ALLDAYEVENT:TRUE
DTSTAMP:20260425T083843Z
END:VEVENT
BEGIN:VEVENT
UID:sb_ical_event227882@sch756.schoolbytes.cal
DTSTART;VALUE=DATE:20240401
SEQUENCE:0
TRANSP:OPAQUE
DTEND;VALUE=DATE:20240402
SUMMARY:Easter Monday
CLASS:PUBLIC
X-MICROSOFT-CDO-ALLDAYEVENT:TRUE
DTSTAMP:20260425T083843Z
END:VEVENT
BEGIN:VEVENT
UID:sb_ical_event227883@sch756.schoolbytes.cal
DTSTART;VALUE=DATE:20240425
SEQUENCE:0
TRANSP:OPAQUE
DTEND;VALUE=DATE:20240426
SUMMARY:ANZAC Day
CLASS:PUBLIC
X-MICROSOFT-CDO-ALLDAYEVENT:TRUE
DTSTAMP:20260425T083843Z
END:VEVENT
BEGIN:VEVENT
UID:sb_ical_event227884@sch756.schoolbytes.cal
DTSTART;VALUE=DATE:20240610
SEQUENCE:0
TRANSP:OPAQUE
DTEND;VALUE=DATE:20240611
SUMMARY:King's Birthday
CLASS:PUBLIC
X-MICROSOFT-CDO-ALLDAYEVENT:TRUE
DTSTAMP:20260425T083843Z
END:VEVENT
BEGIN:VEVENT
UID:sb_ical_event227885@sch756.schoolbytes.cal
DTSTART;VALUE=DATE:20241007
SEQUENCE:0
TRANSP:OPAQUE
DTEND;VALUE=DATE:20241008
SUMMARY:Labour Day
CLASS:PUBLIC
X-MICROSOFT-CDO-ALLDAYEVENT:TRUE
DTSTAMP:20260425T083843Z
END:VEVENT
BEGIN:VEVENT
UID:sb_ical_event227886@sch756.schoolbytes.cal
DTSTART;VALUE=DATE:20241225
SEQUENCE:0
TRANSP:OPAQUE
DTEND;VALUE=DATE:20241226
SUMMARY:Christmas Day
CLASS:PUBLIC
X-MICROSOFT-CDO-ALLDAYEVENT:TRUE
DTSTAMP:20260425T083843Z
END:VEVENT
BEGIN:VEVENT
UID:sb_ical_event227887@sch756.schoolbytes.cal
DTSTART;VALUE=DATE:20241226
SEQUENCE:0
TRANSP:OPAQUE
DTEND;VALUE=DATE:20241227
SUMMARY:Boxing Day
CLASS:PUBLIC
X-MICROSOFT-CDO-ALLDAYEVENT:TRUE
DTSTAMP:20260425T083843Z
END:VEVENT
BEGIN:VEVENT
UID:sb_ical_event227888@sch756.schoolbytes.cal
DTSTART;VALUE=DATE:20250101
SEQUENCE:0
TRANSP:OPAQUE
DTEND;VALUE=DATE:20250102
SUMMARY:New Year's Day
CLASS:PUBLIC
X-MICROSOFT-CDO-ALLDAYEVENT:TRUE
DTSTAMP:20260425T083843Z
END:VEVENT
BEGIN:VEVENT
UID:sb_ical_event2031719@sch756.schoolbytes.cal
DTSTART;VALUE=DATE:20250127
SEQUENCE:0
TRANSP:OPAQUE
DTEND;VALUE=DATE:20250128
SUMMARY:Australia Day
CLASS:PUBLIC
X-MICROSOFT-CDO-ALLDAYEVENT:TRUE
DTSTAMP:20260425T083843Z
END:VEVENT
BEGIN:VEVENT
UID:sb_ical_event2031720@sch756.schoolbytes.cal
DTSTART;VALUE=DATE:20250418
SEQUENCE:0
TRANSP:OPAQUE
DTEND;VALUE=DATE:20250419
SUMMARY:Good Friday
CLASS:PUBLIC
X-MICROSOFT-CDO-ALLDAYEVENT:TRUE
DTSTAMP:20260425T083843Z
END:VEVENT
BEGIN:VEVENT
UID:sb_ical_event2031721@sch756.schoolbytes.cal
DTSTART;VALUE=DATE:20250421
SEQUENCE:0
TRANSP:OPAQUE
DTEND;VALUE=DATE:20250422
SUMMARY:Easter Monday
CLASS:PUBLIC
X-MICROSOFT-CDO-ALLDAYEVENT:TRUE
DTSTAMP:20260425T083843Z
END:VEVENT
BEGIN:VEVENT
UID:sb_ical_event2031722@sch756.schoolbytes.cal
DTSTART;VALUE=DATE:20250425
SEQUENCE:0
TRANSP:OPAQUE
DTEND;VALUE=DATE:20250426
SUMMARY:Anzac Day
CLASS:PUBLIC
X-MICROSOFT-CDO-ALLDAYEVENT:TRUE
DTSTAMP:20260425T083843Z
END:VEVENT
BEGIN:VEVENT
UID:sb_ical_event2031723@sch756.schoolbytes.cal
DTSTART;VALUE=DATE:20250609
SEQUENCE:0
TRANSP:OPAQUE
DTEND;VALUE=DATE:20250610
SUMMARY:King's Birthday
CLASS:PUBLIC
X-MICROSOFT-CDO-ALLDAYEVENT:TRUE
DTSTAMP:20260425T083843Z
END:VEVENT
BEGIN:VEVENT
UID:sb_ical_event2031724@sch756.schoolbytes.cal
DTSTART;VALUE=DATE:20251006
SEQUENCE:0
TRANSP:OPAQUE
DTEND;VALUE=DATE:20251007
SUMMARY:Labour Day
CLASS:PUBLIC
X-MICROSOFT-CDO-ALLDAYEVENT:TRUE
DTSTAMP:20260425T083843Z
END:VEVENT
BEGIN:VEVENT
UID:sb_ical_event2031725@sch756.schoolbytes.cal
DTSTART;VALUE=DATE:20251225
SEQUENCE:0
TRANSP:OPAQUE
DTEND;VALUE=DATE:20251226
SUMMARY:Christmas Day
CLASS:PUBLIC
X-MICROSOFT-CDO-ALLDAYEVENT:TRUE
DTSTAMP:20260425T083843Z
END:VEVENT
BEGIN:VEVENT
UID:sb_ical_event2031726@sch756.schoolbytes.cal
DTSTART;VALUE=DATE:20251226
SEQUENCE:0
TRANSP:OPAQUE
DTEND;VALUE=DATE:20251227
SUMMARY:Boxing Day
CLASS:PUBLIC
X-MICROSOFT-CDO-ALLDAYEVENT:TRUE
DTSTAMP:20260425T083843Z
END:VEVENT
BEGIN:VEVENT
UID:sb_ical_event2031727@sch756.schoolbytes.cal
DTSTART;VALUE=DATE:20260101
SEQUENCE:0
TRANSP:OPAQUE
DTEND;VALUE=DATE:20260102
SUMMARY:New Year's Day
CLASS:PUBLIC
X-MICROSOFT-CDO-ALLDAYEVENT:TRUE
DTSTAMP:20260425T083843Z
END:VEVENT
BEGIN:VEVENT
UID:sb_ical_event2031728@sch756.schoolbytes.cal
DTSTART;VALUE=DATE:20260126
SEQUENCE:0
TRANSP:OPAQUE
DTEND;VALUE=DATE:20260127
SUMMARY:Australia Day
CLASS:PUBLIC
X-MICROSOFT-CDO-ALLDAYEVENT:TRUE
DTSTAMP:20260425T083843Z
END:VEVENT
BEGIN:VEVENT
UID:sb_ical_event5014990@sch756.schoolbytes.cal
DTSTART;VALUE=DATE:20260403
SEQUENCE:0
TRANSP:OPAQUE
DTEND;VALUE=DATE:20260404
SUMMARY:Good Friday
CLASS:PUBLIC
X-MICROSOFT-CDO-ALLDAYEVENT:TRUE
DTSTAMP:20260425T083843Z
END:VEVENT
BEGIN:VEVENT
UID:sb_ical_event5015026@sch756.schoolbytes.cal
DTSTART;VALUE=DATE:20260404
SEQUENCE:0
TRANSP:OPAQUE
DTEND;VALUE=DATE:20260405
SUMMARY:Easter Saturday
CLASS:PUBLIC
X-MICROSOFT-CDO-ALLDAYEVENT:TRUE
DTSTAMP:20260425T083843Z
END:VEVENT
BEGIN:VEVENT
UID:sb_ical_event5015029@sch756.schoolbytes.cal
DTSTART;VALUE=DATE:20260405
SEQUENCE:0
TRANSP:OPAQUE
DTEND;VALUE=DATE:20260406
SUMMARY:Easter Sunday
CLASS:PUBLIC
X-MICROSOFT-CDO-ALLDAYEVENT:TRUE
DTSTAMP:20260425T083843Z
END:VEVENT
BEGIN:VEVENT
UID:sb_ical_event5015033@sch756.schoolbytes.cal
DTSTART;VALUE=DATE:20260406
SEQUENCE:0
TRANSP:OPAQUE
DTEND;VALUE=DATE:20260407
SUMMARY:Easter Monday
CLASS:PUBLIC
X-MICROSOFT-CDO-ALLDAYEVENT:TRUE
DTSTAMP:20260425T083843Z
END:VEVENT
BEGIN:VEVENT
UID:sb_ical_event5015034@sch756.schoolbytes.cal
DTSTART;VALUE=DATE:20260427
SEQUENCE:0
TRANSP:OPAQUE
DTEND;VALUE=DATE:20260428
SUMMARY:ANZAC Day
CLASS:PUBLIC
X-MICROSOFT-CDO-ALLDAYEVENT:TRUE
DTSTAMP:20260425T083843Z
END:VEVENT
BEGIN:VEVENT
UID:sb_ical_event5015039@sch756.schoolbytes.cal
DTSTART;VALUE=DATE:20260608
SEQUENCE:0
TRANSP:OPAQUE
DTEND;VALUE=DATE:20260609
SUMMARY:King's Birthday
CLASS:PUBLIC
X-MICROSOFT-CDO-ALLDAYEVENT:TRUE
DTSTAMP:20260425T083843Z
END:VEVENT
BEGIN:VEVENT
UID:sb_ical_event5015044@sch756.schoolbytes.cal
DTSTART;VALUE=DATE:20261005
SEQUENCE:0
TRANSP:OPAQUE
DTEND;VALUE=DATE:20261006
SUMMARY:Labour Day
CLASS:PUBLIC
X-MICROSOFT-CDO-ALLDAYEVENT:TRUE
DTSTAMP:20260425T083843Z
END:VEVENT
BEGIN:VEVENT
UID:sb_ical_event5015068@sch756.schoolbytes.cal
DTSTART;VALUE=DATE:20261225
SEQUENCE:0
TRANSP:OPAQUE
DTEND;VALUE=DATE:20261226
SUMMARY:Christmas Day
CLASS:PUBLIC
X-MICROSOFT-CDO-ALLDAYEVENT:TRUE
DTSTAMP:20260425T083843Z
END:VEVENT
BEGIN:VEVENT
UID:sb_ical_event5015069@sch756.schoolbytes.cal
DTSTART;VALUE=DATE:20261226
SEQUENCE:0
TRANSP:OPAQUE
DTEND;VALUE=DATE:20261227
SUMMARY:Boxing Day
CLASS:PUBLIC
X-MICROSOFT-CDO-ALLDAYEVENT:TRUE
DTSTAMP:20260425T083843Z
END:VEVENT
BEGIN:VEVENT
UID:sb_ical_event5015081@sch756.schoolbytes.cal
DTSTART;VALUE=DATE:20261228
SEQUENCE:0
TRANSP:OPAQUE
DTEND;VALUE=DATE:20261229
SUMMARY:Boxing Day Public Holiday
CLASS:PUBLIC
X-MICROSOFT-CDO-ALLDAYEVENT:TRUE
DTSTAMP:20260425T083843Z
END:VEVENT
END:VCALENDAR