BEGIN:VCALENDAR
VERSION:2.0
PRODID://School Bytes School Calendar//
X-WR-CALNAME:Nangus Public School - Parent Calendar
X-WR-RELCALID:sb_ical8023@sch1151.schoolbytes.cal
X-PUBLISHED-TTL:PT1H
BEGIN:VEVENT
UID:sb_ical_event2902760@sch1151.schoolbytes.cal
DTSTART;VALUE=DATE:20250206
SEQUENCE:0
TRANSP:OPAQUE
DTEND;VALUE=DATE:20250207
SUMMARY:Students return
CLASS:PUBLIC
X-MICROSOFT-CDO-ALLDAYEVENT:TRUE
DTSTAMP:20260426T060855Z
END:VEVENT
BEGIN:VEVENT
UID:sb_ical_event2902767@sch1151.schoolbytes.cal
DTSTART;VALUE=DATE:20250131
SEQUENCE:0
TRANSP:OPAQUE
DTEND;VALUE=DATE:20250206
SUMMARY:School Development Day
CLASS:PUBLIC
X-MICROSOFT-CDO-ALLDAYEVENT:TRUE
DTSTAMP:20260426T060855Z
END:VEVENT
BEGIN:VEVENT
UID:sb_ical_event2902814@sch1151.schoolbytes.cal
DTSTART:20250211T220500Z
SEQUENCE:0
TRANSP:OPAQUE
DTEND:20250211T230500Z
SUMMARY:Gecko Sport
CLASS:PUBLIC
DTSTAMP:20260426T060855Z
END:VEVENT
BEGIN:VEVENT
UID:sb_ical_event2902815@sch1151.schoolbytes.cal
DTSTART:20250218T220500Z
SEQUENCE:0
TRANSP:OPAQUE
DTEND:20250218T230500Z
SUMMARY:Gecko Sport
CLASS:PUBLIC
DTSTAMP:20260426T060855Z
END:VEVENT
BEGIN:VEVENT
UID:sb_ical_event2902816@sch1151.schoolbytes.cal
DTSTART:20250225T220500Z
SEQUENCE:0
TRANSP:OPAQUE
DTEND:20250225T230500Z
SUMMARY:Gecko Sport
CLASS:PUBLIC
DTSTAMP:20260426T060855Z
END:VEVENT
BEGIN:VEVENT
UID:sb_ical_event2902817@sch1151.schoolbytes.cal
DTSTART:20250304T220500Z
SEQUENCE:0
TRANSP:OPAQUE
DTEND:20250304T230500Z
SUMMARY:Gecko Sport
CLASS:PUBLIC
DTSTAMP:20260426T060855Z
END:VEVENT
BEGIN:VEVENT
UID:sb_ical_event2902818@sch1151.schoolbytes.cal
DTSTART:20250311T220500Z
SEQUENCE:0
TRANSP:OPAQUE
DTEND:20250311T230500Z
SUMMARY:Gecko Sport
CLASS:PUBLIC
DTSTAMP:20260426T060855Z
END:VEVENT
BEGIN:VEVENT
UID:sb_ical_event2902819@sch1151.schoolbytes.cal
DTSTART:20250325T220500Z
SEQUENCE:0
TRANSP:OPAQUE
DTEND:20250325T230500Z
SUMMARY:Gecko Sport
CLASS:PUBLIC
DTSTAMP:20260426T060855Z
END:VEVENT
BEGIN:VEVENT
UID:sb_ical_event2902820@sch1151.schoolbytes.cal
DTSTART:20250401T220500Z
SEQUENCE:0
TRANSP:OPAQUE
DTEND:20250401T230500Z
SUMMARY:Gecko Sport
CLASS:PUBLIC
DTSTAMP:20260426T060855Z
END:VEVENT
BEGIN:VEVENT
UID:sb_ical_event2902821@sch1151.schoolbytes.cal
DTSTART:20250408T230500Z
SEQUENCE:0
TRANSP:OPAQUE
DTEND:20250409T000500Z
SUMMARY:Gecko Sport
CLASS:PUBLIC
DTSTAMP:20260426T060855Z
END:VEVENT
BEGIN:VEVENT
UID:sb_ical_event2902833@sch1151.schoolbytes.cal
DTSTART:20250219T031500Z
SEQUENCE:0
TRANSP:OPAQUE
DTEND:20250219T041500Z
SUMMARY:ROAR - Wriggle Worms Program
CLASS:PUBLIC
DTSTAMP:20260426T060855Z
END:VEVENT
BEGIN:VEVENT
UID:sb_ical_event2902834@sch1151.schoolbytes.cal
DTSTART:20250226T031500Z
SEQUENCE:0
TRANSP:OPAQUE
DTEND:20250226T041500Z
SUMMARY:ROAR - Wriggle Worms Program
CLASS:PUBLIC
DTSTAMP:20260426T060855Z
END:VEVENT
BEGIN:VEVENT
UID:sb_ical_event2902835@sch1151.schoolbytes.cal
DTSTART:20250305T031500Z
SEQUENCE:0
TRANSP:OPAQUE
DTEND:20250305T041500Z
SUMMARY:ROAR - Wriggle Worms Program
CLASS:PUBLIC
DTSTAMP:20260426T060855Z
END:VEVENT
BEGIN:VEVENT
UID:sb_ical_event2902836@sch1151.schoolbytes.cal
DTSTART:20250312T031500Z
SEQUENCE:0
TRANSP:OPAQUE
DTEND:20250312T041500Z
SUMMARY:ROAR - Wriggle Worms Program
CLASS:PUBLIC
DTSTAMP:20260426T060855Z
END:VEVENT
BEGIN:VEVENT
UID:sb_ical_event2902837@sch1151.schoolbytes.cal
DTSTART:20250326T031500Z
SEQUENCE:0
TRANSP:OPAQUE
DTEND:20250326T041500Z
SUMMARY:ROAR - Wriggle Worms Program
CLASS:PUBLIC
DTSTAMP:20260426T060855Z
END:VEVENT
BEGIN:VEVENT
UID:sb_ical_event2902838@sch1151.schoolbytes.cal
DTSTART:20250402T031500Z
SEQUENCE:0
TRANSP:OPAQUE
DTEND:20250402T041500Z
SUMMARY:ROAR - Wriggle Worms Program
CLASS:PUBLIC
DTSTAMP:20260426T060855Z
END:VEVENT
BEGIN:VEVENT
UID:sb_ical_event2902842@sch1151.schoolbytes.cal
DTSTART;VALUE=DATE:20250218
SEQUENCE:0
TRANSP:OPAQUE
DTEND;VALUE=DATE:20250219
SUMMARY:Small Schools Swimming Carnival
CLASS:PUBLIC
X-MICROSOFT-CDO-ALLDAYEVENT:TRUE
DTSTAMP:20260426T060855Z
END:VEVENT
BEGIN:VEVENT
UID:sb_ical_event2902850@sch1151.schoolbytes.cal
DTSTART;VALUE=DATE:20250319
SEQUENCE:0
TRANSP:OPAQUE
DTEND;VALUE=DATE:20250320
SUMMARY:Combined Schools Learning Day @ Illabo
CLASS:PUBLIC
X-MICROSOFT-CDO-ALLDAYEVENT:TRUE
DTSTAMP:20260426T060855Z
END:VEVENT
BEGIN:VEVENT
UID:sb_ical_event2902854@sch1151.schoolbytes.cal
DTSTART;VALUE=DATE:20250320
SEQUENCE:0
TRANSP:OPAQUE
DTEND;VALUE=DATE:20250321
SUMMARY:Combined Schools Learning Day @ Nangus
CLASS:PUBLIC
X-MICROSOFT-CDO-ALLDAYEVENT:TRUE
DTSTAMP:20260426T060855Z
END:VEVENT
BEGIN:VEVENT
UID:sb_ical_event2902891@sch1151.schoolbytes.cal
DTSTART:20250408T233000Z
SEQUENCE:0
TRANSP:OPAQUE
DTEND:20250409T013000Z
SUMMARY:Visit to Uralba
CLASS:PUBLIC
DTSTAMP:20260426T060855Z
END:VEVENT
BEGIN:VEVENT
UID:sb_ical_event3793278@sch1151.schoolbytes.cal
DTSTART;VALUE=DATE:20250430
SEQUENCE:0
TRANSP:OPAQUE
DTEND;VALUE=DATE:20250501
SUMMARY:Students return to school
CLASS:PUBLIC
X-MICROSOFT-CDO-ALLDAYEVENT:TRUE
DTSTAMP:20260426T060855Z
END:VEVENT
BEGIN:VEVENT
UID:sb_ical_event3793283@sch1151.schoolbytes.cal
DTSTART;VALUE=DATE:20250502
SEQUENCE:0
TRANSP:OPAQUE
DTEND;VALUE=DATE:20250503
SUMMARY:Nangus P&C Street Stall - Gundagai
CLASS:PUBLIC
X-MICROSOFT-CDO-ALLDAYEVENT:TRUE
DTSTAMP:20260426T060855Z
END:VEVENT
BEGIN:VEVENT
UID:sb_ical_event3793298@sch1151.schoolbytes.cal
DTSTART;VALUE=DATE:20250506
SEQUENCE:0
TRANSP:OPAQUE
DTEND;VALUE=DATE:20250508
SUMMARY:Rural South and West Principals Conference - Sydney (Anna)
CLASS:PUBLIC
X-MICROSOFT-CDO-ALLDAYEVENT:TRUE
DTSTAMP:20260426T060855Z
END:VEVENT
BEGIN:VEVENT
UID:sb_ical_event3793327@sch1151.schoolbytes.cal
DTSTART;VALUE=DATE:20250508
SEQUENCE:0
TRANSP:OPAQUE
DTEND;VALUE=DATE:20250509
SUMMARY:Nangus ANZAC Service - 10.30am
CLASS:PUBLIC
X-MICROSOFT-CDO-ALLDAYEVENT:TRUE
DTSTAMP:20260426T060855Z
END:VEVENT
BEGIN:VEVENT
UID:sb_ical_event3793331@sch1151.schoolbytes.cal
DTSTART;VALUE=DATE:20250512
SEQUENCE:0
TRANSP:OPAQUE
DTEND;VALUE=DATE:20250513
SUMMARY:Healthy Harold - Eurongilly
CLASS:PUBLIC
X-MICROSOFT-CDO-ALLDAYEVENT:TRUE
DTSTAMP:20260426T060855Z
END:VEVENT
BEGIN:VEVENT
UID:sb_ical_event3793391@sch1151.schoolbytes.cal
DTSTART;VALUE=DATE:20250515
SEQUENCE:0
TRANSP:OPAQUE
DTEND;VALUE=DATE:20250516
SUMMARY:Starting School Information Night - 5.30pm  @ Gumnut
CLASS:PUBLIC
X-MICROSOFT-CDO-ALLDAYEVENT:TRUE
DTSTAMP:20260426T060855Z
END:VEVENT
BEGIN:VEVENT
UID:sb_ical_event3793398@sch1151.schoolbytes.cal
DTSTART;VALUE=DATE:20250516
SEQUENCE:0
TRANSP:OPAQUE
DTEND;VALUE=DATE:20250517
SUMMARY:Bongongo Cross Country
CLASS:PUBLIC
X-MICROSOFT-CDO-ALLDAYEVENT:TRUE
DTSTAMP:20260426T060855Z
END:VEVENT
BEGIN:VEVENT
UID:sb_ical_event3793431@sch1151.schoolbytes.cal
DTSTART;VALUE=DATE:20250523
SEQUENCE:0
TRANSP:OPAQUE
DTEND;VALUE=DATE:20250524
SUMMARY:Small Schools Athletics Carnival
CLASS:PUBLIC
X-MICROSOFT-CDO-ALLDAYEVENT:TRUE
DTSTAMP:20260426T060855Z
END:VEVENT
BEGIN:VEVENT
UID:sb_ical_event4008467@sch1151.schoolbytes.cal
DTSTART:20250521T020000Z
SEQUENCE:0
TRANSP:OPAQUE
DTEND:20250521T023000Z
SUMMARY:Simultaneous Reading Day
CLASS:PUBLIC
DTSTAMP:20260426T060855Z
END:VEVENT
BEGIN:VEVENT
UID:sb_ical_event4008470@sch1151.schoolbytes.cal
DTSTART;VALUE=DATE:20250604
SEQUENCE:0
TRANSP:OPAQUE
DTEND;VALUE=DATE:20250605
SUMMARY:Field of Mars Excursion - Humula
CLASS:PUBLIC
X-MICROSOFT-CDO-ALLDAYEVENT:TRUE
DTSTAMP:20260426T060855Z
END:VEVENT
BEGIN:VEVENT
UID:sb_ical_event4008473@sch1151.schoolbytes.cal
DTSTART;VALUE=DATE:20250606
SEQUENCE:0
TRANSP:OPAQUE
DTEND;VALUE=DATE:20250607
SUMMARY:Highlands Cross Country - Gundagai
CLASS:PUBLIC
X-MICROSOFT-CDO-ALLDAYEVENT:TRUE
DTSTAMP:20260426T060855Z
END:VEVENT
BEGIN:VEVENT
UID:sb_ical_event4008475@sch1151.schoolbytes.cal
DTSTART;VALUE=DATE:20250609
SEQUENCE:0
TRANSP:OPAQUE
DTEND;VALUE=DATE:20250610
SUMMARY:KINGS BIRTHDAY - PUBLIC HOLIDAY - NO SCHOOL
CLASS:PUBLIC
X-MICROSOFT-CDO-ALLDAYEVENT:TRUE
DTSTAMP:20260426T060855Z
END:VEVENT
BEGIN:VEVENT
UID:sb_ical_event4008478@sch1151.schoolbytes.cal
DTSTART;VALUE=DATE:20250612
SEQUENCE:0
TRANSP:OPAQUE
DTEND;VALUE=DATE:20250613
SUMMARY:RIVERINA CROSS COUNTRY
CLASS:PUBLIC
X-MICROSOFT-CDO-ALLDAYEVENT:TRUE
DTSTAMP:20260426T060855Z
END:VEVENT
BEGIN:VEVENT
UID:sb_ical_event4008481@sch1151.schoolbytes.cal
DTSTART;VALUE=DATE:20250620
SEQUENCE:0
TRANSP:OPAQUE
DTEND;VALUE=DATE:20250621
SUMMARY:BRUNGLE EXCURSION - ART AND CULTURE
CLASS:PUBLIC
X-MICROSOFT-CDO-ALLDAYEVENT:TRUE
DTSTAMP:20260426T060855Z
END:VEVENT
BEGIN:VEVENT
UID:sb_ical_event4008486@sch1151.schoolbytes.cal
DTSTART;VALUE=DATE:20250627
SEQUENCE:0
TRANSP:OPAQUE
DTEND;VALUE=DATE:20250628
SUMMARY:LIONS CLUB - EYE CHECKS
CLASS:PUBLIC
X-MICROSOFT-CDO-ALLDAYEVENT:TRUE
DTSTAMP:20260426T060855Z
END:VEVENT
BEGIN:VEVENT
UID:sb_ical_event4008490@sch1151.schoolbytes.cal
DTSTART;VALUE=DATE:20250703
SEQUENCE:0
TRANSP:OPAQUE
DTEND;VALUE=DATE:20250704
SUMMARY:NAIDOC DAY EXCURSION - SNOWY VALLEYS SCHOOL
CLASS:PUBLIC
X-MICROSOFT-CDO-ALLDAYEVENT:TRUE
DTSTAMP:20260426T060855Z
END:VEVENT
BEGIN:VEVENT
UID:sb_ical_event4539452@sch1151.schoolbytes.cal
DTSTART;VALUE=DATE:20250722
SEQUENCE:0
TRANSP:OPAQUE
DTEND;VALUE=DATE:20250723
SUMMARY:STUDENTS RETURN TO SCHOOL
CLASS:PUBLIC
X-MICROSOFT-CDO-ALLDAYEVENT:TRUE
DTSTAMP:20260426T060855Z
END:VEVENT
BEGIN:VEVENT
UID:sb_ical_event4539460@sch1151.schoolbytes.cal
DTSTART;VALUE=DATE:20250721
SEQUENCE:0
TRANSP:OPAQUE
DTEND;VALUE=DATE:20250722
SUMMARY:SCHOOL DEVELOPMENT DAY
CLASS:PUBLIC
X-MICROSOFT-CDO-ALLDAYEVENT:TRUE
DTSTAMP:20260426T060855Z
END:VEVENT
BEGIN:VEVENT
UID:sb_ical_event4540970@sch1151.schoolbytes.cal
DTSTART;VALUE=DATE:20250723
SEQUENCE:0
TRANSP:OPAQUE
DTEND;VALUE=DATE:20250724
SUMMARY:Imagine - Civic Theatre
CLASS:PUBLIC
X-MICROSOFT-CDO-ALLDAYEVENT:TRUE
DTSTAMP:20260426T060855Z
END:VEVENT
BEGIN:VEVENT
UID:sb_ical_event4540977@sch1151.schoolbytes.cal
DTSTART;VALUE=DATE:20250728
SEQUENCE:0
TRANSP:OPAQUE
DTEND;VALUE=DATE:20250731
SUMMARY:ARTlantis Camp
CLASS:PUBLIC
X-MICROSOFT-CDO-ALLDAYEVENT:TRUE
DTSTAMP:20260426T060855Z
END:VEVENT
BEGIN:VEVENT
UID:sb_ical_event4540993@sch1151.schoolbytes.cal
DTSTART;VALUE=DATE:20250731
SEQUENCE:0
TRANSP:OPAQUE
DTEND;VALUE=DATE:20250801
SUMMARY:Mobile Planetarium - Eurongilly
CLASS:PUBLIC
X-MICROSOFT-CDO-ALLDAYEVENT:TRUE
DTSTAMP:20260426T060855Z
END:VEVENT
BEGIN:VEVENT
UID:sb_ical_event4541008@sch1151.schoolbytes.cal
DTSTART;VALUE=DATE:20250804
SEQUENCE:0
TRANSP:OPAQUE
DTEND;VALUE=DATE:20250805
SUMMARY:VARIETY BASH
CLASS:PUBLIC
X-MICROSOFT-CDO-ALLDAYEVENT:TRUE
DTSTAMP:20260426T060855Z
END:VEVENT
BEGIN:VEVENT
UID:sb_ical_event4541096@sch1151.schoolbytes.cal
DTSTART;VALUE=DATE:20250815
SEQUENCE:0
TRANSP:OPAQUE
DTEND;VALUE=DATE:20250816
SUMMARY:LIONS -Eye Tests
CLASS:PUBLIC
X-MICROSOFT-CDO-ALLDAYEVENT:TRUE
DTSTAMP:20260426T060855Z
END:VEVENT
BEGIN:VEVENT
UID:sb_ical_event4541107@sch1151.schoolbytes.cal
DTSTART;VALUE=DATE:20250801
SEQUENCE:0
TRANSP:OPAQUE
DTEND;VALUE=DATE:20250802
SUMMARY:Highlands Athletics - Tumbarumba
CLASS:PUBLIC
X-MICROSOFT-CDO-ALLDAYEVENT:TRUE
DTSTAMP:20260426T060855Z
END:VEVENT
BEGIN:VEVENT
UID:sb_ical_event4541111@sch1151.schoolbytes.cal
DTSTART;VALUE=DATE:20250905
SEQUENCE:0
TRANSP:OPAQUE
DTEND;VALUE=DATE:20250906
SUMMARY:Riverina Athletics - Wagga
CLASS:PUBLIC
X-MICROSOFT-CDO-ALLDAYEVENT:TRUE
DTSTAMP:20260426T060855Z
END:VEVENT
BEGIN:VEVENT
UID:sb_ical_event4541173@sch1151.schoolbytes.cal
DTSTART;VALUE=DATE:20250925
SEQUENCE:0
TRANSP:OPAQUE
DTEND;VALUE=DATE:20250927
SUMMARY:Borambola Sport Life and Rec Camp - Years 3-6
CLASS:PUBLIC
X-MICROSOFT-CDO-ALLDAYEVENT:TRUE
DTSTAMP:20260426T060855Z
END:VEVENT
BEGIN:VEVENT
UID:sb_ical_event5152693@sch1151.schoolbytes.cal
DTSTART:20250918T043000Z
SEQUENCE:0
TRANSP:OPAQUE
DTEND:20250918T051500Z
SUMMARY:School Assembly @ 2.30pm
CLASS:PUBLIC
DTSTAMP:20260426T060855Z
END:VEVENT
BEGIN:VEVENT
UID:sb_ical_event5750328@sch1151.schoolbytes.cal
DTSTART;VALUE=DATE:20260202
SEQUENCE:0
TRANSP:OPAQUE
DTEND;VALUE=DATE:20260203
SUMMARY:STUDENTS RETURN TO SCHOOL
CLASS:PUBLIC
X-MICROSOFT-CDO-ALLDAYEVENT:TRUE
DTSTAMP:20260426T060855Z
END:VEVENT
BEGIN:VEVENT
UID:sb_ical_event5750371@sch1151.schoolbytes.cal
DTSTART:20260211T223000Z
SEQUENCE:0
TRANSP:OPAQUE
DTEND:20260211T233000Z
SUMMARY:PAINT & PLAY / FRIENDSHIP GROUP
CLASS:PUBLIC
DTSTAMP:20260426T060855Z
END:VEVENT
BEGIN:VEVENT
UID:sb_ical_event5750372@sch1151.schoolbytes.cal
DTSTART:20260225T223000Z
SEQUENCE:0
TRANSP:OPAQUE
DTEND:20260225T233000Z
SUMMARY:PAINT & PLAY / FRIENDSHIP GROUP
CLASS:PUBLIC
DTSTAMP:20260426T060855Z
END:VEVENT
BEGIN:VEVENT
UID:sb_ical_event5750373@sch1151.schoolbytes.cal
DTSTART:20260311T223000Z
SEQUENCE:0
TRANSP:OPAQUE
DTEND:20260311T233000Z
SUMMARY:PAINT & PLAY / FRIENDSHIP GROUP
CLASS:PUBLIC
DTSTAMP:20260426T060855Z
END:VEVENT
BEGIN:VEVENT
UID:sb_ical_event5750374@sch1151.schoolbytes.cal
DTSTART:20260325T223000Z
SEQUENCE:0
TRANSP:OPAQUE
DTEND:20260325T233000Z
SUMMARY:PAINT & PLAY / FRIENDSHIP GROUP
CLASS:PUBLIC
DTSTAMP:20260426T060855Z
END:VEVENT
BEGIN:VEVENT
UID:sb_ical_event6967790@sch1151.schoolbytes.cal
DTSTART;VALUE=DATE:20260225
SEQUENCE:0
TRANSP:OPAQUE
DTEND;VALUE=DATE:20260226
SUMMARY:HIGHLANDS SWIMMING CARNIVAL - TUMUT
CLASS:PUBLIC
X-MICROSOFT-CDO-ALLDAYEVENT:TRUE
DTSTAMP:20260426T060855Z
END:VEVENT
BEGIN:VEVENT
UID:sb_ical_event5750680@sch1151.schoolbytes.cal
DTSTART:20260209T024500Z
SEQUENCE:0
TRANSP:OPAQUE
DTEND:20260209T040000Z
SUMMARY:SWIMMING - GUNDAGAI POOL
CLASS:PUBLIC
DTSTAMP:20260426T060855Z
END:VEVENT
BEGIN:VEVENT
UID:sb_ical_event5750681@sch1151.schoolbytes.cal
DTSTART:20260216T024500Z
SEQUENCE:0
TRANSP:OPAQUE
DTEND:20260216T040000Z
SUMMARY:SWIMMING - GUNDAGAI POOL
CLASS:PUBLIC
DTSTAMP:20260426T060855Z
END:VEVENT
BEGIN:VEVENT
UID:sb_ical_event5750682@sch1151.schoolbytes.cal
DTSTART:20260223T024500Z
SEQUENCE:0
TRANSP:OPAQUE
DTEND:20260223T040000Z
SUMMARY:SWIMMING - GUNDAGAI POOL
CLASS:PUBLIC
DTSTAMP:20260426T060855Z
END:VEVENT
BEGIN:VEVENT
UID:sb_ical_event5750683@sch1151.schoolbytes.cal
DTSTART:20260302T024500Z
SEQUENCE:0
TRANSP:OPAQUE
DTEND:20260302T040000Z
SUMMARY:SWIMMING - GUNDAGAI POOL
CLASS:PUBLIC
DTSTAMP:20260426T060855Z
END:VEVENT
BEGIN:VEVENT
UID:sb_ical_event5750684@sch1151.schoolbytes.cal
DTSTART:20260309T030000Z
SEQUENCE:0
TRANSP:OPAQUE
DTEND:20260309T034500Z
SUMMARY:CRICKET - GUNDAGAI SOUTH PUBLIC SCHOOL
CLASS:PUBLIC
DESCRIPTION:PRIVATE TRANSPORT PICK UP AT 1:30PM
DTSTAMP:20260426T060855Z
END:VEVENT
BEGIN:VEVENT
UID:sb_ical_event5750685@sch1151.schoolbytes.cal
DTSTART:20260316T030000Z
SEQUENCE:0
TRANSP:OPAQUE
DTEND:20260316T034500Z
SUMMARY:CRICKET - GUNDAGAI SOUTH PUBLIC SCHOOL
CLASS:PUBLIC
DESCRIPTION:PRIVATE TRANSPORT PICK UP AT 1:30PM
DTSTAMP:20260426T060855Z
END:VEVENT
BEGIN:VEVENT
UID:sb_ical_event6967373@sch1151.schoolbytes.cal
DTSTART:20260323T030000Z
SEQUENCE:0
TRANSP:OPAQUE
DTEND:20260323T034500Z
SUMMARY:CRICKET - GUNDAGAI SOUTH PUBLIC SCHOOL
CLASS:PUBLIC
DESCRIPTION:PRIVATE TRANSPORT PICK UP AT 1:30PM
DTSTAMP:20260426T060855Z
END:VEVENT
BEGIN:VEVENT
UID:sb_ical_event6967397@sch1151.schoolbytes.cal
DTSTART:20260330T030000Z
SEQUENCE:0
TRANSP:OPAQUE
DTEND:20260330T034500Z
SUMMARY:CRICKET - GUNDAGAI SOUTH PUBLIC SCHOOL
CLASS:PUBLIC
DESCRIPTION:PRIVATE TRANSPORT PICK UP AT 1:30PM
DTSTAMP:20260426T060855Z
END:VEVENT
BEGIN:VEVENT
UID:sb_ical_event6967400@sch1151.schoolbytes.cal
DTSTART;VALUE=DATE:20260309
SEQUENCE:0
TRANSP:OPAQUE
DTEND;VALUE=DATE:20260310
SUMMARY:SCHOOL COUNSELLOR ONSITE
CLASS:PUBLIC
X-MICROSOFT-CDO-ALLDAYEVENT:TRUE
DTSTAMP:20260426T060855Z
END:VEVENT
BEGIN:VEVENT
UID:sb_ical_event6967405@sch1151.schoolbytes.cal
DTSTART;VALUE=DATE:20260323
SEQUENCE:0
TRANSP:OPAQUE
DTEND;VALUE=DATE:20260324
SUMMARY:SCHOOL COUNSELLOR ONSITE
CLASS:PUBLIC
X-MICROSOFT-CDO-ALLDAYEVENT:TRUE
DTSTAMP:20260426T060855Z
END:VEVENT
BEGIN:VEVENT
UID:sb_ical_event6967410@sch1151.schoolbytes.cal
DTSTART;VALUE=DATE:20260311
SEQUENCE:0
TRANSP:OPAQUE
DTEND;VALUE=DATE:20260312
SUMMARY:NAPLAN
CLASS:PUBLIC
X-MICROSOFT-CDO-ALLDAYEVENT:TRUE
DTSTAMP:20260426T060855Z
END:VEVENT
BEGIN:VEVENT
UID:sb_ical_event6967411@sch1151.schoolbytes.cal
DTSTART;VALUE=DATE:20260312
SEQUENCE:0
TRANSP:OPAQUE
DTEND;VALUE=DATE:20260313
SUMMARY:NAPLAN
CLASS:PUBLIC
X-MICROSOFT-CDO-ALLDAYEVENT:TRUE
DTSTAMP:20260426T060855Z
END:VEVENT
BEGIN:VEVENT
UID:sb_ical_event6967412@sch1151.schoolbytes.cal
DTSTART;VALUE=DATE:20260313
SEQUENCE:0
TRANSP:OPAQUE
DTEND;VALUE=DATE:20260314
SUMMARY:NAPLAN
CLASS:PUBLIC
X-MICROSOFT-CDO-ALLDAYEVENT:TRUE
DTSTAMP:20260426T060855Z
END:VEVENT
BEGIN:VEVENT
UID:sb_ical_event6967413@sch1151.schoolbytes.cal
DTSTART;VALUE=DATE:20260316
SEQUENCE:0
TRANSP:OPAQUE
DTEND;VALUE=DATE:20260317
SUMMARY:NAPLAN
CLASS:PUBLIC
X-MICROSOFT-CDO-ALLDAYEVENT:TRUE
DTSTAMP:20260426T060855Z
END:VEVENT
BEGIN:VEVENT
UID:sb_ical_event6967414@sch1151.schoolbytes.cal
DTSTART;VALUE=DATE:20260317
SEQUENCE:0
TRANSP:OPAQUE
DTEND;VALUE=DATE:20260318
SUMMARY:NAPLAN
CLASS:PUBLIC
X-MICROSOFT-CDO-ALLDAYEVENT:TRUE
DTSTAMP:20260426T060855Z
END:VEVENT
BEGIN:VEVENT
UID:sb_ical_event6967415@sch1151.schoolbytes.cal
DTSTART;VALUE=DATE:20260318
SEQUENCE:0
TRANSP:OPAQUE
DTEND;VALUE=DATE:20260319
SUMMARY:NAPLAN
CLASS:PUBLIC
X-MICROSOFT-CDO-ALLDAYEVENT:TRUE
DTSTAMP:20260426T060855Z
END:VEVENT
BEGIN:VEVENT
UID:sb_ical_event6967416@sch1151.schoolbytes.cal
DTSTART;VALUE=DATE:20260319
SEQUENCE:0
TRANSP:OPAQUE
DTEND;VALUE=DATE:20260320
SUMMARY:NAPLAN
CLASS:PUBLIC
X-MICROSOFT-CDO-ALLDAYEVENT:TRUE
DTSTAMP:20260426T060855Z
END:VEVENT
BEGIN:VEVENT
UID:sb_ical_event6967417@sch1151.schoolbytes.cal
DTSTART;VALUE=DATE:20260320
SEQUENCE:0
TRANSP:OPAQUE
DTEND;VALUE=DATE:20260321
SUMMARY:NAPLAN
CLASS:PUBLIC
X-MICROSOFT-CDO-ALLDAYEVENT:TRUE
DTSTAMP:20260426T060855Z
END:VEVENT
BEGIN:VEVENT
UID:sb_ical_event6967418@sch1151.schoolbytes.cal
DTSTART;VALUE=DATE:20260323
SEQUENCE:0
TRANSP:OPAQUE
DTEND;VALUE=DATE:20260324
SUMMARY:NAPLAN
CLASS:PUBLIC
X-MICROSOFT-CDO-ALLDAYEVENT:TRUE
DTSTAMP:20260426T060855Z
END:VEVENT
BEGIN:VEVENT
UID:sb_ical_event6967427@sch1151.schoolbytes.cal
DTSTART;VALUE=DATE:20260304
SEQUENCE:0
TRANSP:OPAQUE
DTEND;VALUE=DATE:20260305
SUMMARY:PRINCIPALS' NETWORK MEETING - ANNA ATTENDING
CLASS:PUBLIC
X-MICROSOFT-CDO-ALLDAYEVENT:TRUE
DTSTAMP:20260426T060855Z
END:VEVENT
BEGIN:VEVENT
UID:sb_ical_event6967476@sch1151.schoolbytes.cal
DTSTART;VALUE=DATE:20260318
SEQUENCE:0
TRANSP:OPAQUE
DTEND;VALUE=DATE:20260319
SUMMARY:PRINCIPALS' INDUCTION CONFERENCE - SYDNEY - ANNA ATTENDING
CLASS:PUBLIC
X-MICROSOFT-CDO-ALLDAYEVENT:TRUE
DTSTAMP:20260426T060855Z
END:VEVENT
BEGIN:VEVENT
UID:sb_ical_event6967477@sch1151.schoolbytes.cal
DTSTART;VALUE=DATE:20260319
SEQUENCE:0
TRANSP:OPAQUE
DTEND;VALUE=DATE:20260320
SUMMARY:PRINCIPALS' INDUCTION CONFERENCE - SYDNEY - ANNA ATTENDING
CLASS:PUBLIC
X-MICROSOFT-CDO-ALLDAYEVENT:TRUE
DTSTAMP:20260426T060855Z
END:VEVENT
BEGIN:VEVENT
UID:sb_ical_event6967478@sch1151.schoolbytes.cal
DTSTART;VALUE=DATE:20260320
SEQUENCE:0
TRANSP:OPAQUE
DTEND;VALUE=DATE:20260321
SUMMARY:PRINCIPALS' INDUCTION CONFERENCE - SYDNEY - ANNA ATTENDING
CLASS:PUBLIC
X-MICROSOFT-CDO-ALLDAYEVENT:TRUE
DTSTAMP:20260426T060855Z
END:VEVENT
BEGIN:VEVENT
UID:sb_ical_event6967522@sch1151.schoolbytes.cal
DTSTART;VALUE=DATE:20260319
SEQUENCE:0
TRANSP:OPAQUE
DTEND;VALUE=DATE:20260320
SUMMARY:APC&I MEETING @ NANGUS PUBLIC SCHOOL
CLASS:PUBLIC
X-MICROSOFT-CDO-ALLDAYEVENT:TRUE
DTSTAMP:20260426T060855Z
END:VEVENT
BEGIN:VEVENT
UID:sb_ical_event6967549@sch1151.schoolbytes.cal
DTSTART;VALUE=DATE:20260320
SEQUENCE:0
TRANSP:OPAQUE
DTEND;VALUE=DATE:20260321
SUMMARY:SCULPTURES BY THE SEA - BRUNGLE PUBLIC SCHOOL
CLASS:PUBLIC
X-MICROSOFT-CDO-ALLDAYEVENT:TRUE
DTSTAMP:20260426T060855Z
END:VEVENT
BEGIN:VEVENT
UID:sb_ical_event6967573@sch1151.schoolbytes.cal
DTSTART;VALUE=DATE:20260326
SEQUENCE:0
TRANSP:OPAQUE
DTEND;VALUE=DATE:20260327
SUMMARY:COMBINED LEARNING DAY - ILLABO PUBLIC SCHOOL
CLASS:PUBLIC
X-MICROSOFT-CDO-ALLDAYEVENT:TRUE
DTSTAMP:20260426T060855Z
END:VEVENT
BEGIN:VEVENT
UID:sb_ical_event6967853@sch1151.schoolbytes.cal
DTSTART:20260402T033000Z
SEQUENCE:0
TRANSP:OPAQUE
DTEND:20260402T041500Z
SUMMARY:EASTER ASSEMBLY AND EGG HUNT
CLASS:PUBLIC
DTSTAMP:20260426T060855Z
END:VEVENT
BEGIN:VEVENT
UID:sb_ical_event6967628@sch1151.schoolbytes.cal
DTSTART;VALUE=DATE:20260403
SEQUENCE:0
TRANSP:OPAQUE
DTEND;VALUE=DATE:20260404
SUMMARY:GOOD FRIDAY
CLASS:PUBLIC
X-MICROSOFT-CDO-ALLDAYEVENT:TRUE
DTSTAMP:20260426T060855Z
END:VEVENT
BEGIN:VEVENT
UID:sb_ical_event6967651@sch1151.schoolbytes.cal
DTSTART;VALUE=DATE:20260403
SEQUENCE:0
TRANSP:OPAQUE
DTEND;VALUE=DATE:20260404
SUMMARY:SCHOOL HOLIDAYS BEGIN - STUDENTS RETURN 22/04/2026
CLASS:PUBLIC
X-MICROSOFT-CDO-ALLDAYEVENT:TRUE
DTSTAMP:20260426T060855Z
END:VEVENT
BEGIN:VEVENT
UID:sb_ical_event7295944@sch1151.schoolbytes.cal
DTSTART:20260428T003000Z
SEQUENCE:0
TRANSP:OPAQUE
DTEND:20260428T020000Z
SUMMARY:Nangus ANZAC Service
CLASS:PUBLIC
DTSTAMP:20260426T060855Z
END:VEVENT
BEGIN:VEVENT
UID:sb_ical_event7295951@sch1151.schoolbytes.cal
DTSTART;VALUE=DATE:20260507
SEQUENCE:0
TRANSP:OPAQUE
DTEND;VALUE=DATE:20260508
SUMMARY:Bongongo Cross Country
CLASS:PUBLIC
X-MICROSOFT-CDO-ALLDAYEVENT:TRUE
DTSTAMP:20260426T060855Z
END:VEVENT
BEGIN:VEVENT
UID:sb_ical_event7295960@sch1151.schoolbytes.cal
DTSTART;VALUE=DATE:20260508
SEQUENCE:0
TRANSP:OPAQUE
DTEND;VALUE=DATE:20260509
SUMMARY:Nangus PS - Street Stall - Gundagai
CLASS:PUBLIC
X-MICROSOFT-CDO-ALLDAYEVENT:TRUE
DTSTAMP:20260426T060855Z
END:VEVENT
BEGIN:VEVENT
UID:sb_ical_event7296262@sch1151.schoolbytes.cal
DTSTART;VALUE=DATE:20260511
SEQUENCE:0
TRANSP:OPAQUE
DTEND;VALUE=DATE:20260512
SUMMARY:Healthy Harold
CLASS:PUBLIC
X-MICROSOFT-CDO-ALLDAYEVENT:TRUE
DTSTAMP:20260426T060855Z
END:VEVENT
BEGIN:VEVENT
UID:sb_ical_event7296281@sch1151.schoolbytes.cal
DTSTART;VALUE=DATE:20260529
SEQUENCE:0
TRANSP:OPAQUE
DTEND;VALUE=DATE:20260530
SUMMARY:Highlands Cross Country - Gundagai
CLASS:PUBLIC
X-MICROSOFT-CDO-ALLDAYEVENT:TRUE
DTSTAMP:20260426T060855Z
END:VEVENT
BEGIN:VEVENT
UID:sb_ical_event7567359@sch1151.schoolbytes.cal
DTSTART;VALUE=DATE:20260420
SEQUENCE:0
TRANSP:OPAQUE
DTEND;VALUE=DATE:20260421
SUMMARY:SCHOOL DEVELOPMENT DAY
CLASS:PUBLIC
X-MICROSOFT-CDO-ALLDAYEVENT:TRUE
DTSTAMP:20260426T060855Z
END:VEVENT
BEGIN:VEVENT
UID:sb_ical_event7567361@sch1151.schoolbytes.cal
DTSTART;VALUE=DATE:20260421
SEQUENCE:0
TRANSP:OPAQUE
DTEND;VALUE=DATE:20260422
SUMMARY:SCHOOL DEVELOPMENT DAY
CLASS:PUBLIC
X-MICROSOFT-CDO-ALLDAYEVENT:TRUE
DTSTAMP:20260426T060855Z
END:VEVENT
BEGIN:VEVENT
UID:sb_ical_event7567364@sch1151.schoolbytes.cal
DTSTART;VALUE=DATE:20260427
SEQUENCE:0
TRANSP:OPAQUE
DTEND;VALUE=DATE:20260428
SUMMARY:ANZAC DAY PUBLIC HOLIDAY
CLASS:PUBLIC
X-MICROSOFT-CDO-ALLDAYEVENT:TRUE
DTSTAMP:20260426T060855Z
END:VEVENT
BEGIN:VEVENT
UID:sb_ical_event7567369@sch1151.schoolbytes.cal
DTSTART;VALUE=DATE:20260422
SEQUENCE:0
TRANSP:OPAQUE
DTEND;VALUE=DATE:20260423
SUMMARY:STUDENTS RETURN TO SCHOOL
CLASS:PUBLIC
X-MICROSOFT-CDO-ALLDAYEVENT:TRUE
DTSTAMP:20260426T060855Z
END:VEVENT
BEGIN:VEVENT
UID:sb_ical_event7567400@sch1151.schoolbytes.cal
DTSTART;VALUE=DATE:20260513
SEQUENCE:0
TRANSP:OPAQUE
DTEND;VALUE=DATE:20260515
SUMMARY:ANNA - RURAL SOUTH WEST PRINCIPALS CONFERENCE (SYDNEY)
CLASS:PUBLIC
X-MICROSOFT-CDO-ALLDAYEVENT:TRUE
DTSTAMP:20260426T060855Z
END:VEVENT
END:VCALENDAR