BEGIN:VCALENDAR
VERSION:2.0
PRODID://School Bytes School Calendar//
X-WR-CALNAME:Quambone Public School - School Calendar
X-WR-RELCALID:sb_ical2373@sch1942.schoolbytes.cal
X-PUBLISHED-TTL:PT1H
BEGIN:VEVENT
UID:sb_ical_event663350@sch1942.schoolbytes.cal
DTSTART;VALUE=DATE:20240429
SEQUENCE:0
TRANSP:OPAQUE
DTEND;VALUE=DATE:20240430
SUMMARY:Staff Dev Day
CLASS:PUBLIC
DESCRIPTION:All years
X-MICROSOFT-CDO-ALLDAYEVENT:TRUE
DTSTAMP:20260425T234909Z
END:VEVENT
BEGIN:VEVENT
UID:sb_ical_event663352@sch1942.schoolbytes.cal
DTSTART;VALUE=DATE:20240515
SEQUENCE:0
TRANSP:OPAQUE
DTEND;VALUE=DATE:20240516
SUMMARY:Coonamble Show Holiday
CLASS:PUBLIC
DESCRIPTION:All years
X-MICROSOFT-CDO-ALLDAYEVENT:TRUE
DTSTAMP:20260425T234909Z
END:VEVENT
BEGIN:VEVENT
UID:sb_ical_event696240@sch1942.schoolbytes.cal
DTSTART;VALUE=DATE:20240522
SEQUENCE:0
TRANSP:OPAQUE
DTEND;VALUE=DATE:20240523
SUMMARY:Zone Cross Country
CLASS:PUBLIC
X-MICROSOFT-CDO-ALLDAYEVENT:TRUE
DTSTAMP:20260425T234909Z
END:VEVENT
BEGIN:VEVENT
UID:sb_ical_event696242@sch1942.schoolbytes.cal
DTSTART;VALUE=DATE:20240528
SEQUENCE:0
TRANSP:OPAQUE
DTEND;VALUE=DATE:20240529
SUMMARY:Healthy Harold
CLASS:PUBLIC
X-MICROSOFT-CDO-ALLDAYEVENT:TRUE
DTSTAMP:20260425T234909Z
END:VEVENT
BEGIN:VEVENT
UID:sb_ical_event1084636@sch1942.schoolbytes.cal
DTSTART;VALUE=DATE:20240613
SEQUENCE:0
TRANSP:OPAQUE
DTEND;VALUE=DATE:20240614
SUMMARY:Regional Cross Country Coolah
CLASS:PUBLIC
X-MICROSOFT-CDO-ALLDAYEVENT:TRUE
DTSTAMP:20260425T234909Z
END:VEVENT
BEGIN:VEVENT
UID:sb_ical_event1184894@sch1942.schoolbytes.cal
DTSTART;VALUE=DATE:20240705
SEQUENCE:0
TRANSP:OPAQUE
DTEND;VALUE=DATE:20240706
SUMMARY:Athletics Carnival
CLASS:PUBLIC
DESCRIPTION:Combined Athletics Carnival at Carinda
X-MICROSOFT-CDO-ALLDAYEVENT:TRUE
DTSTAMP:20260425T234909Z
END:VEVENT
BEGIN:VEVENT
UID:sb_ical_event1184905@sch1942.schoolbytes.cal
DTSTART;VALUE=DATE:20240809
SEQUENCE:0
TRANSP:OPAQUE
DTEND;VALUE=DATE:20240810
SUMMARY:Zone Athletics @ Gulargambone
CLASS:PUBLIC
X-MICROSOFT-CDO-ALLDAYEVENT:TRUE
DTSTAMP:20260425T234909Z
END:VEVENT
BEGIN:VEVENT
UID:sb_ical_event1948934@sch1942.schoolbytes.cal
DTSTART;VALUE=DATE:20250207
SEQUENCE:0
TRANSP:OPAQUE
DTEND;VALUE=DATE:20250208
SUMMARY:SDD
CLASS:PUBLIC
X-MICROSOFT-CDO-ALLDAYEVENT:TRUE
DTSTAMP:20260425T234909Z
END:VEVENT
BEGIN:VEVENT
UID:sb_ical_event1948937@sch1942.schoolbytes.cal
DTSTART;VALUE=DATE:20250210
SEQUENCE:0
TRANSP:OPAQUE
DTEND;VALUE=DATE:20250211
SUMMARY:SDD
CLASS:PUBLIC
X-MICROSOFT-CDO-ALLDAYEVENT:TRUE
DTSTAMP:20260425T234909Z
END:VEVENT
BEGIN:VEVENT
UID:sb_ical_event1948939@sch1942.schoolbytes.cal
DTSTART;VALUE=DATE:20250211
SEQUENCE:0
TRANSP:OPAQUE
DTEND;VALUE=DATE:20250212
SUMMARY:SDD
CLASS:PUBLIC
X-MICROSOFT-CDO-ALLDAYEVENT:TRUE
DTSTAMP:20260425T234909Z
END:VEVENT
BEGIN:VEVENT
UID:sb_ical_event1948943@sch1942.schoolbytes.cal
DTSTART;VALUE=DATE:20250212
SEQUENCE:0
TRANSP:OPAQUE
DTEND;VALUE=DATE:20250213
SUMMARY:SDD
CLASS:PUBLIC
X-MICROSOFT-CDO-ALLDAYEVENT:TRUE
DTSTAMP:20260425T234909Z
END:VEVENT
BEGIN:VEVENT
UID:sb_ical_event1949085@sch1942.schoolbytes.cal
DTSTART;VALUE=DATE:20250428
SEQUENCE:0
TRANSP:OPAQUE
DTEND;VALUE=DATE:20250429
SUMMARY:SDD
CLASS:PUBLIC
X-MICROSOFT-CDO-ALLDAYEVENT:TRUE
DTSTAMP:20260425T234909Z
END:VEVENT
BEGIN:VEVENT
UID:sb_ical_event1949087@sch1942.schoolbytes.cal
DTSTART;VALUE=DATE:20250429
SEQUENCE:0
TRANSP:OPAQUE
DTEND;VALUE=DATE:20250430
SUMMARY:SDD
CLASS:PUBLIC
X-MICROSOFT-CDO-ALLDAYEVENT:TRUE
DTSTAMP:20260425T234909Z
END:VEVENT
BEGIN:VEVENT
UID:sb_ical_event1949093@sch1942.schoolbytes.cal
DTSTART;VALUE=DATE:20250609
SEQUENCE:0
TRANSP:OPAQUE
DTEND;VALUE=DATE:20250610
SUMMARY:King's Birthday
CLASS:PUBLIC
X-MICROSOFT-CDO-ALLDAYEVENT:TRUE
DTSTAMP:20260425T234909Z
END:VEVENT
BEGIN:VEVENT
UID:sb_ical_event1949095@sch1942.schoolbytes.cal
DTSTART;VALUE=DATE:20250721
SEQUENCE:0
TRANSP:OPAQUE
DTEND;VALUE=DATE:20250722
SUMMARY:SDD
CLASS:PUBLIC
X-MICROSOFT-CDO-ALLDAYEVENT:TRUE
DTSTAMP:20260425T234909Z
END:VEVENT
BEGIN:VEVENT
UID:sb_ical_event1949104@sch1942.schoolbytes.cal
DTSTART;VALUE=DATE:20251013
SEQUENCE:0
TRANSP:OPAQUE
DTEND;VALUE=DATE:20251014
SUMMARY:SDD
CLASS:PUBLIC
X-MICROSOFT-CDO-ALLDAYEVENT:TRUE
DTSTAMP:20260425T234909Z
END:VEVENT
BEGIN:VEVENT
UID:sb_ical_event2197701@sch1942.schoolbytes.cal
DTSTART;VALUE=DATE:20250214
SEQUENCE:0
TRANSP:OPAQUE
DTEND;VALUE=DATE:20250215
SUMMARY:Swimming Carnival
CLASS:PUBLIC
DESCRIPTION:Quambone & Carinda Swimming Carnival
X-MICROSOFT-CDO-ALLDAYEVENT:TRUE
DTSTAMP:20260425T234909Z
END:VEVENT
BEGIN:VEVENT
UID:sb_ical_event4750395@sch1942.schoolbytes.cal
DTSTART;VALUE=DATE:20250613
SEQUENCE:0
TRANSP:OPAQUE
DTEND;VALUE=DATE:20250614
SUMMARY:School Closed
CLASS:PUBLIC
DESCRIPTION:School Closed due to no available teachers
X-MICROSOFT-CDO-ALLDAYEVENT:TRUE
DTSTAMP:20260425T234909Z
END:VEVENT
BEGIN:VEVENT
UID:sb_ical_event4750469@sch1942.schoolbytes.cal
DTSTART;VALUE=DATE:20250613
SEQUENCE:0
TRANSP:OPAQUE
DTEND;VALUE=DATE:20250614
SUMMARY:School Closed
CLASS:PUBLIC
X-MICROSOFT-CDO-ALLDAYEVENT:TRUE
DTSTAMP:20260425T234909Z
END:VEVENT
BEGIN:VEVENT
UID:sb_ical_event5358988@sch1942.schoolbytes.cal
DTSTART;VALUE=DATE:20251103
SEQUENCE:0
TRANSP:OPAQUE
DTEND;VALUE=DATE:20251108
SUMMARY:Lake Burrendong Sport and Rec Camp
CLASS:PUBLIC
X-MICROSOFT-CDO-ALLDAYEVENT:TRUE
DTSTAMP:20260425T234909Z
END:VEVENT
BEGIN:VEVENT
UID:sb_ical_event5358994@sch1942.schoolbytes.cal
DTSTART;VALUE=DATE:20251103
SEQUENCE:0
TRANSP:OPAQUE
DTEND;VALUE=DATE:20251104
SUMMARY:P&C Meeting 4pm
CLASS:PUBLIC
X-MICROSOFT-CDO-ALLDAYEVENT:TRUE
DTSTAMP:20260425T234909Z
END:VEVENT
BEGIN:VEVENT
UID:sb_ical_event5359012@sch1942.schoolbytes.cal
DTSTART;VALUE=DATE:20251217
SEQUENCE:0
TRANSP:OPAQUE
DTEND;VALUE=DATE:20251218
SUMMARY:End of year Presentation - 2pm
CLASS:PUBLIC
X-MICROSOFT-CDO-ALLDAYEVENT:TRUE
DTSTAMP:20260425T234909Z
END:VEVENT
BEGIN:VEVENT
UID:sb_ical_event5395290@sch1942.schoolbytes.cal
DTSTART;VALUE=DATE:20251111
SEQUENCE:0
TRANSP:OPAQUE
DTEND;VALUE=DATE:20251112
SUMMARY:Come read with us at Coonamble High School
CLASS:PUBLIC
DESCRIPTION:Reading with Coonamble High 9:50 to 10:45 am
X-MICROSOFT-CDO-ALLDAYEVENT:TRUE
DTSTAMP:20260425T234909Z
END:VEVENT
BEGIN:VEVENT
UID:sb_ical_event5385008@sch1942.schoolbytes.cal
DTSTART;VALUE=DATE:20251021
SEQUENCE:0
TRANSP:OPAQUE
DTEND;VALUE=DATE:20251022
SUMMARY:Preschool Transition 9am - 12:30 pm
CLASS:PUBLIC
X-MICROSOFT-CDO-ALLDAYEVENT:TRUE
DTSTAMP:20260425T234909Z
END:VEVENT
BEGIN:VEVENT
UID:sb_ical_event5385009@sch1942.schoolbytes.cal
DTSTART;VALUE=DATE:20251028
SEQUENCE:0
TRANSP:OPAQUE
DTEND;VALUE=DATE:20251029
SUMMARY:Preschool Transition 9am - 12:30 pm
CLASS:PUBLIC
X-MICROSOFT-CDO-ALLDAYEVENT:TRUE
DTSTAMP:20260425T234909Z
END:VEVENT
BEGIN:VEVENT
UID:sb_ical_event5385010@sch1942.schoolbytes.cal
DTSTART;VALUE=DATE:20251104
SEQUENCE:0
TRANSP:OPAQUE
DTEND;VALUE=DATE:20251105
SUMMARY:Preschool Transition 9am - 12:30 pm
CLASS:PUBLIC
X-MICROSOFT-CDO-ALLDAYEVENT:TRUE
DTSTAMP:20260425T234909Z
END:VEVENT
BEGIN:VEVENT
UID:sb_ical_event5385011@sch1942.schoolbytes.cal
DTSTART;VALUE=DATE:20251111
SEQUENCE:0
TRANSP:OPAQUE
DTEND;VALUE=DATE:20251112
SUMMARY:Preschool Transition 9am - 12:30 pm
CLASS:PUBLIC
X-MICROSOFT-CDO-ALLDAYEVENT:TRUE
DTSTAMP:20260425T234909Z
END:VEVENT
BEGIN:VEVENT
UID:sb_ical_event5385012@sch1942.schoolbytes.cal
DTSTART;VALUE=DATE:20251118
SEQUENCE:0
TRANSP:OPAQUE
DTEND;VALUE=DATE:20251119
SUMMARY:Preschool Transition 9am - 12:30 pm
CLASS:PUBLIC
X-MICROSOFT-CDO-ALLDAYEVENT:TRUE
DTSTAMP:20260425T234909Z
END:VEVENT
BEGIN:VEVENT
UID:sb_ical_event5385031@sch1942.schoolbytes.cal
DTSTART;VALUE=DATE:20251022
SEQUENCE:0
TRANSP:OPAQUE
DTEND;VALUE=DATE:20251023
SUMMARY:Kindergarten Transition 9 am - 3 pm
CLASS:PUBLIC
X-MICROSOFT-CDO-ALLDAYEVENT:TRUE
DTSTAMP:20260425T234909Z
END:VEVENT
BEGIN:VEVENT
UID:sb_ical_event5385032@sch1942.schoolbytes.cal
DTSTART;VALUE=DATE:20251029
SEQUENCE:0
TRANSP:OPAQUE
DTEND;VALUE=DATE:20251030
SUMMARY:Kindergarten Transition 9 am - 3 pm
CLASS:PUBLIC
X-MICROSOFT-CDO-ALLDAYEVENT:TRUE
DTSTAMP:20260425T234909Z
END:VEVENT
BEGIN:VEVENT
UID:sb_ical_event5385033@sch1942.schoolbytes.cal
DTSTART;VALUE=DATE:20251105
SEQUENCE:0
TRANSP:OPAQUE
DTEND;VALUE=DATE:20251106
SUMMARY:Kindergarten Transition 9 am - 3 pm
CLASS:PUBLIC
X-MICROSOFT-CDO-ALLDAYEVENT:TRUE
DTSTAMP:20260425T234909Z
END:VEVENT
BEGIN:VEVENT
UID:sb_ical_event5385034@sch1942.schoolbytes.cal
DTSTART;VALUE=DATE:20251112
SEQUENCE:0
TRANSP:OPAQUE
DTEND;VALUE=DATE:20251113
SUMMARY:Kindergarten Transition 9 am - 3 pm
CLASS:PUBLIC
X-MICROSOFT-CDO-ALLDAYEVENT:TRUE
DTSTAMP:20260425T234909Z
END:VEVENT
BEGIN:VEVENT
UID:sb_ical_event5385035@sch1942.schoolbytes.cal
DTSTART;VALUE=DATE:20251119
SEQUENCE:0
TRANSP:OPAQUE
DTEND;VALUE=DATE:20251120
SUMMARY:Kindergarten Transition 9 am - 3 pm
CLASS:PUBLIC
X-MICROSOFT-CDO-ALLDAYEVENT:TRUE
DTSTAMP:20260425T234909Z
END:VEVENT
BEGIN:VEVENT
UID:sb_ical_event5385053@sch1942.schoolbytes.cal
DTSTART;VALUE=DATE:20251201
SEQUENCE:0
TRANSP:OPAQUE
DTEND;VALUE=DATE:20251202
SUMMARY:Year 6 - Mooranbila Workshop at Plaza Theatre (All Day)
CLASS:PUBLIC
X-MICROSOFT-CDO-ALLDAYEVENT:TRUE
DTSTAMP:20260425T234909Z
END:VEVENT
BEGIN:VEVENT
UID:sb_ical_event5385054@sch1942.schoolbytes.cal
DTSTART;VALUE=DATE:20251203
SEQUENCE:0
TRANSP:OPAQUE
DTEND;VALUE=DATE:20251204
SUMMARY:Year 6 - Coonamble High Orientation (All Day) 9 am - 10:10 am Stude
 nts and parents  10:10 am - 2:45 pm Student orientation
CLASS:PUBLIC
X-MICROSOFT-CDO-ALLDAYEVENT:TRUE
DTSTAMP:20260425T234909Z
END:VEVENT
BEGIN:VEVENT
UID:sb_ical_event5385076@sch1942.schoolbytes.cal
DTSTART;VALUE=DATE:20251120
SEQUENCE:0
TRANSP:OPAQUE
DTEND;VALUE=DATE:20251121
SUMMARY:9 am - 12 pm - Learn to Swim
CLASS:PUBLIC
DESCRIPTION:Intensive swimming lessons provided by Platform and Co
X-MICROSOFT-CDO-ALLDAYEVENT:TRUE
DTSTAMP:20260425T234909Z
END:VEVENT
BEGIN:VEVENT
UID:sb_ical_event5385077@sch1942.schoolbytes.cal
DTSTART;VALUE=DATE:20251121
SEQUENCE:0
TRANSP:OPAQUE
DTEND;VALUE=DATE:20251122
SUMMARY:9 am - 12 pm - Learn to Swim
CLASS:PUBLIC
DESCRIPTION:Intensive swimming lessons provided by Platform and Co
X-MICROSOFT-CDO-ALLDAYEVENT:TRUE
DTSTAMP:20260425T234909Z
END:VEVENT
BEGIN:VEVENT
UID:sb_ical_event5385090@sch1942.schoolbytes.cal
DTSTART;VALUE=DATE:20251021
SEQUENCE:0
TRANSP:OPAQUE
DTEND;VALUE=DATE:20251022
SUMMARY:School Photographs
CLASS:PUBLIC
X-MICROSOFT-CDO-ALLDAYEVENT:TRUE
DTSTAMP:20260425T234909Z
END:VEVENT
BEGIN:VEVENT
UID:sb_ical_event5395344@sch1942.schoolbytes.cal
DTSTART;VALUE=DATE:20251113
SEQUENCE:0
TRANSP:OPAQUE
DTEND;VALUE=DATE:20251114
SUMMARY:Year 6 - Coonamble High Taster Afternoon 1:00 pm - 2:45 pm
CLASS:PUBLIC
X-MICROSOFT-CDO-ALLDAYEVENT:TRUE
DTSTAMP:20260425T234909Z
END:VEVENT
BEGIN:VEVENT
UID:sb_ical_event5395347@sch1942.schoolbytes.cal
DTSTART;VALUE=DATE:20251120
SEQUENCE:0
TRANSP:OPAQUE
DTEND;VALUE=DATE:20251121
SUMMARY:Year 6 - Coonamble High Taster Afternoon 1:00 pm - 2:45 pm
CLASS:PUBLIC
X-MICROSOFT-CDO-ALLDAYEVENT:TRUE
DTSTAMP:20260425T234909Z
END:VEVENT
BEGIN:VEVENT
UID:sb_ical_event5461993@sch1942.schoolbytes.cal
DTSTART;VALUE=DATE:20251208
SEQUENCE:0
TRANSP:OPAQUE
DTEND;VALUE=DATE:20251209
SUMMARY:P&C Meeting -4pm at school
CLASS:PUBLIC
X-MICROSOFT-CDO-ALLDAYEVENT:TRUE
DTSTAMP:20260425T234909Z
END:VEVENT
BEGIN:VEVENT
UID:sb_ical_event5870653@sch1942.schoolbytes.cal
DTSTART;VALUE=DATE:20260209
SEQUENCE:0
TRANSP:OPAQUE
DTEND;VALUE=DATE:20260210
SUMMARY:Term 1 Starts
CLASS:PUBLIC
X-MICROSOFT-CDO-ALLDAYEVENT:TRUE
DTSTAMP:20260425T234909Z
END:VEVENT
BEGIN:VEVENT
UID:sb_ical_event5870677@sch1942.schoolbytes.cal
DTSTART;VALUE=DATE:20260211
SEQUENCE:0
TRANSP:OPAQUE
DTEND;VALUE=DATE:20260212
SUMMARY:Qumabone/Carinda Swimming Carnival
CLASS:PUBLIC
DESCRIPTION:9:30 am -1:30 pm
X-MICROSOFT-CDO-ALLDAYEVENT:TRUE
DTSTAMP:20260425T234909Z
END:VEVENT
BEGIN:VEVENT
UID:sb_ical_event5870682@sch1942.schoolbytes.cal
DTSTART;VALUE=DATE:20260220
SEQUENCE:0
TRANSP:OPAQUE
DTEND;VALUE=DATE:20260221
SUMMARY:Zone Swimming Carnival\, Coonamble
CLASS:PUBLIC
X-MICROSOFT-CDO-ALLDAYEVENT:TRUE
DTSTAMP:20260425T234909Z
END:VEVENT
BEGIN:VEVENT
UID:sb_ical_event5870710@sch1942.schoolbytes.cal
DTSTART;VALUE=DATE:20260302
SEQUENCE:0
TRANSP:OPAQUE
DTEND;VALUE=DATE:20260303
SUMMARY:Moorambilla Workshop at Coonamble Public School
CLASS:PUBLIC
X-MICROSOFT-CDO-ALLDAYEVENT:TRUE
DTSTAMP:20260425T234909Z
END:VEVENT
BEGIN:VEVENT
UID:sb_ical_event5870733@sch1942.schoolbytes.cal
DTSTART;VALUE=DATE:20260326
SEQUENCE:0
TRANSP:OPAQUE
DTEND;VALUE=DATE:20260327
SUMMARY:Dubbo Theatre -'Land of Lost Things\"
CLASS:PUBLIC
X-MICROSOFT-CDO-ALLDAYEVENT:TRUE
DTSTAMP:20260425T234909Z
END:VEVENT
BEGIN:VEVENT
UID:sb_ical_event5892759@sch1942.schoolbytes.cal
DTSTART;VALUE=DATE:20260203
SEQUENCE:0
TRANSP:OPAQUE
DTEND;VALUE=DATE:20260204
SUMMARY:Staff Development Day Term 1
CLASS:PUBLIC
X-MICROSOFT-CDO-ALLDAYEVENT:TRUE
DTSTAMP:20260425T234909Z
END:VEVENT
BEGIN:VEVENT
UID:sb_ical_event5892777@sch1942.schoolbytes.cal
DTSTART;VALUE=DATE:20260204
SEQUENCE:0
TRANSP:OPAQUE
DTEND;VALUE=DATE:20260205
SUMMARY:SDD Term 1
CLASS:PUBLIC
X-MICROSOFT-CDO-ALLDAYEVENT:TRUE
DTSTAMP:20260425T234909Z
END:VEVENT
BEGIN:VEVENT
UID:sb_ical_event5892834@sch1942.schoolbytes.cal
DTSTART;VALUE=DATE:20260205
SEQUENCE:0
TRANSP:OPAQUE
DTEND;VALUE=DATE:20260206
SUMMARY:SDD Term 1
CLASS:PUBLIC
X-MICROSOFT-CDO-ALLDAYEVENT:TRUE
DTSTAMP:20260425T234909Z
END:VEVENT
BEGIN:VEVENT
UID:sb_ical_event5892836@sch1942.schoolbytes.cal
DTSTART;VALUE=DATE:20260206
SEQUENCE:0
TRANSP:OPAQUE
DTEND;VALUE=DATE:20260207
SUMMARY:SDD Term 1
CLASS:PUBLIC
X-MICROSOFT-CDO-ALLDAYEVENT:TRUE
DTSTAMP:20260425T234909Z
END:VEVENT
BEGIN:VEVENT
UID:sb_ical_event5892905@sch1942.schoolbytes.cal
DTSTART;VALUE=DATE:20260420
SEQUENCE:0
TRANSP:OPAQUE
DTEND;VALUE=DATE:20260421
SUMMARY:SDD Term 2
CLASS:PUBLIC
X-MICROSOFT-CDO-ALLDAYEVENT:TRUE
DTSTAMP:20260425T234909Z
END:VEVENT
BEGIN:VEVENT
UID:sb_ical_event5892906@sch1942.schoolbytes.cal
DTSTART;VALUE=DATE:20260421
SEQUENCE:0
TRANSP:OPAQUE
DTEND;VALUE=DATE:20260422
SUMMARY:SDD Term 2
CLASS:PUBLIC
X-MICROSOFT-CDO-ALLDAYEVENT:TRUE
DTSTAMP:20260425T234909Z
END:VEVENT
BEGIN:VEVENT
UID:sb_ical_event5892961@sch1942.schoolbytes.cal
DTSTART;VALUE=DATE:20260720
SEQUENCE:0
TRANSP:OPAQUE
DTEND;VALUE=DATE:20260721
SUMMARY:SDD Term 3
CLASS:PUBLIC
X-MICROSOFT-CDO-ALLDAYEVENT:TRUE
DTSTAMP:20260425T234909Z
END:VEVENT
BEGIN:VEVENT
UID:sb_ical_event5892970@sch1942.schoolbytes.cal
DTSTART;VALUE=DATE:20261012
SEQUENCE:0
TRANSP:OPAQUE
DTEND;VALUE=DATE:20261013
SUMMARY:SDD Term 4
CLASS:PUBLIC
X-MICROSOFT-CDO-ALLDAYEVENT:TRUE
DTSTAMP:20260425T234909Z
END:VEVENT
BEGIN:VEVENT
UID:sb_ical_event6051292@sch1942.schoolbytes.cal
DTSTART;VALUE=DATE:20260309
SEQUENCE:0
TRANSP:OPAQUE
DTEND;VALUE=DATE:20260310
SUMMARY:Regional Swimming Carnival - Armidale
CLASS:PUBLIC
X-MICROSOFT-CDO-ALLDAYEVENT:TRUE
DTSTAMP:20260425T234909Z
END:VEVENT
BEGIN:VEVENT
UID:sb_ical_event6054872@sch1942.schoolbytes.cal
DTSTART;VALUE=DATE:20260401
SEQUENCE:0
TRANSP:OPAQUE
DTEND;VALUE=DATE:20260402
SUMMARY:Easter Hat Parade
CLASS:PUBLIC
X-MICROSOFT-CDO-ALLDAYEVENT:TRUE
DTSTAMP:20260425T234909Z
END:VEVENT
BEGIN:VEVENT
UID:sb_ical_event6108946@sch1942.schoolbytes.cal
DTSTART;VALUE=DATE:20260311
SEQUENCE:0
TRANSP:OPAQUE
DTEND;VALUE=DATE:20260314
SUMMARY:NAPLAN
CLASS:PUBLIC
X-MICROSOFT-CDO-ALLDAYEVENT:TRUE
DTSTAMP:20260425T234909Z
END:VEVENT
BEGIN:VEVENT
UID:sb_ical_event6232373@sch1942.schoolbytes.cal
DTSTART;VALUE=DATE:20260218
SEQUENCE:0
TRANSP:OPAQUE
DTEND;VALUE=DATE:20260219
SUMMARY:P & C AGM\, 4pm
CLASS:PUBLIC
X-MICROSOFT-CDO-ALLDAYEVENT:TRUE
DTSTAMP:20260425T234909Z
END:VEVENT
BEGIN:VEVENT
UID:sb_ical_event6270562@sch1942.schoolbytes.cal
DTSTART;VALUE=DATE:20260127
SEQUENCE:0
TRANSP:OPAQUE
DTEND;VALUE=DATE:20260131
SUMMARY:HEAT WEEK
CLASS:PUBLIC
X-MICROSOFT-CDO-ALLDAYEVENT:TRUE
DTSTAMP:20260425T234909Z
END:VEVENT
BEGIN:VEVENT
UID:sb_ical_event7237297@sch1942.schoolbytes.cal
DTSTART;VALUE=DATE:20260320
SEQUENCE:0
TRANSP:OPAQUE
DTEND;VALUE=DATE:20260321
SUMMARY:Clean Up Australia 9-10am
CLASS:PUBLIC
DESCRIPTION:Clean up the Quambone Sports ground
X-MICROSOFT-CDO-ALLDAYEVENT:TRUE
DTSTAMP:20260425T234909Z
END:VEVENT
BEGIN:VEVENT
UID:sb_ical_event243@sch1942.schoolbytes.cal
DTSTART;VALUE=DATE:20220418
SEQUENCE:0
TRANSP:OPAQUE
DTEND;VALUE=DATE:20220419
SUMMARY:Easter Monday
CLASS:PUBLIC
X-MICROSOFT-CDO-ALLDAYEVENT:TRUE
DTSTAMP:20260425T234909Z
END:VEVENT
BEGIN:VEVENT
UID:sb_ical_event244@sch1942.schoolbytes.cal
DTSTART;VALUE=DATE:20220613
SEQUENCE:0
TRANSP:OPAQUE
DTEND;VALUE=DATE:20220614
SUMMARY:Queen's Birthday
CLASS:PUBLIC
X-MICROSOFT-CDO-ALLDAYEVENT:TRUE
DTSTAMP:20260425T234909Z
END:VEVENT
BEGIN:VEVENT
UID:sb_ical_event245@sch1942.schoolbytes.cal
DTSTART;VALUE=DATE:20221003
SEQUENCE:0
TRANSP:OPAQUE
DTEND;VALUE=DATE:20221004
SUMMARY:Labour Day
CLASS:PUBLIC
X-MICROSOFT-CDO-ALLDAYEVENT:TRUE
DTSTAMP:20260425T234909Z
END:VEVENT
BEGIN:VEVENT
UID:sb_ical_event246@sch1942.schoolbytes.cal
DTSTART;VALUE=DATE:20221226
SEQUENCE:0
TRANSP:OPAQUE
DTEND;VALUE=DATE:20221227
SUMMARY:Boxing Day
CLASS:PUBLIC
X-MICROSOFT-CDO-ALLDAYEVENT:TRUE
DTSTAMP:20260425T234909Z
END:VEVENT
BEGIN:VEVENT
UID:sb_ical_event247@sch1942.schoolbytes.cal
DTSTART;VALUE=DATE:20230126
SEQUENCE:0
TRANSP:OPAQUE
DTEND;VALUE=DATE:20230127
SUMMARY:Australia Day
CLASS:PUBLIC
X-MICROSOFT-CDO-ALLDAYEVENT:TRUE
DTSTAMP:20260425T234909Z
END:VEVENT
BEGIN:VEVENT
UID:sb_ical_event248@sch1942.schoolbytes.cal
DTSTART;VALUE=DATE:20230410
SEQUENCE:0
TRANSP:OPAQUE
DTEND;VALUE=DATE:20230411
SUMMARY:Easter Monday
CLASS:PUBLIC
X-MICROSOFT-CDO-ALLDAYEVENT:TRUE
DTSTAMP:20260425T234909Z
END:VEVENT
BEGIN:VEVENT
UID:sb_ical_event249@sch1942.schoolbytes.cal
DTSTART;VALUE=DATE:20230425
SEQUENCE:0
TRANSP:OPAQUE
DTEND;VALUE=DATE:20230426
SUMMARY:ANZAC Day
CLASS:PUBLIC
X-MICROSOFT-CDO-ALLDAYEVENT:TRUE
DTSTAMP:20260425T234909Z
END:VEVENT
BEGIN:VEVENT
UID:sb_ical_event250@sch1942.schoolbytes.cal
DTSTART;VALUE=DATE:20220425
SEQUENCE:0
TRANSP:OPAQUE
DTEND;VALUE=DATE:20220426
SUMMARY:ANZAC Day
CLASS:PUBLIC
X-MICROSOFT-CDO-ALLDAYEVENT:TRUE
DTSTAMP:20260425T234909Z
END:VEVENT
BEGIN:VEVENT
UID:sb_ical_event251@sch1942.schoolbytes.cal
DTSTART;VALUE=DATE:20220126
SEQUENCE:0
TRANSP:OPAQUE
DTEND;VALUE=DATE:20220127
SUMMARY:Australia Day
CLASS:PUBLIC
X-MICROSOFT-CDO-ALLDAYEVENT:TRUE
DTSTAMP:20260425T234909Z
END:VEVENT
BEGIN:VEVENT
UID:sb_ical_event4285@sch1942.schoolbytes.cal
DTSTART;VALUE=DATE:20220922
SEQUENCE:0
TRANSP:OPAQUE
DTEND;VALUE=DATE:20220923
SUMMARY:National day of mourning
CLASS:PUBLIC
X-MICROSOFT-CDO-ALLDAYEVENT:TRUE
DTSTAMP:20260425T234909Z
END:VEVENT
BEGIN:VEVENT
UID:sb_ical_event56057@sch1942.schoolbytes.cal
DTSTART;VALUE=DATE:20230612
SEQUENCE:0
TRANSP:OPAQUE
DTEND;VALUE=DATE:20230613
SUMMARY:King's Birthday
CLASS:PUBLIC
X-MICROSOFT-CDO-ALLDAYEVENT:TRUE
DTSTAMP:20260425T234909Z
END:VEVENT
BEGIN:VEVENT
UID:sb_ical_event59395@sch1942.schoolbytes.cal
DTSTART;VALUE=DATE:20230407
SEQUENCE:0
TRANSP:OPAQUE
DTEND;VALUE=DATE:20230408
SUMMARY:Good Friday
CLASS:PUBLIC
X-MICROSOFT-CDO-ALLDAYEVENT:TRUE
DTSTAMP:20260425T234909Z
END:VEVENT
BEGIN:VEVENT
UID:sb_ical_event59637@sch1942.schoolbytes.cal
DTSTART;VALUE=DATE:20231002
SEQUENCE:0
TRANSP:OPAQUE
DTEND;VALUE=DATE:20231003
SUMMARY:Labour Day
CLASS:PUBLIC
X-MICROSOFT-CDO-ALLDAYEVENT:TRUE
DTSTAMP:20260425T234909Z
END:VEVENT
BEGIN:VEVENT
UID:sb_ical_event227877@sch1942.schoolbytes.cal
DTSTART;VALUE=DATE:20231225
SEQUENCE:0
TRANSP:OPAQUE
DTEND;VALUE=DATE:20231226
SUMMARY:Christmas Day
CLASS:PUBLIC
X-MICROSOFT-CDO-ALLDAYEVENT:TRUE
DTSTAMP:20260425T234909Z
END:VEVENT
BEGIN:VEVENT
UID:sb_ical_event227878@sch1942.schoolbytes.cal
DTSTART;VALUE=DATE:20231226
SEQUENCE:0
TRANSP:OPAQUE
DTEND;VALUE=DATE:20231227
SUMMARY:Boxing Day
CLASS:PUBLIC
X-MICROSOFT-CDO-ALLDAYEVENT:TRUE
DTSTAMP:20260425T234909Z
END:VEVENT
BEGIN:VEVENT
UID:sb_ical_event227879@sch1942.schoolbytes.cal
DTSTART;VALUE=DATE:20240101
SEQUENCE:0
TRANSP:OPAQUE
DTEND;VALUE=DATE:20240102
SUMMARY:New Year's Day
CLASS:PUBLIC
X-MICROSOFT-CDO-ALLDAYEVENT:TRUE
DTSTAMP:20260425T234909Z
END:VEVENT
BEGIN:VEVENT
UID:sb_ical_event227880@sch1942.schoolbytes.cal
DTSTART;VALUE=DATE:20240126
SEQUENCE:0
TRANSP:OPAQUE
DTEND;VALUE=DATE:20240127
SUMMARY:Australia Day
CLASS:PUBLIC
X-MICROSOFT-CDO-ALLDAYEVENT:TRUE
DTSTAMP:20260425T234909Z
END:VEVENT
BEGIN:VEVENT
UID:sb_ical_event227881@sch1942.schoolbytes.cal
DTSTART;VALUE=DATE:20240329
SEQUENCE:0
TRANSP:OPAQUE
DTEND;VALUE=DATE:20240330
SUMMARY:Good Friday
CLASS:PUBLIC
X-MICROSOFT-CDO-ALLDAYEVENT:TRUE
DTSTAMP:20260425T234909Z
END:VEVENT
BEGIN:VEVENT
UID:sb_ical_event227882@sch1942.schoolbytes.cal
DTSTART;VALUE=DATE:20240401
SEQUENCE:0
TRANSP:OPAQUE
DTEND;VALUE=DATE:20240402
SUMMARY:Easter Monday
CLASS:PUBLIC
X-MICROSOFT-CDO-ALLDAYEVENT:TRUE
DTSTAMP:20260425T234909Z
END:VEVENT
BEGIN:VEVENT
UID:sb_ical_event227883@sch1942.schoolbytes.cal
DTSTART;VALUE=DATE:20240425
SEQUENCE:0
TRANSP:OPAQUE
DTEND;VALUE=DATE:20240426
SUMMARY:ANZAC Day
CLASS:PUBLIC
X-MICROSOFT-CDO-ALLDAYEVENT:TRUE
DTSTAMP:20260425T234909Z
END:VEVENT
BEGIN:VEVENT
UID:sb_ical_event227884@sch1942.schoolbytes.cal
DTSTART;VALUE=DATE:20240610
SEQUENCE:0
TRANSP:OPAQUE
DTEND;VALUE=DATE:20240611
SUMMARY:King's Birthday
CLASS:PUBLIC
X-MICROSOFT-CDO-ALLDAYEVENT:TRUE
DTSTAMP:20260425T234909Z
END:VEVENT
BEGIN:VEVENT
UID:sb_ical_event227885@sch1942.schoolbytes.cal
DTSTART;VALUE=DATE:20241007
SEQUENCE:0
TRANSP:OPAQUE
DTEND;VALUE=DATE:20241008
SUMMARY:Labour Day
CLASS:PUBLIC
X-MICROSOFT-CDO-ALLDAYEVENT:TRUE
DTSTAMP:20260425T234909Z
END:VEVENT
BEGIN:VEVENT
UID:sb_ical_event227886@sch1942.schoolbytes.cal
DTSTART;VALUE=DATE:20241225
SEQUENCE:0
TRANSP:OPAQUE
DTEND;VALUE=DATE:20241226
SUMMARY:Christmas Day
CLASS:PUBLIC
X-MICROSOFT-CDO-ALLDAYEVENT:TRUE
DTSTAMP:20260425T234909Z
END:VEVENT
BEGIN:VEVENT
UID:sb_ical_event227887@sch1942.schoolbytes.cal
DTSTART;VALUE=DATE:20241226
SEQUENCE:0
TRANSP:OPAQUE
DTEND;VALUE=DATE:20241227
SUMMARY:Boxing Day
CLASS:PUBLIC
X-MICROSOFT-CDO-ALLDAYEVENT:TRUE
DTSTAMP:20260425T234909Z
END:VEVENT
BEGIN:VEVENT
UID:sb_ical_event227888@sch1942.schoolbytes.cal
DTSTART;VALUE=DATE:20250101
SEQUENCE:0
TRANSP:OPAQUE
DTEND;VALUE=DATE:20250102
SUMMARY:New Year's Day
CLASS:PUBLIC
X-MICROSOFT-CDO-ALLDAYEVENT:TRUE
DTSTAMP:20260425T234909Z
END:VEVENT
BEGIN:VEVENT
UID:sb_ical_event2031719@sch1942.schoolbytes.cal
DTSTART;VALUE=DATE:20250127
SEQUENCE:0
TRANSP:OPAQUE
DTEND;VALUE=DATE:20250128
SUMMARY:Australia Day
CLASS:PUBLIC
X-MICROSOFT-CDO-ALLDAYEVENT:TRUE
DTSTAMP:20260425T234909Z
END:VEVENT
BEGIN:VEVENT
UID:sb_ical_event2031720@sch1942.schoolbytes.cal
DTSTART;VALUE=DATE:20250418
SEQUENCE:0
TRANSP:OPAQUE
DTEND;VALUE=DATE:20250419
SUMMARY:Good Friday
CLASS:PUBLIC
X-MICROSOFT-CDO-ALLDAYEVENT:TRUE
DTSTAMP:20260425T234909Z
END:VEVENT
BEGIN:VEVENT
UID:sb_ical_event2031721@sch1942.schoolbytes.cal
DTSTART;VALUE=DATE:20250421
SEQUENCE:0
TRANSP:OPAQUE
DTEND;VALUE=DATE:20250422
SUMMARY:Easter Monday
CLASS:PUBLIC
X-MICROSOFT-CDO-ALLDAYEVENT:TRUE
DTSTAMP:20260425T234909Z
END:VEVENT
BEGIN:VEVENT
UID:sb_ical_event2031722@sch1942.schoolbytes.cal
DTSTART;VALUE=DATE:20250425
SEQUENCE:0
TRANSP:OPAQUE
DTEND;VALUE=DATE:20250426
SUMMARY:Anzac Day
CLASS:PUBLIC
X-MICROSOFT-CDO-ALLDAYEVENT:TRUE
DTSTAMP:20260425T234909Z
END:VEVENT
BEGIN:VEVENT
UID:sb_ical_event2031723@sch1942.schoolbytes.cal
DTSTART;VALUE=DATE:20250609
SEQUENCE:0
TRANSP:OPAQUE
DTEND;VALUE=DATE:20250610
SUMMARY:King's Birthday
CLASS:PUBLIC
X-MICROSOFT-CDO-ALLDAYEVENT:TRUE
DTSTAMP:20260425T234909Z
END:VEVENT
BEGIN:VEVENT
UID:sb_ical_event2031724@sch1942.schoolbytes.cal
DTSTART;VALUE=DATE:20251006
SEQUENCE:0
TRANSP:OPAQUE
DTEND;VALUE=DATE:20251007
SUMMARY:Labour Day
CLASS:PUBLIC
X-MICROSOFT-CDO-ALLDAYEVENT:TRUE
DTSTAMP:20260425T234909Z
END:VEVENT
BEGIN:VEVENT
UID:sb_ical_event2031725@sch1942.schoolbytes.cal
DTSTART;VALUE=DATE:20251225
SEQUENCE:0
TRANSP:OPAQUE
DTEND;VALUE=DATE:20251226
SUMMARY:Christmas Day
CLASS:PUBLIC
X-MICROSOFT-CDO-ALLDAYEVENT:TRUE
DTSTAMP:20260425T234909Z
END:VEVENT
BEGIN:VEVENT
UID:sb_ical_event2031726@sch1942.schoolbytes.cal
DTSTART;VALUE=DATE:20251226
SEQUENCE:0
TRANSP:OPAQUE
DTEND;VALUE=DATE:20251227
SUMMARY:Boxing Day
CLASS:PUBLIC
X-MICROSOFT-CDO-ALLDAYEVENT:TRUE
DTSTAMP:20260425T234909Z
END:VEVENT
BEGIN:VEVENT
UID:sb_ical_event2031727@sch1942.schoolbytes.cal
DTSTART;VALUE=DATE:20260101
SEQUENCE:0
TRANSP:OPAQUE
DTEND;VALUE=DATE:20260102
SUMMARY:New Year's Day
CLASS:PUBLIC
X-MICROSOFT-CDO-ALLDAYEVENT:TRUE
DTSTAMP:20260425T234909Z
END:VEVENT
BEGIN:VEVENT
UID:sb_ical_event2031728@sch1942.schoolbytes.cal
DTSTART;VALUE=DATE:20260126
SEQUENCE:0
TRANSP:OPAQUE
DTEND;VALUE=DATE:20260127
SUMMARY:Australia Day
CLASS:PUBLIC
X-MICROSOFT-CDO-ALLDAYEVENT:TRUE
DTSTAMP:20260425T234909Z
END:VEVENT
BEGIN:VEVENT
UID:sb_ical_event5014990@sch1942.schoolbytes.cal
DTSTART;VALUE=DATE:20260403
SEQUENCE:0
TRANSP:OPAQUE
DTEND;VALUE=DATE:20260404
SUMMARY:Good Friday
CLASS:PUBLIC
X-MICROSOFT-CDO-ALLDAYEVENT:TRUE
DTSTAMP:20260425T234909Z
END:VEVENT
BEGIN:VEVENT
UID:sb_ical_event5015026@sch1942.schoolbytes.cal
DTSTART;VALUE=DATE:20260404
SEQUENCE:0
TRANSP:OPAQUE
DTEND;VALUE=DATE:20260405
SUMMARY:Easter Saturday
CLASS:PUBLIC
X-MICROSOFT-CDO-ALLDAYEVENT:TRUE
DTSTAMP:20260425T234909Z
END:VEVENT
BEGIN:VEVENT
UID:sb_ical_event5015029@sch1942.schoolbytes.cal
DTSTART;VALUE=DATE:20260405
SEQUENCE:0
TRANSP:OPAQUE
DTEND;VALUE=DATE:20260406
SUMMARY:Easter Sunday
CLASS:PUBLIC
X-MICROSOFT-CDO-ALLDAYEVENT:TRUE
DTSTAMP:20260425T234909Z
END:VEVENT
BEGIN:VEVENT
UID:sb_ical_event5015033@sch1942.schoolbytes.cal
DTSTART;VALUE=DATE:20260406
SEQUENCE:0
TRANSP:OPAQUE
DTEND;VALUE=DATE:20260407
SUMMARY:Easter Monday
CLASS:PUBLIC
X-MICROSOFT-CDO-ALLDAYEVENT:TRUE
DTSTAMP:20260425T234909Z
END:VEVENT
BEGIN:VEVENT
UID:sb_ical_event5015034@sch1942.schoolbytes.cal
DTSTART;VALUE=DATE:20260427
SEQUENCE:0
TRANSP:OPAQUE
DTEND;VALUE=DATE:20260428
SUMMARY:ANZAC Day
CLASS:PUBLIC
X-MICROSOFT-CDO-ALLDAYEVENT:TRUE
DTSTAMP:20260425T234909Z
END:VEVENT
BEGIN:VEVENT
UID:sb_ical_event5015039@sch1942.schoolbytes.cal
DTSTART;VALUE=DATE:20260608
SEQUENCE:0
TRANSP:OPAQUE
DTEND;VALUE=DATE:20260609
SUMMARY:King's Birthday
CLASS:PUBLIC
X-MICROSOFT-CDO-ALLDAYEVENT:TRUE
DTSTAMP:20260425T234909Z
END:VEVENT
BEGIN:VEVENT
UID:sb_ical_event5015044@sch1942.schoolbytes.cal
DTSTART;VALUE=DATE:20261005
SEQUENCE:0
TRANSP:OPAQUE
DTEND;VALUE=DATE:20261006
SUMMARY:Labour Day
CLASS:PUBLIC
X-MICROSOFT-CDO-ALLDAYEVENT:TRUE
DTSTAMP:20260425T234909Z
END:VEVENT
BEGIN:VEVENT
UID:sb_ical_event5015068@sch1942.schoolbytes.cal
DTSTART;VALUE=DATE:20261225
SEQUENCE:0
TRANSP:OPAQUE
DTEND;VALUE=DATE:20261226
SUMMARY:Christmas Day
CLASS:PUBLIC
X-MICROSOFT-CDO-ALLDAYEVENT:TRUE
DTSTAMP:20260425T234909Z
END:VEVENT
BEGIN:VEVENT
UID:sb_ical_event5015069@sch1942.schoolbytes.cal
DTSTART;VALUE=DATE:20261226
SEQUENCE:0
TRANSP:OPAQUE
DTEND;VALUE=DATE:20261227
SUMMARY:Boxing Day
CLASS:PUBLIC
X-MICROSOFT-CDO-ALLDAYEVENT:TRUE
DTSTAMP:20260425T234909Z
END:VEVENT
BEGIN:VEVENT
UID:sb_ical_event5015081@sch1942.schoolbytes.cal
DTSTART;VALUE=DATE:20261228
SEQUENCE:0
TRANSP:OPAQUE
DTEND;VALUE=DATE:20261229
SUMMARY:Boxing Day Public Holiday
CLASS:PUBLIC
X-MICROSOFT-CDO-ALLDAYEVENT:TRUE
DTSTAMP:20260425T234909Z
END:VEVENT
END:VCALENDAR